BEGIN:VCALENDAR
VERSION:2.0
PRODID:-//Adoption West - ECPv6.15.20//NONSGML v1.0//EN
CALSCALE:GREGORIAN
METHOD:PUBLISH
X-ORIGINAL-URL:https://adoptionwest.co.uk
X-WR-CALDESC:Events for Adoption West
REFRESH-INTERVAL;VALUE=DURATION:PT1H
X-Robots-Tag:noindex
X-PUBLISHED-TTL:PT1H
BEGIN:VTIMEZONE
TZID:Europe/London
BEGIN:DAYLIGHT
TZOFFSETFROM:+0000
TZOFFSETTO:+0100
TZNAME:BST
DTSTART:20250330T010000
END:DAYLIGHT
BEGIN:STANDARD
TZOFFSETFROM:+0100
TZOFFSETTO:+0000
TZNAME:GMT
DTSTART:20251026T010000
END:STANDARD
BEGIN:DAYLIGHT
TZOFFSETFROM:+0000
TZOFFSETTO:+0100
TZNAME:BST
DTSTART:20260329T010000
END:DAYLIGHT
BEGIN:STANDARD
TZOFFSETFROM:+0100
TZOFFSETTO:+0000
TZNAME:GMT
DTSTART:20261025T010000
END:STANDARD
BEGIN:DAYLIGHT
TZOFFSETFROM:+0000
TZOFFSETTO:+0100
TZNAME:BST
DTSTART:20270328T010000
END:DAYLIGHT
BEGIN:STANDARD
TZOFFSETFROM:+0100
TZOFFSETTO:+0000
TZNAME:GMT
DTSTART:20271031T010000
END:STANDARD
END:VTIMEZONE
BEGIN:VEVENT
DTSTART;TZID=Europe/London:20260305T100000
DTEND;TZID=Europe/London:20260305T233000
DTSTAMP:20260419T195943
CREATED:20251208T125735Z
LAST-MODIFIED:20251208T125735Z
UID:3548-1772704800-1772753400@adoptionwest.co.uk
SUMMARY:Amazing Wallabies - Stay and Play
DESCRIPTION:Social group for children and babies (and their parents/carers). \nWe follow a simple format for the session: introductions to begin with\, and then lots of playing (and some chatting for the grown-ups). Possibly a song or a story at the end 😊.  And\, there are refreshments available. We sometimes attempt a simple craft activity. \nOur first few sessions have been well-received with lots of positive feedback. Our main focus is offering a relaxed environment for adoptive parents and EP Carers to meet and socialise with people who have children of similar ages. \nIf you would like to join us\, please contact rebecca.myers@adoptionwest.co.uk\, with your child’s name and age. \nWe look forward to seeing you soon.
URL:https://adoptionwest.co.uk/event/amazing-wallabies-stay-and-play-10/
LOCATION:Stonehouse
CATEGORIES:Support
ATTACH;FMTTYPE=image/png:https://adoptionwest.co.uk/wp-content/uploads/2025/12/Amazing-Wallabies-2026-dates.png
ORGANIZER;CN="Adoption West":MAILTO:info@adoptionwest.co.uk
END:VEVENT
BEGIN:VEVENT
DTSTART;TZID=Europe/London:20260307T093000
DTEND;TZID=Europe/London:20260307T110000
DTSTAMP:20260419T195943
CREATED:20251124T132301Z
LAST-MODIFIED:20251124T135946Z
UID:3477-1772875800-1772881200@adoptionwest.co.uk
SUMMARY:Information Session
DESCRIPTION:If you’re beginning to explore whether adoption could be the right path for your family\, we warmly invite you to join one of our Information Sessions. These sessions are a friendly and supportive way to learn more about our agency\, understand each stage of the adoption process\, and hear first-hand experiences from families who have already adopted. \nOur adoption social workers will be there to guide you\, answer your questions\, and share their expertise about the assessment process and how we support you throughout your journey. \nOnly one ticket is needed per household. If you are hoping to adopt as a couple (married\, in a civil partnership\, or cohabiting)\, please ensure that both of you attend the session so you can take this first step together. \nAt the end of the session\, we’ll walk you through how to complete an Initial Enquiry should you feel ready to move forward. \nWe’d be delighted to meet you. Please follow this link to book your place: https://www.eventbrite.co.uk/o/adoption-west-27620899279
URL:https://adoptionwest.co.uk/event/information-session-82/
LOCATION:Virtual Session
CATEGORIES:Information Sessions
ATTACH;FMTTYPE=image/png:https://adoptionwest.co.uk/wp-content/uploads/2025/07/Info-Sessions-siblings.png
ORGANIZER;CN="Adoption West":MAILTO:info@adoptionwest.co.uk
END:VEVENT
BEGIN:VEVENT
DTSTART;TZID=Europe/London:20260320T140000
DTEND;TZID=Europe/London:20260320T153000
DTSTAMP:20260419T195943
CREATED:20251124T132344Z
LAST-MODIFIED:20251124T140016Z
UID:3479-1774015200-1774020600@adoptionwest.co.uk
SUMMARY:Information Session
DESCRIPTION:If you’re beginning to explore whether adoption could be the right path for your family\, we warmly invite you to join one of our Information Sessions. These sessions are a friendly and supportive way to learn more about our agency\, understand each stage of the adoption process\, and hear first-hand experiences from families who have already adopted. \nOur adoption social workers will be there to guide you\, answer your questions\, and share their expertise about the assessment process and how we support you throughout your journey. \nOnly one ticket is needed per household. If you are hoping to adopt as a couple (married\, in a civil partnership\, or cohabiting)\, please ensure that both of you attend the session so you can take this first step together. \nAt the end of the session\, we’ll walk you through how to complete an Initial Enquiry should you feel ready to move forward. \nWe’d be delighted to meet you. Please follow this link to book your place: https://www.eventbrite.co.uk/o/adoption-west-27620899279
URL:https://adoptionwest.co.uk/event/information-session-83/
LOCATION:Virtual Session
CATEGORIES:Information Sessions
ATTACH;FMTTYPE=image/png:https://adoptionwest.co.uk/wp-content/uploads/2025/07/Info-Sessions-non-binary-1.png
ORGANIZER;CN="Adoption West":MAILTO:info@adoptionwest.co.uk
END:VEVENT
BEGIN:VEVENT
DTSTART;TZID=Europe/London:20260331T170000
DTEND;TZID=Europe/London:20260331T183000
DTSTAMP:20260419T195943
CREATED:20251124T132421Z
LAST-MODIFIED:20251124T140042Z
UID:3481-1774976400-1774981800@adoptionwest.co.uk
SUMMARY:Information Session
DESCRIPTION:If you’re beginning to explore whether adoption could be the right path for your family\, we warmly invite you to join one of our Information Sessions. These sessions are a friendly and supportive way to learn more about our agency\, understand each stage of the adoption process\, and hear first-hand experiences from families who have already adopted. \nOur adoption social workers will be there to guide you\, answer your questions\, and share their expertise about the assessment process and how we support you throughout your journey. \nOnly one ticket is needed per household. If you are hoping to adopt as a couple (married\, in a civil partnership\, or cohabiting)\, please ensure that both of you attend the session so you can take this first step together. \nAt the end of the session\, we’ll walk you through how to complete an Initial Enquiry should you feel ready to move forward. \nWe’d be delighted to meet you. Please follow this link to book your place: https://www.eventbrite.co.uk/o/adoption-west-27620899279
URL:https://adoptionwest.co.uk/event/information-session-84/
LOCATION:Virtual Session
CATEGORIES:Information Sessions
ATTACH;FMTTYPE=image/png:https://adoptionwest.co.uk/wp-content/uploads/2025/07/Info-Sessions-non-binary-1.png
ORGANIZER;CN="Adoption West":MAILTO:info@adoptionwest.co.uk
END:VEVENT
END:VCALENDAR