BEGIN:VCALENDAR
VERSION:2.0
PRODID:-//Adoption West - ECPv6.15.20//NONSGML v1.0//EN
CALSCALE:GREGORIAN
METHOD:PUBLISH
X-WR-CALNAME:Adoption West
X-ORIGINAL-URL:https://adoptionwest.co.uk
X-WR-CALDESC:Events for Adoption West
REFRESH-INTERVAL;VALUE=DURATION:PT1H
X-Robots-Tag:noindex
X-PUBLISHED-TTL:PT1H
BEGIN:VTIMEZONE
TZID:Europe/London
BEGIN:DAYLIGHT
TZOFFSETFROM:+0000
TZOFFSETTO:+0100
TZNAME:BST
DTSTART:20240331T010000
END:DAYLIGHT
BEGIN:STANDARD
TZOFFSETFROM:+0100
TZOFFSETTO:+0000
TZNAME:GMT
DTSTART:20241027T010000
END:STANDARD
BEGIN:DAYLIGHT
TZOFFSETFROM:+0000
TZOFFSETTO:+0100
TZNAME:BST
DTSTART:20250330T010000
END:DAYLIGHT
BEGIN:STANDARD
TZOFFSETFROM:+0100
TZOFFSETTO:+0000
TZNAME:GMT
DTSTART:20251026T010000
END:STANDARD
BEGIN:DAYLIGHT
TZOFFSETFROM:+0000
TZOFFSETTO:+0100
TZNAME:BST
DTSTART:20260329T010000
END:DAYLIGHT
BEGIN:STANDARD
TZOFFSETFROM:+0100
TZOFFSETTO:+0000
TZNAME:GMT
DTSTART:20261025T010000
END:STANDARD
END:VTIMEZONE
BEGIN:VEVENT
DTSTART;TZID=Europe/London:20250802T093000
DTEND;TZID=Europe/London:20250802T110000
DTSTAMP:20260420T073921
CREATED:20250616T120714Z
LAST-MODIFIED:20250616T120714Z
UID:3232-1754127000-1754132400@adoptionwest.co.uk
SUMMARY:Information Session
DESCRIPTION:If you are considering whether adoption might be the right path for your family\, we invite you to attend an Information Session. This allows you to learn about our agency\, discuss the adoption process\, and hear from one of our adopters. \nDuring this session\, our adoption social workers will be available to share their knowledge and expertise on the adoption assessment process. \nOnly one ticket is required per household. Please be aware that if you are looking to adopt as a couple (married\, civil partnership\, or cohabiting)\, both of you must attend the Information Session. \nAt the end of the session\, we will explain how to complete an Initial Enquiry if you wish to. \nPlease follow this link to book the Information Session; Adoption West Events | Eventbrite
URL:https://adoptionwest.co.uk/event/information-session-60/
LOCATION:Virtual Session
CATEGORIES:Information Sessions
ATTACH;FMTTYPE=image/png:https://adoptionwest.co.uk/wp-content/uploads/2023/10/Info-Sessionssports-star-500-x-500-px.png
ORGANIZER;CN="Adoption West":MAILTO:info@adoptionwest.co.uk
END:VEVENT
BEGIN:VEVENT
DTSTART;TZID=Europe/London:20250815T100000
DTEND;TZID=Europe/London:20250815T140000
DTSTAMP:20260420T073921
CREATED:20250630T133218Z
LAST-MODIFIED:20250630T133218Z
UID:3248-1755252000-1755266400@adoptionwest.co.uk
SUMMARY:Summer Forest Adventure
DESCRIPTION:Kids and teens aged 8 -16 years are invited to join us for a fun-filled session of forest school activities\, including fire building\, wood whittling\, and creative activities. \nMatt and his team will teach techniques and guide participants through activities. There will also be plenty of time to explore the woods and make new friends. \nAdoption West will subsidise the cost per child\, meaning spaces are just £10 per child. 😊 Payment details to follow after registration on Eventbrite. \n  \nSummer Forest Adventure – link to Eventbrite
URL:https://adoptionwest.co.uk/event/summer-forest-adventure/
LOCATION:TBC near Stroud\, Gloucestershire
CATEGORIES:Support
ATTACH;FMTTYPE=image/png:https://adoptionwest.co.uk/wp-content/uploads/2025/06/Into-the-Green-Insta-Listing.png
END:VEVENT
BEGIN:VEVENT
DTSTART;TZID=Europe/London:20250819T120000
DTEND;TZID=Europe/London:20250819T133000
DTSTAMP:20260420T073921
CREATED:20250616T120745Z
LAST-MODIFIED:20250616T120745Z
UID:3233-1755604800-1755610200@adoptionwest.co.uk
SUMMARY:Information Session
DESCRIPTION:If you are considering whether adoption might be the right path for your family\, we invite you to attend an Information Session. This allows you to learn about our agency\, discuss the adoption process\, and hear from one of our adopters. \nDuring this session\, our adoption social workers will be available to share their knowledge and expertise on the adoption assessment process. \nOnly one ticket is required per household. Please be aware that if you are looking to adopt as a couple (married\, civil partnership\, or cohabiting)\, both of you must attend the Information Session. \nAt the end of the session\, we will explain how to complete an Initial Enquiry if you wish to. \nPlease follow this link to book the Information Session; Adoption West Events | Eventbrite
URL:https://adoptionwest.co.uk/event/information-session-61/
LOCATION:Virtual Session
CATEGORIES:Information Sessions
ATTACH;FMTTYPE=image/png:https://adoptionwest.co.uk/wp-content/uploads/2023/10/Info-Sessions-baby500-x-500-px.png
ORGANIZER;CN="Adoption West":MAILTO:info@adoptionwest.co.uk
END:VEVENT
BEGIN:VEVENT
DTSTART;TZID=Europe/London:20250828T170000
DTEND;TZID=Europe/London:20250828T183000
DTSTAMP:20260420T073921
CREATED:20250616T120810Z
LAST-MODIFIED:20250616T120810Z
UID:3234-1756400400-1756405800@adoptionwest.co.uk
SUMMARY:Information Session
DESCRIPTION:If you are considering whether adoption might be the right path for your family\, we invite you to attend an Information Session. This allows you to learn about our agency\, discuss the adoption process\, and hear from one of our adopters. \nDuring this session\, our adoption social workers will be available to share their knowledge and expertise on the adoption assessment process. \nOnly one ticket is required per household. Please be aware that if you are looking to adopt as a couple (married\, civil partnership\, or cohabiting)\, both of you must attend the Information Session. \nAt the end of the session\, we will explain how to complete an Initial Enquiry if you wish to. \nPlease follow this link to book the Information Session; Adoption West Events | Eventbrite
URL:https://adoptionwest.co.uk/event/information-session-64/
LOCATION:Virtual Session
CATEGORIES:Information Sessions
ATTACH;FMTTYPE=image/png:https://adoptionwest.co.uk/wp-content/uploads/2023/11/Info-Sessions-father-and-child.png
ORGANIZER;CN="Adoption West":MAILTO:info@adoptionwest.co.uk
END:VEVENT
END:VCALENDAR