BEGIN:VCALENDAR
VERSION:2.0
PRODID:-//Adoption West - ECPv6.15.20//NONSGML v1.0//EN
CALSCALE:GREGORIAN
METHOD:PUBLISH
X-WR-CALNAME:Adoption West
X-ORIGINAL-URL:https://adoptionwest.co.uk
X-WR-CALDESC:Events for Adoption West
REFRESH-INTERVAL;VALUE=DURATION:PT1H
X-Robots-Tag:noindex
X-PUBLISHED-TTL:PT1H
BEGIN:VTIMEZONE
TZID:Europe/London
BEGIN:DAYLIGHT
TZOFFSETFROM:+0000
TZOFFSETTO:+0100
TZNAME:BST
DTSTART:20240331T010000
END:DAYLIGHT
BEGIN:STANDARD
TZOFFSETFROM:+0100
TZOFFSETTO:+0000
TZNAME:GMT
DTSTART:20241027T010000
END:STANDARD
BEGIN:DAYLIGHT
TZOFFSETFROM:+0000
TZOFFSETTO:+0100
TZNAME:BST
DTSTART:20250330T010000
END:DAYLIGHT
BEGIN:STANDARD
TZOFFSETFROM:+0100
TZOFFSETTO:+0000
TZNAME:GMT
DTSTART:20251026T010000
END:STANDARD
BEGIN:DAYLIGHT
TZOFFSETFROM:+0000
TZOFFSETTO:+0100
TZNAME:BST
DTSTART:20260329T010000
END:DAYLIGHT
BEGIN:STANDARD
TZOFFSETFROM:+0100
TZOFFSETTO:+0000
TZNAME:GMT
DTSTART:20261025T010000
END:STANDARD
END:VTIMEZONE
BEGIN:VEVENT
DTSTART;TZID=Europe/London:20250705T143000
DTEND;TZID=Europe/London:20250705T163000
DTSTAMP:20260420T084844
CREATED:20250429T094325Z
LAST-MODIFIED:20250429T094406Z
UID:3202-1751725800-1751733000@adoptionwest.co.uk
SUMMARY:Summer Family Event
DESCRIPTION:BRISTOL and NORTH SOMERSET\nSaturday 5th July from 2:30 – 4:30 pm \nVenue near Bristol \nRSVP Daniella.Palmer@adoptionwest.co.uk \nWe look forward to seeing you. \nOur family events are open to all adopters living in the Adoption West region\, you are welcome to attend whichever is most convenient for your family.
URL:https://adoptionwest.co.uk/event/summer-family-event-2/
CATEGORIES:Support
ATTACH;FMTTYPE=image/png:https://adoptionwest.co.uk/wp-content/uploads/2025/04/Summer-Events.png
END:VEVENT
BEGIN:VEVENT
DTSTART;TZID=Europe/London:20250710T100000
DTEND;TZID=Europe/London:20250710T233000
DTSTAMP:20260420T084844
CREATED:20250429T092355Z
LAST-MODIFIED:20250429T092355Z
UID:3193-1752141600-1752190200@adoptionwest.co.uk
SUMMARY:Amazing Wallabies - Stay and Play
DESCRIPTION:Social group for children and babies (and their parents/carers). \nWe follow a simple format for the session: introductions to begin with\, and then lots of playing (and some chatting for the grown-ups). Possibly a song or a story at the end 😊.  And\, there are refreshments available. We sometimes attempt a simple craft activity. \nOur first few sessions have been really well-received with lots of positive feedback. Our main focus is offering a relaxed environment for adoptive parents and EP Carers to meet and socialise with people that have children of similar ages. \nIf you would like to join us\, please contact rebecca.myers@adoptionwest.co.uk\, with your child’s name and age. \nWe look forward to seeing you soon.
URL:https://adoptionwest.co.uk/event/amazing-wallabies-stay-and-play-3/
LOCATION:Stonehouse
CATEGORIES:Support
ATTACH;FMTTYPE=image/png:https://adoptionwest.co.uk/wp-content/uploads/2025/04/Amazing-Wallabies-May-July.png
ORGANIZER;CN="Adoption West":MAILTO:info@adoptionwest.co.uk
END:VEVENT
BEGIN:VEVENT
DTSTART;TZID=Europe/London:20250712T100000
DTEND;TZID=Europe/London:20250712T113000
DTSTAMP:20260420T084844
CREATED:20250506T105746Z
LAST-MODIFIED:20250506T105746Z
UID:3210-1752314400-1752319800@adoptionwest.co.uk
SUMMARY:Information Session
DESCRIPTION:If you are considering whether adoption might be the right path for your family\, we invite you to attend an Information Session. This allows you to learn about our agency\, discuss the adoption process\, and hear from one of our adopters. \nDuring this session\, our adoption social workers will be available to share their knowledge and expertise on the adoption assessment process. \nOnly one ticket is required per household. Please be aware that if you are looking to adopt as a couple (married\, civil partnership\, or cohabiting)\, both of you must attend the Information Session. \nAt the end of the session\, we will explain how to complete an Initial Enquiry if you wish to. \nPlease follow this link to book the Information Session; Adoption West Events | Eventbrite
URL:https://adoptionwest.co.uk/event/information-session-59/
LOCATION:Virtual Session
CATEGORIES:Information Sessions
ATTACH;FMTTYPE=image/png:https://adoptionwest.co.uk/wp-content/uploads/2023/10/Info-Sessionssports-star-500-x-500-px.png
ORGANIZER;CN="Adoption West":MAILTO:info@adoptionwest.co.uk
END:VEVENT
BEGIN:VEVENT
DTSTART;TZID=Europe/London:20250718T120000
DTEND;TZID=Europe/London:20250718T133000
DTSTAMP:20260420T084844
CREATED:20250520T140750Z
LAST-MODIFIED:20250520T140750Z
UID:3220-1752840000-1752845400@adoptionwest.co.uk
SUMMARY:Information Session
DESCRIPTION:If you are considering whether adoption might be the right path for your family\, we invite you to attend an Information Session. This allows you to learn about our agency\, discuss the adoption process\, and hear from one of our adopters. \nDuring this session\, our adoption social workers will be available to share their knowledge and expertise on the adoption assessment process. \nOnly one ticket is required per household. Please be aware that if you are looking to adopt as a couple (married\, civil partnership\, or cohabiting)\, both of you must attend the Information Session. \nAt the end of the session\, we will explain how to complete an Initial Enquiry if you wish to. \nPlease follow this link to book the Information Session; Adoption West Events | Eventbrite
URL:https://adoptionwest.co.uk/event/information-session-62/
LOCATION:Virtual Session
CATEGORIES:Information Sessions
ATTACH;FMTTYPE=image/png:https://adoptionwest.co.uk/wp-content/uploads/2023/10/Info-Sessions-baby500-x-500-px.png
ORGANIZER;CN="Adoption West":MAILTO:info@adoptionwest.co.uk
END:VEVENT
BEGIN:VEVENT
DTSTART;TZID=Europe/London:20250729T170000
DTEND;TZID=Europe/London:20250729T183000
DTSTAMP:20260420T084844
CREATED:20250520T140841Z
LAST-MODIFIED:20250520T140841Z
UID:3222-1753808400-1753813800@adoptionwest.co.uk
SUMMARY:Information Session
DESCRIPTION:If you are considering whether adoption might be the right path for your family\, we invite you to attend an Information Session. This allows you to learn about our agency\, discuss the adoption process\, and hear from one of our adopters. \nDuring this session\, our adoption social workers will be available to share their knowledge and expertise on the adoption assessment process. \nOnly one ticket is required per household. Please be aware that if you are looking to adopt as a couple (married\, civil partnership\, or cohabiting)\, both of you must attend the Information Session. \nAt the end of the session\, we will explain how to complete an Initial Enquiry if you wish to. \nPlease follow this link to book the Information Session; Adoption West Events | Eventbrite
URL:https://adoptionwest.co.uk/event/information-session-63/
LOCATION:Virtual Session
CATEGORIES:Information Sessions
ATTACH;FMTTYPE=image/png:https://adoptionwest.co.uk/wp-content/uploads/2023/11/Info-Sessions-father-and-child.png
ORGANIZER;CN="Adoption West":MAILTO:info@adoptionwest.co.uk
END:VEVENT
END:VCALENDAR