BEGIN:VCALENDAR
VERSION:2.0
PRODID:-//Adoption West - ECPv6.15.20//NONSGML v1.0//EN
CALSCALE:GREGORIAN
METHOD:PUBLISH
X-WR-CALNAME:Adoption West
X-ORIGINAL-URL:https://adoptionwest.co.uk
X-WR-CALDESC:Events for Adoption West
REFRESH-INTERVAL;VALUE=DURATION:PT1H
X-Robots-Tag:noindex
X-PUBLISHED-TTL:PT1H
BEGIN:VTIMEZONE
TZID:Europe/London
BEGIN:DAYLIGHT
TZOFFSETFROM:+0000
TZOFFSETTO:+0100
TZNAME:BST
DTSTART:20240331T010000
END:DAYLIGHT
BEGIN:STANDARD
TZOFFSETFROM:+0100
TZOFFSETTO:+0000
TZNAME:GMT
DTSTART:20241027T010000
END:STANDARD
BEGIN:DAYLIGHT
TZOFFSETFROM:+0000
TZOFFSETTO:+0100
TZNAME:BST
DTSTART:20250330T010000
END:DAYLIGHT
BEGIN:STANDARD
TZOFFSETFROM:+0100
TZOFFSETTO:+0000
TZNAME:GMT
DTSTART:20251026T010000
END:STANDARD
BEGIN:DAYLIGHT
TZOFFSETFROM:+0000
TZOFFSETTO:+0100
TZNAME:BST
DTSTART:20260329T010000
END:DAYLIGHT
BEGIN:STANDARD
TZOFFSETFROM:+0100
TZOFFSETTO:+0000
TZNAME:GMT
DTSTART:20261025T010000
END:STANDARD
END:VTIMEZONE
BEGIN:VEVENT
DTSTART;TZID=Europe/London:20250503T093000
DTEND;TZID=Europe/London:20250503T110000
DTSTAMP:20260422T122801
CREATED:20250317T140902Z
LAST-MODIFIED:20250317T141236Z
UID:3085-1746264600-1746270000@adoptionwest.co.uk
SUMMARY:Information Session
DESCRIPTION:If you are considering whether adoption might be the right path for your family\, we invite you to attend an Information Session. This allows you to learn about our agency\, discuss the adoption process\, and hear from one of our adopters. \nDuring this session\, our adoption social workers will be available to share their knowledge and expertise on the adoption assessment process. \nOnly one ticket is required per household. Please be aware that if you are looking to adopt as a couple (married\, civil partnership\, or cohabiting)\, both of you must attend the Information Session. \nAt the end of the session\, we will explain how to complete an Initial Enquiry if you wish to. \nPlease follow this link to book the Information Session; Adoption West Events | Eventbrite
URL:https://adoptionwest.co.uk/event/information-session-53/
LOCATION:Virtual Session
CATEGORIES:Information Sessions
ATTACH;FMTTYPE=image/png:https://adoptionwest.co.uk/wp-content/uploads/2023/11/Info-Sessions-father-and-child.png
ORGANIZER;CN="Adoption West":MAILTO:info@adoptionwest.co.uk
END:VEVENT
BEGIN:VEVENT
DTSTART;TZID=Europe/London:20250515T100000
DTEND;TZID=Europe/London:20250515T233000
DTSTAMP:20260422T122801
CREATED:20250429T092147Z
LAST-MODIFIED:20250429T092147Z
UID:3187-1747303200-1747351800@adoptionwest.co.uk
SUMMARY:Amazing Wallabies - Stay and Play
DESCRIPTION:Social group for children and babies (and their parents/carers). \nWe follow a simple format for the session: introductions to begin with\, and then lots of playing (and some chatting for the grown-ups). Possibly a song or a story at the end 😊.  And\, there are refreshments available. We sometimes attempt a simple craft activity. \nOur first few sessions have been really well-received with lots of positive feedback. Our main focus is offering a relaxed environment for adoptive parents and EP Carers to meet and socialise with people that have children of similar ages. \nIf you would like to join us\, please contact rebecca.myers@adoptionwest.co.uk\, with your child’s name and age. \nWe look forward to seeing you soon.
URL:https://adoptionwest.co.uk/event/amazing-wallabies-stay-and-play/
LOCATION:Stonehouse
CATEGORIES:Support
ATTACH;FMTTYPE=image/png:https://adoptionwest.co.uk/wp-content/uploads/2025/04/Amazing-Wallabies-May-July.png
ORGANIZER;CN="Adoption West":MAILTO:info@adoptionwest.co.uk
END:VEVENT
BEGIN:VEVENT
DTSTART;TZID=Europe/London:20250516T120000
DTEND;TZID=Europe/London:20250516T133000
DTSTAMP:20260422T122801
CREATED:20250317T141003Z
LAST-MODIFIED:20250317T141003Z
UID:3087-1747396800-1747402200@adoptionwest.co.uk
SUMMARY:Information Session
DESCRIPTION:If you are considering whether adoption might be the right path for your family\, we invite you to attend an Information Session. This allows you to learn about our agency\, discuss the adoption process\, and hear from one of our adopters. \nDuring this session\, our adoption social workers will be available to share their knowledge and expertise on the adoption assessment process. \nOnly one ticket is required per household. Please be aware that if you are looking to adopt as a couple (married\, civil partnership\, or cohabiting)\, both of you must attend the Information Session. \nAt the end of the session\, we will explain how to complete an Initial Enquiry if you wish to. \nPlease follow this link to book the Information Session; Adoption West Events | Eventbrite
URL:https://adoptionwest.co.uk/event/information-session-54/
LOCATION:Virtual Session
CATEGORIES:Information Sessions
ATTACH;FMTTYPE=image/png:https://adoptionwest.co.uk/wp-content/uploads/2023/10/Info-Sessions-girl-500-x-500-px.png
ORGANIZER;CN="Adoption West":MAILTO:info@adoptionwest.co.uk
END:VEVENT
BEGIN:VEVENT
DTSTART;TZID=Europe/London:20250521T170000
DTEND;TZID=Europe/London:20250521T183000
DTSTAMP:20260422T122801
CREATED:20250317T141100Z
LAST-MODIFIED:20250317T141100Z
UID:3089-1747846800-1747852200@adoptionwest.co.uk
SUMMARY:Information Session
DESCRIPTION:If you are considering whether adoption might be the right path for your family\, we invite you to attend an Information Session. This allows you to learn about our agency\, discuss the adoption process\, and hear from one of our adopters. \nDuring this session\, our adoption social workers will be available to share their knowledge and expertise on the adoption assessment process. \nOnly one ticket is required per household. Please be aware that if you are looking to adopt as a couple (married\, civil partnership\, or cohabiting)\, both of you must attend the Information Session. \nAt the end of the session\, we will explain how to complete an Initial Enquiry if you wish to. \nPlease follow this link to book the Information Session; Adoption West Events | Eventbrite
URL:https://adoptionwest.co.uk/event/information-session-55/
LOCATION:Virtual Session
CATEGORIES:Information Sessions
ATTACH;FMTTYPE=image/png:https://adoptionwest.co.uk/wp-content/uploads/2023/10/Info-Sessionssports-star-500-x-500-px.png
ORGANIZER;CN="Adoption West":MAILTO:info@adoptionwest.co.uk
END:VEVENT
BEGIN:VEVENT
DTSTART;TZID=Europe/London:20250607T213000
DTEND;TZID=Europe/London:20250607T213000
DTSTAMP:20260422T122801
CREATED:20250319T162826Z
LAST-MODIFIED:20250319T162826Z
UID:3092-1749331800-1749331800@adoptionwest.co.uk
SUMMARY:Information Session
DESCRIPTION:If you are considering whether adoption might be the right path for your family\, we invite you to attend an Information Session. This allows you to learn about our agency\, discuss the adoption process\, and hear from one of our adopters. \nDuring this session\, our adoption social workers will be available to share their knowledge and expertise on the adoption assessment process. \nOnly one ticket is required per household. Please be aware that if you are looking to adopt as a couple (married\, civil partnership\, or cohabiting)\, both of you must attend the Information Session. \nAt the end of the session\, we will explain how to complete an Initial Enquiry if you wish to. \nPlease follow this link to book the Information Session; Adoption West Events | Eventbrite
URL:https://adoptionwest.co.uk/event/information-session-56/
LOCATION:Virtual Session
CATEGORIES:Information Sessions
ATTACH;FMTTYPE=image/png:https://adoptionwest.co.uk/wp-content/uploads/2023/10/Info-Sessionssports-star-500-x-500-px.png
ORGANIZER;CN="Adoption West":MAILTO:info@adoptionwest.co.uk
END:VEVENT
END:VCALENDAR