BEGIN:VCALENDAR
VERSION:2.0
PRODID:-//Adoption West - ECPv6.15.20//NONSGML v1.0//EN
CALSCALE:GREGORIAN
METHOD:PUBLISH
X-WR-CALNAME:Adoption West
X-ORIGINAL-URL:https://adoptionwest.co.uk
X-WR-CALDESC:Events for Adoption West
REFRESH-INTERVAL;VALUE=DURATION:PT1H
X-Robots-Tag:noindex
X-PUBLISHED-TTL:PT1H
BEGIN:VTIMEZONE
TZID:Europe/London
BEGIN:DAYLIGHT
TZOFFSETFROM:+0000
TZOFFSETTO:+0100
TZNAME:BST
DTSTART:20230326T010000
END:DAYLIGHT
BEGIN:STANDARD
TZOFFSETFROM:+0100
TZOFFSETTO:+0000
TZNAME:GMT
DTSTART:20231029T010000
END:STANDARD
BEGIN:DAYLIGHT
TZOFFSETFROM:+0000
TZOFFSETTO:+0100
TZNAME:BST
DTSTART:20240331T010000
END:DAYLIGHT
BEGIN:STANDARD
TZOFFSETFROM:+0100
TZOFFSETTO:+0000
TZNAME:GMT
DTSTART:20241027T010000
END:STANDARD
BEGIN:DAYLIGHT
TZOFFSETFROM:+0000
TZOFFSETTO:+0100
TZNAME:BST
DTSTART:20250330T010000
END:DAYLIGHT
BEGIN:STANDARD
TZOFFSETFROM:+0100
TZOFFSETTO:+0000
TZNAME:GMT
DTSTART:20251026T010000
END:STANDARD
END:VTIMEZONE
BEGIN:VEVENT
DTSTART;TZID=Europe/London:20241001T170000
DTEND;TZID=Europe/London:20241001T183000
DTSTAMP:20260422T235325
CREATED:20240805T073143Z
LAST-MODIFIED:20240805T073143Z
UID:2829-1727802000-1727807400@adoptionwest.co.uk
SUMMARY:Information Session
DESCRIPTION:If you are considering whether adoption is the right path for your family\, we invite you to attend an Information Session. This gives you the opportunity to hear about our agency\, talk about the adoption process\, and hear from one of our adopters. \nDuring this session\, our adoption social workers will be available to share their knowledge and expertise on the adoption assessment process. \nOnly one ticket is required per household. Please be aware that if you are looking to adopt as a couple (married\, civil partnership\, or cohabiting)\, it is really important that both of you attend the Information Session. \nAt the end of the session\, we will let how you can complete an Initial Enquiry if you wish to. \nPlease follow this link to book the Information Session; Adoption West Events | Eventbrite
URL:https://adoptionwest.co.uk/event/information-session-34/
LOCATION:Virtual Session
CATEGORIES:Information Sessions
ATTACH;FMTTYPE=image/png:https://adoptionwest.co.uk/wp-content/uploads/2023/10/Info-Sessions-boy-in-gloves-500-x-500-px.png
ORGANIZER;CN="Adoption West":MAILTO:info@adoptionwest.co.uk
END:VEVENT
BEGIN:VEVENT
DTSTART;TZID=Europe/London:20241003T170000
DTEND;TZID=Europe/London:20241003T183000
DTSTAMP:20260422T235325
CREATED:20240909T091508Z
LAST-MODIFIED:20240930T134747Z
UID:2831-1727974800-1727980200@adoptionwest.co.uk
SUMMARY:Information Session
DESCRIPTION:If you are considering whether adoption is the right path for your family\, we invite you to attend an Information Session. This allows you to hear about our agency\, talk about the adoption process\, and hear from one of our adopters. \nDuring this session\, our adoption social workers will be available to share their knowledge and expertise on the adoption assessment process. \nOnly one ticket is required per household. Please be aware that if you are looking to adopt as a couple (married\, civil partnership\, or cohabiting)\, both of you must attend the Information Session. \nAt the end of the session\, we will let you know how you can complete an Initial Enquiry if you wish to. \nPlease follow this link to book the Information Session; Adoption West Events | Eventbrite
URL:https://adoptionwest.co.uk/event/information-session-40/
LOCATION:Virtual Session
CATEGORIES:Information Sessions
ATTACH;FMTTYPE=image/png:https://adoptionwest.co.uk/wp-content/uploads/2023/10/Info-Sessions-baby500-x-500-px.png
ORGANIZER;CN="Adoption West":MAILTO:info@adoptionwest.co.uk
END:VEVENT
BEGIN:VEVENT
DTSTART;TZID=Europe/London:20241009T150000
DTEND;TZID=Europe/London:20241009T163000
DTSTAMP:20260422T235325
CREATED:20240805T073318Z
LAST-MODIFIED:20240930T134709Z
UID:2832-1728486000-1728491400@adoptionwest.co.uk
SUMMARY:Information Session
DESCRIPTION:If you are considering whether adoption is the right path for your family\, we invite you to attend an Information Session. This allows you to hear about our agency\, talk about the adoption process\, and hear from one of our adopters. \nDuring this session\, our adoption social workers will be available to share their knowledge and expertise on the adoption assessment process. \nOnly one ticket is required per household. Please be aware that if you are looking to adopt as a couple (married\, civil partnership\, or cohabiting)\, both of you must attend the Information Session. \nAt the end of the session\, we will let you know how you can complete an Initial Enquiry if you wish to. \nPlease follow this link to book the Information Session; Adoption West Events | Eventbrite
URL:https://adoptionwest.co.uk/event/information-session-35/
LOCATION:Virtual Session
CATEGORIES:Information Sessions
ATTACH;FMTTYPE=image/png:https://adoptionwest.co.uk/wp-content/uploads/2023/10/Info-Sessions-mother-and-son-500-x-500-px.png
ORGANIZER;CN="Adoption West":MAILTO:info@adoptionwest.co.uk
END:VEVENT
BEGIN:VEVENT
DTSTART;TZID=Europe/London:20241021T103000
DTEND;TZID=Europe/London:20241021T140000
DTSTAMP:20260422T235325
CREATED:20230717T090202Z
LAST-MODIFIED:20241008T122400Z
UID:2467-1729506600-1729519200@adoptionwest.co.uk
SUMMARY:National Adoption Week Stand
DESCRIPTION:Come and say hello! \nThis National Adoption Week\, find out more about what adoption could look like for your family\, by visiting us at one of our stands. Friendly staff will be on hand to answer your questions and offer advice on the next steps of your adoption journey. \nRemember\, if your local authority is one of the following\, we are your Regional Adoption Agency: \n\nBristol City Council\nBath and North East Somerset\nGloucestershire\nNorth Somerset\nSouth Gloucestershire\nWiltshire\n\nWe look forward to seeing you (no need to register\, just turn up!). \n  \nShire Hall Reception \nWestgate Street \nGloucester
URL:https://adoptionwest.co.uk/event/qa-session-66/
LOCATION:Shire Hall\, Gloucester\, Shire Hall\, Westgate Street\, Gloucester\, Gloucestershire\, GL1 2TG
CATEGORIES:Drop-in Session
ATTACH;FMTTYPE=image/jpeg:https://adoptionwest.co.uk/wp-content/uploads/2023/07/NAW-Road-Trip-animation-1.jpg
ORGANIZER;CN="Adoption West":MAILTO:info@adoptionwest.co.uk
END:VEVENT
BEGIN:VEVENT
DTSTART;TZID=Europe/London:20241022T103000
DTEND;TZID=Europe/London:20241022T140000
DTSTAMP:20260422T235325
CREATED:20241008T102920Z
LAST-MODIFIED:20241008T122505Z
UID:2891-1729593000-1729605600@adoptionwest.co.uk
SUMMARY:National Adoption Week Stand
DESCRIPTION:Come and say hello! \nThis National Adoption Week\, find out more about what adoption could look like for your family\, by visiting us at one of our stands. Friendly staff will be on hand to answer your questions and offer advice on the next steps of your adoption journey. \nRemember\, if your local authority is one of the following\, we are your Regional Adoption Agency: \n\nBristol City Council\nBath and North East Somerset\nGloucestershire\nNorth Somerset\nSouth Gloucestershire\nWiltshire\n\nWe look forward to seeing you (no need to register\, just turn up!). \n  \nCounty Hall Atrium \nBythesea Rd \nTrowbridge \nBA14 8JQ
URL:https://adoptionwest.co.uk/event/national-adoption-week-stand-2/
LOCATION:County Hall\, Trowbridge\, Bythesea Road\, Trowbridge\, BA14 8JN\, United Kingdom
CATEGORIES:Drop-in Session
ATTACH;FMTTYPE=image/jpeg:https://adoptionwest.co.uk/wp-content/uploads/2023/07/NAW-Road-Trip-animation-1.jpg
ORGANIZER;CN="Adoption West":MAILTO:info@adoptionwest.co.uk
END:VEVENT
BEGIN:VEVENT
DTSTART;TZID=Europe/London:20241024T170000
DTEND;TZID=Europe/London:20241024T183000
DTSTAMP:20260422T235325
CREATED:20240805T073454Z
LAST-MODIFIED:20240805T073454Z
UID:2834-1729789200-1729794600@adoptionwest.co.uk
SUMMARY:Information Session
DESCRIPTION:If you are considering whether adoption is the right path for your family\, we invite you to attend an Information Session. This gives you the opportunity to hear about our agency\, talk about the adoption process\, and hear from one of our adopters. \nDuring this session\, our adoption social workers will be available to share their knowledge and expertise on the adoption assessment process. \nOnly one ticket is required per household. Please be aware that if you are looking to adopt as a couple (married\, civil partnership\, or cohabiting)\, it is really important that both of you attend the Information Session. \nAt the end of the session\, we will let how you can complete an Initial Enquiry if you wish to. \nPlease follow this link to book the Information Session; Adoption West Events | Eventbrite
URL:https://adoptionwest.co.uk/event/information-session-36/
LOCATION:Virtual Session
CATEGORIES:Information Sessions
ATTACH;FMTTYPE=image/png:https://adoptionwest.co.uk/wp-content/uploads/2023/10/Info-Sessionssports-star-500-x-500-px.png
ORGANIZER;CN="Adoption West":MAILTO:info@adoptionwest.co.uk
END:VEVENT
BEGIN:VEVENT
DTSTART;TZID=Europe/London:20241028T180000
DTEND;TZID=Europe/London:20241028T193000
DTSTAMP:20260422T235325
CREATED:20240930T134616Z
LAST-MODIFIED:20240930T134616Z
UID:2872-1730138400-1730143800@adoptionwest.co.uk
SUMMARY:Information Session
DESCRIPTION:If you are considering whether adoption is the right path for your family\, we invite you to attend an Information Session. This allows you to hear about our agency\, talk about the adoption process\, and hear from one of our adopters. \nDuring this session\, our adoption social workers will be available to share their knowledge and expertise on the adoption assessment process. \nOnly one ticket is required per household. Please be aware that if you are looking to adopt as a couple (married\, civil partnership\, or cohabiting)\, both of you must attend the Information Session. \nAt the end of the session\, we will let you know how you can complete an Initial Enquiry if you wish to. \nPlease follow this link to book the Information Session; Adoption West Events | Eventbrite
URL:https://adoptionwest.co.uk/event/information-session-42/
LOCATION:Virtual Session
CATEGORIES:Information Sessions
ATTACH;FMTTYPE=image/png:https://adoptionwest.co.uk/wp-content/uploads/2023/10/Info-Sessionssports-star-500-x-500-px.png
ORGANIZER;CN="Adoption West":MAILTO:info@adoptionwest.co.uk
END:VEVENT
END:VCALENDAR