BEGIN:VCALENDAR
VERSION:2.0
PRODID:-//Adoption West - ECPv6.15.20//NONSGML v1.0//EN
CALSCALE:GREGORIAN
METHOD:PUBLISH
X-ORIGINAL-URL:https://adoptionwest.co.uk
X-WR-CALDESC:Events for Adoption West
REFRESH-INTERVAL;VALUE=DURATION:PT1H
X-Robots-Tag:noindex
X-PUBLISHED-TTL:PT1H
BEGIN:VTIMEZONE
TZID:Europe/London
BEGIN:DAYLIGHT
TZOFFSETFROM:+0000
TZOFFSETTO:+0100
TZNAME:BST
DTSTART:20230326T010000
END:DAYLIGHT
BEGIN:STANDARD
TZOFFSETFROM:+0100
TZOFFSETTO:+0000
TZNAME:GMT
DTSTART:20231029T010000
END:STANDARD
BEGIN:DAYLIGHT
TZOFFSETFROM:+0000
TZOFFSETTO:+0100
TZNAME:BST
DTSTART:20240331T010000
END:DAYLIGHT
BEGIN:STANDARD
TZOFFSETFROM:+0100
TZOFFSETTO:+0000
TZNAME:GMT
DTSTART:20241027T010000
END:STANDARD
BEGIN:DAYLIGHT
TZOFFSETFROM:+0000
TZOFFSETTO:+0100
TZNAME:BST
DTSTART:20250330T010000
END:DAYLIGHT
BEGIN:STANDARD
TZOFFSETFROM:+0100
TZOFFSETTO:+0000
TZNAME:GMT
DTSTART:20251026T010000
END:STANDARD
END:VTIMEZONE
BEGIN:VEVENT
DTSTART;TZID=Europe/London:20240703T140000
DTEND;TZID=Europe/London:20240703T153000
DTSTAMP:20260423T052000
CREATED:20240516T114436Z
LAST-MODIFIED:20240612T124858Z
UID:2760-1720015200-1720020600@adoptionwest.co.uk
SUMMARY:Information Session
DESCRIPTION:If you are considering whether adoption is the right path for your family\, we invite you to attend an Information Session. This gives you the opportunity to hear about our agency\, talk about the adoption process\, and hear from one of our adopters. \nDuring this session\, our adoption social workers will be available to share their knowledge and expertise on the adoption assessment process. \nOnly one ticket is required per household. Please be aware that if you are looking to adopt as a couple (married\, civil partnership\, or cohabiting)\, it is really important that both of you attend the Information Session. \nAt the end of the session\, we will let how you can complete an Initial Enquiry if you wish to. \nPlease follow this link to book the Information Session; Adoption West Events | Eventbrite
URL:https://adoptionwest.co.uk/event/information-session-25/
LOCATION:Virtual Session
CATEGORIES:Information Sessions
ATTACH;FMTTYPE=image/png:https://adoptionwest.co.uk/wp-content/uploads/2023/10/Info-Sessions-mother-and-son-500-x-500-px.png
ORGANIZER;CN="Adoption West":MAILTO:info@adoptionwest.co.uk
END:VEVENT
BEGIN:VEVENT
DTSTART;TZID=Europe/London:20240713T100000
DTEND;TZID=Europe/London:20240713T153000
DTSTAMP:20260423T052000
CREATED:20240521T101636Z
LAST-MODIFIED:20240521T101636Z
UID:2777-1720864800-1720884600@adoptionwest.co.uk
SUMMARY:Bristol PRIDE
DESCRIPTION:We are heading out to a few PRIDE events this summer\, with our Information Stand. If you would like to come and say ‘hello’ and ask a few questions\, please do. We are very friendly!
URL:https://adoptionwest.co.uk/event/bristol-pride/
CATEGORIES:Drop-in Session,Open Day
ATTACH;FMTTYPE=image/png:https://adoptionwest.co.uk/wp-content/uploads/2024/05/2024-Pride-Instagram-Post.png
END:VEVENT
BEGIN:VEVENT
DTSTART;TZID=Europe/London:20240716T170000
DTEND;TZID=Europe/London:20240716T183000
DTSTAMP:20260423T052000
CREATED:20240516T114528Z
LAST-MODIFIED:20240612T124924Z
UID:2762-1721149200-1721154600@adoptionwest.co.uk
SUMMARY:Information Session
DESCRIPTION:If you are considering whether adoption is the right path for your family\, we invite you to attend an Information Session. This gives you the opportunity to hear about our agency\, talk about the adoption process\, and hear from one of our adopters. \nDuring this session\, our adoption social workers will be available to share their knowledge and expertise on the adoption assessment process. \nOnly one ticket is required per household. Please be aware that if you are looking to adopt as a couple (married\, civil partnership\, or cohabiting)\, it is really important that both of you attend the Information Session. \nAt the end of the session\, we will let how you can complete an Initial Enquiry if you wish to. \nPlease follow this link to book the Information Session; Adoption West Events | Eventbrite
URL:https://adoptionwest.co.uk/event/information-session-26/
LOCATION:Virtual Session
CATEGORIES:Information Sessions
ATTACH;FMTTYPE=image/png:https://adoptionwest.co.uk/wp-content/uploads/2023/07/Info-Sessions-boy-in-gloves-1.png
ORGANIZER;CN="Adoption West":MAILTO:info@adoptionwest.co.uk
END:VEVENT
BEGIN:VEVENT
DTSTART;TZID=Europe/London:20240725T150000
DTEND;TZID=Europe/London:20240725T163000
DTSTAMP:20260423T052000
CREATED:20240516T114617Z
LAST-MODIFIED:20240612T124945Z
UID:2764-1721919600-1721925000@adoptionwest.co.uk
SUMMARY:Information Session
DESCRIPTION:If you are considering whether adoption is the right path for your family\, we invite you to attend an Information Session. This gives you the opportunity to hear about our agency\, talk about the adoption process\, and hear from one of our adopters. \nDuring this session\, our adoption social workers will be available to share their knowledge and expertise on the adoption assessment process. \nOnly one ticket is required per household. Please be aware that if you are looking to adopt as a couple (married\, civil partnership\, or cohabiting)\, it is really important that both of you attend the Information Session. \nAt the end of the session\, we will let how you can complete an Initial Enquiry if you wish to. \nPlease follow this link to book the Information Session; Adoption West Events | Eventbrite
URL:https://adoptionwest.co.uk/event/information-session-27/
LOCATION:Virtual Session
CATEGORIES:Information Sessions
ATTACH;FMTTYPE=image/png:https://adoptionwest.co.uk/wp-content/uploads/2023/10/Info-Sessionssports-star-500-x-500-px.png
ORGANIZER;CN="Adoption West":MAILTO:info@adoptionwest.co.uk
END:VEVENT
END:VCALENDAR