BEGIN:VCALENDAR
VERSION:2.0
PRODID:-//Adoption West - ECPv6.15.20//NONSGML v1.0//EN
CALSCALE:GREGORIAN
METHOD:PUBLISH
X-ORIGINAL-URL:https://adoptionwest.co.uk
X-WR-CALDESC:Events for Adoption West
REFRESH-INTERVAL;VALUE=DURATION:PT1H
X-Robots-Tag:noindex
X-PUBLISHED-TTL:PT1H
BEGIN:VTIMEZONE
TZID:Europe/London
BEGIN:DAYLIGHT
TZOFFSETFROM:+0000
TZOFFSETTO:+0100
TZNAME:BST
DTSTART:20230326T010000
END:DAYLIGHT
BEGIN:STANDARD
TZOFFSETFROM:+0100
TZOFFSETTO:+0000
TZNAME:GMT
DTSTART:20231029T010000
END:STANDARD
BEGIN:DAYLIGHT
TZOFFSETFROM:+0000
TZOFFSETTO:+0100
TZNAME:BST
DTSTART:20240331T010000
END:DAYLIGHT
BEGIN:STANDARD
TZOFFSETFROM:+0100
TZOFFSETTO:+0000
TZNAME:GMT
DTSTART:20241027T010000
END:STANDARD
BEGIN:DAYLIGHT
TZOFFSETFROM:+0000
TZOFFSETTO:+0100
TZNAME:BST
DTSTART:20250330T010000
END:DAYLIGHT
BEGIN:STANDARD
TZOFFSETFROM:+0100
TZOFFSETTO:+0000
TZNAME:GMT
DTSTART:20251026T010000
END:STANDARD
END:VTIMEZONE
BEGIN:VEVENT
DTSTART;TZID=Europe/London:20240604T100000
DTEND;TZID=Europe/London:20240604T233000
DTSTAMP:20260423T070603
CREATED:20240521T124439Z
LAST-MODIFIED:20240521T125249Z
UID:2781-1717495200-1717543800@adoptionwest.co.uk
SUMMARY:Stay-and-Play Gloucestershire
DESCRIPTION:This is a new group\, designed to offer families of young children an opportunity to play in a safe environment and make connections with other families. We plan to offer a variety of simple play activities\, in an informal setting\, we will encourage members of the group to offer their ideas we can all try together. \nMembers of the Adoption West team will be on hand to offer advice\, support\, and make introductions; we are primarily offering this as a space for people to start to make connections with peers in their locality with children of similar ages. \n If you would like to join us\, please email Becky; rebecca.myers@adoptionwest.co.uk
URL:https://adoptionwest.co.uk/event/stay-and-play-gloucestershire/
CATEGORIES:Support
ATTACH;FMTTYPE=image/png:https://adoptionwest.co.uk/wp-content/uploads/2024/05/Playtime-with-Amazing-Wallabies-3.png
END:VEVENT
BEGIN:VEVENT
DTSTART;TZID=Europe/London:20240604T180000
DTEND;TZID=Europe/London:20240604T193000
DTSTAMP:20260423T070603
CREATED:20240521T125628Z
LAST-MODIFIED:20240521T125629Z
UID:2785-1717524000-1717529400@adoptionwest.co.uk
SUMMARY:School Transitions for adopted children
DESCRIPTION:Join Shelina\, an Education Advocate\, from The Hope Virtual School\, who will be discussing school transitions. \nThis session is for those living in the Bristol area. We are looking at how we can extend this type of event to adopters in other regions in the future. \nInformation and guidance are also available from The Hope online; https://www.bristol.gov.uk/schools-learning-early-years/the-hope-virtual-school \n  \nHead over to Eventbrite to book your space \nN.B. Only one ‘ticket’ is needed per household \n 
URL:https://adoptionwest.co.uk/event/school-transitions-for-adopted-children/
CATEGORIES:Support
ATTACH;FMTTYPE=image/jpeg:https://adoptionwest.co.uk/wp-content/uploads/2024/05/educatiopn-ws.jpg
END:VEVENT
BEGIN:VEVENT
DTSTART;TZID=Europe/London:20240612T160000
DTEND;TZID=Europe/London:20240612T170000
DTSTAMP:20260423T070603
CREATED:20240314T095932Z
LAST-MODIFIED:20240411T121527Z
UID:2725-1718208000-1718211600@adoptionwest.co.uk
SUMMARY:Information Session
DESCRIPTION:If you are considering whether adoption is the right path for your family\, we invite you to attend an Information Session. This gives you the opportunity to hear about our agency\, talk about the adoption process\, and hear from one of our adopters. \nDuring this session\, our adoption social workers will be available to share their knowledge and expertise on the adoption assessment process. \nOnly one ticket is required per household. Please be aware that if you are looking to adopt as a couple (married\, civil partnership\, or cohabiting)\, it is really important that both of you attend the Information Session. \nAt the end of the session\, we will let how you can complete an Initial Enquiry if you wish to. \nPlease follow this link to book the Information Session; Adoption West Events | Eventbrite
URL:https://adoptionwest.co.uk/event/information-session-22/
LOCATION:Virtual Session
CATEGORIES:Information Sessions
ATTACH;FMTTYPE=image/png:https://adoptionwest.co.uk/wp-content/uploads/2023/07/Info-Sessions-boy-in-gloves-1.png
ORGANIZER;CN="Adoption West":MAILTO:info@adoptionwest.co.uk
END:VEVENT
BEGIN:VEVENT
DTSTART;TZID=Europe/London:20240615T100000
DTEND;TZID=Europe/London:20240615T153000
DTSTAMP:20260423T070603
CREATED:20240521T101530Z
LAST-MODIFIED:20240521T101531Z
UID:2775-1718445600-1718465400@adoptionwest.co.uk
SUMMARY:Chippenham PRIDE
DESCRIPTION:We are heading out to a few PRIDE events this summer\, with our Information Stand. If you would like to come and say ‘hello’ and ask a few questions\, please do. We are very friendly!
URL:https://adoptionwest.co.uk/event/chippenham-pride/
CATEGORIES:Drop-in Session,Open Day
ATTACH;FMTTYPE=image/png:https://adoptionwest.co.uk/wp-content/uploads/2024/05/2024-Pride-Instagram-Post.png
END:VEVENT
BEGIN:VEVENT
DTSTART;TZID=Europe/London:20240618T180000
DTEND;TZID=Europe/London:20240618T193000
DTSTAMP:20260423T070603
CREATED:20240314T100012Z
LAST-MODIFIED:20240612T124808Z
UID:2727-1718733600-1718739000@adoptionwest.co.uk
SUMMARY:Information Session
DESCRIPTION:If you are considering whether adoption is the right path for your family\, we invite you to attend an Information Session. This gives you the opportunity to hear about our agency\, talk about the adoption process\, and hear from one of our adopters. \nDuring this session\, our adoption social workers will be available to share their knowledge and expertise on the adoption assessment process. \nOnly one ticket is required per household. Please be aware that if you are looking to adopt as a couple (married\, civil partnership\, or cohabiting)\, it is really important that both of you attend the Information Session. \nAt the end of the session\, we will let how you can complete an Initial Enquiry if you wish to. \nPlease follow this link to book the Information Session; Adoption West Events | Eventbrite
URL:https://adoptionwest.co.uk/event/information-session-23/
LOCATION:Virtual Session
CATEGORIES:Information Sessions
ATTACH;FMTTYPE=image/png:https://adoptionwest.co.uk/wp-content/uploads/2023/11/Info-Sessions-father-and-child.png
ORGANIZER;CN="Adoption West":MAILTO:info@adoptionwest.co.uk
END:VEVENT
BEGIN:VEVENT
DTSTART;TZID=Europe/London:20240627T150000
DTEND;TZID=Europe/London:20240627T163000
DTSTAMP:20260423T070603
CREATED:20240314T100053Z
LAST-MODIFIED:20240612T124831Z
UID:2729-1719500400-1719505800@adoptionwest.co.uk
SUMMARY:Information Session
DESCRIPTION:If you are considering whether adoption is the right path for your family\, we invite you to attend an Information Session. This gives you the opportunity to hear about our agency\, talk about the adoption process\, and hear from one of our adopters. \nDuring this session\, our adoption social workers will be available to share their knowledge and expertise on the adoption assessment process. \nOnly one ticket is required per household. Please be aware that if you are looking to adopt as a couple (married\, civil partnership\, or cohabiting)\, it is really important that both of you attend the Information Session. \nAt the end of the session\, we will let how you can complete an Initial Enquiry if you wish to. \nPlease follow this link to book the Information Session; Adoption West Events | Eventbrite
URL:https://adoptionwest.co.uk/event/information-session-24/
LOCATION:Virtual Session
CATEGORIES:Information Sessions
ATTACH;FMTTYPE=image/png:https://adoptionwest.co.uk/wp-content/uploads/2023/10/Info-Sessions-mother-and-son-500-x-500-px.png
ORGANIZER;CN="Adoption West":MAILTO:info@adoptionwest.co.uk
END:VEVENT
END:VCALENDAR