BEGIN:VCALENDAR
VERSION:2.0
PRODID:-//Adoption West - ECPv6.15.20//NONSGML v1.0//EN
CALSCALE:GREGORIAN
METHOD:PUBLISH
X-ORIGINAL-URL:https://adoptionwest.co.uk
X-WR-CALDESC:Events for Adoption West
REFRESH-INTERVAL;VALUE=DURATION:PT1H
X-Robots-Tag:noindex
X-PUBLISHED-TTL:PT1H
BEGIN:VTIMEZONE
TZID:Europe/London
BEGIN:DAYLIGHT
TZOFFSETFROM:+0000
TZOFFSETTO:+0100
TZNAME:BST
DTSTART:20220327T010000
END:DAYLIGHT
BEGIN:STANDARD
TZOFFSETFROM:+0100
TZOFFSETTO:+0000
TZNAME:GMT
DTSTART:20221030T010000
END:STANDARD
BEGIN:DAYLIGHT
TZOFFSETFROM:+0000
TZOFFSETTO:+0100
TZNAME:BST
DTSTART:20230326T010000
END:DAYLIGHT
BEGIN:STANDARD
TZOFFSETFROM:+0100
TZOFFSETTO:+0000
TZNAME:GMT
DTSTART:20231029T010000
END:STANDARD
BEGIN:DAYLIGHT
TZOFFSETFROM:+0000
TZOFFSETTO:+0100
TZNAME:BST
DTSTART:20240331T010000
END:DAYLIGHT
BEGIN:STANDARD
TZOFFSETFROM:+0100
TZOFFSETTO:+0000
TZNAME:GMT
DTSTART:20241027T010000
END:STANDARD
END:VTIMEZONE
BEGIN:VEVENT
DTSTART;TZID=Europe/London:20231108T100000
DTEND;TZID=Europe/London:20231108T110000
DTSTAMP:20260423T180028
CREATED:20231004T093523Z
LAST-MODIFIED:20231004T093737Z
UID:2572-1699437600-1699441200@adoptionwest.co.uk
SUMMARY:What's stopping you? (session for those considering adoption)
DESCRIPTION:Have you thought about adopting? \nWhat’s holding you back? \nWe are here to answer the questions most important to you. \nPlease come and talk to us. We need people like you to consider offering a permanent home to some of our most vulnerable children. \nBring your coffee and join us for an online chat\, meet our knowledgeable social workers and experienced adopters\, and have your questions answered. \nThis session is intended for those at the very start of their adoption journey and offers the opportunity for individuals and couples to have their questions answered in an informal and relaxed online setting. It is open to all. \nhttps://www.eventbrite.co.uk/e/whats-holding-you-back-from-adopting-tickets-721094341587 \nPlease be aware if you decide to look further at adoption you will also need to attend an Information Session.
URL:https://adoptionwest.co.uk/event/whats-stopping-you-session-for-those-considering-adoption-2/
LOCATION:Virtual Session
CATEGORIES:Coffee and Chat Session,Drop-in Session
ATTACH;FMTTYPE=image/png:https://adoptionwest.co.uk/wp-content/uploads/2020/01/Coffee.png
ORGANIZER;CN="Adoption West":MAILTO:info@adoptionwest.co.uk
END:VEVENT
BEGIN:VEVENT
DTSTART;TZID=Europe/London:20231115T180000
DTEND;TZID=Europe/London:20231115T200000
DTSTAMP:20260423T180028
CREATED:20231002T085859Z
LAST-MODIFIED:20231002T131105Z
UID:2545-1700071200-1700078400@adoptionwest.co.uk
SUMMARY:Information Session
DESCRIPTION:Following on from National Adoption Week\, we are holding a number of in-person Information Sessions. These sessions offer a great opportunity to meet our team and have your questions answered. \nIf you are considering whether adoption is the right path for your family\, we invite you to attend an Information Session. This gives you the opportunity to hear about our agency\, talk about the adoption process\, and hear from one of our adopters. \nDuring this session\, our adoption social workers will be available to share their knowledge and expertise on the adoption assessment process. \nOnly one ticket is required per household. Please be aware that if you are looking to adopt as a couple (married\, civil partnership\, or cohabiting)\, it is really important that both of you attend the Information Session. \nAt the end of the session\, we will let how you can complete an Initial Enquiry\, if you wish to. \nPlease follow this link to book onto the Information Session; Adoption West Events | Eventbrite \nThis event will be held at County Hall in Trowbridge. \n  \nN.B. Please be advised that these Information Sessions replace Q&A Sessions\, you do not need to attend both. If you have any questions please use the contact button at the top of the page to get in touch.
URL:https://adoptionwest.co.uk/event/information-session-2/
LOCATION:In-person – Trowbridge
CATEGORIES:Information Sessions
ATTACH;FMTTYPE=image/png:https://adoptionwest.co.uk/wp-content/uploads/2023/07/Info-Sessions-boy-in-gloves-1.png
ORGANIZER;CN="Adoption West":MAILTO:info@adoptionwest.co.uk
END:VEVENT
BEGIN:VEVENT
DTSTART;TZID=Europe/London:20231123T180000
DTEND;TZID=Europe/London:20231123T200000
DTSTAMP:20260423T180028
CREATED:20231002T093701Z
LAST-MODIFIED:20231002T131358Z
UID:2552-1700762400-1700769600@adoptionwest.co.uk
SUMMARY:Information Session
DESCRIPTION:Following on from National Adoption Week\, we are holding a number of in-person Information Sessions. These sessions offer a great opportunity to meet our team and have your questions answered. \nIf you are considering whether adoption is the right path for your family\, we invite you to attend an Information Session. This gives you the opportunity to hear about our agency\, talk about the adoption process\, and hear from one of our adopters. \nDuring this session\, our adoption social workers will be available to share their knowledge and expertise on the adoption assessment process. \nOnly one ticket is required per household. Please be aware that if you are looking to adopt as a couple (married\, civil partnership\, or cohabiting)\, it is really important that both of you attend the Information Session. \nAt the end of the session\, we will let how you can complete an Initial Enquiry\, if you wish to. \nPlease follow this link to book onto the Information Session; Adoption West Events | Eventbrite \nThis event will be held at St. Lawrence’s Church Hall\, Barnwood\, Gloucester \nN.B. Please be advised that these Information Sessions replace Q&A Sessions\, you do not need to attend both. If you have any questions please use the contact button at the top of the page to get in touch.
URL:https://adoptionwest.co.uk/event/information-session-3/
LOCATION:In-person – Gloucester
CATEGORIES:Information Sessions
ATTACH;FMTTYPE=image/png:https://adoptionwest.co.uk/wp-content/uploads/2023/10/Info-Sessions-baby500-x-500-px.png
ORGANIZER;CN="Adoption West":MAILTO:info@adoptionwest.co.uk
END:VEVENT
BEGIN:VEVENT
DTSTART;TZID=Europe/London:20231129T180000
DTEND;TZID=Europe/London:20231129T200000
DTSTAMP:20260423T180028
CREATED:20231002T093757Z
LAST-MODIFIED:20231002T100159Z
UID:2554-1701280800-1701288000@adoptionwest.co.uk
SUMMARY:Information Session
DESCRIPTION:Following on from National Adoption Week\, we are holding a number of in-person Information Sessions. These sessions offer a great opportunity to meet our team and have your questions answered. \nIf you are considering whether adoption is the right path for your family\, we invite you to attend an Information Session. This gives you the opportunity to hear about our agency\, talk about the adoption process\, and hear from one of our adopters. \nDuring this session\, our adoption social workers will be available to share their knowledge and expertise on the adoption assessment process. \nOnly one ticket is required per household. Please be aware that if you are looking to adopt as a couple (married\, civil partnership\, or cohabiting)\, it is really important that both of you attend the Information Session. \nAt the end of the session\, we will let how you can complete an Initial Enquiry\, if you wish to. \nPlease follow this link to book onto the Information Session; Adoption West Events | Eventbrite \n  \nN.B. Please be advised that these Information Sessions replace Q&A Sessions\, you do not need to attend both. If you have any questions please use the contact button at the top of the page to get in touch.
URL:https://adoptionwest.co.uk/event/information-session-4/
LOCATION:In-person – Yate
CATEGORIES:Information Sessions
ATTACH;FMTTYPE=image/png:https://adoptionwest.co.uk/wp-content/uploads/2023/10/Info-Sessions-girl-500-x-500-px.png
ORGANIZER;CN="Adoption West":MAILTO:info@adoptionwest.co.uk
END:VEVENT
END:VCALENDAR