BEGIN:VCALENDAR
VERSION:2.0
PRODID:-//Adoption West - ECPv6.15.20//NONSGML v1.0//EN
CALSCALE:GREGORIAN
METHOD:PUBLISH
X-ORIGINAL-URL:https://adoptionwest.co.uk
X-WR-CALDESC:Events for Adoption West
REFRESH-INTERVAL;VALUE=DURATION:PT1H
X-Robots-Tag:noindex
X-PUBLISHED-TTL:PT1H
BEGIN:VTIMEZONE
TZID:Europe/London
BEGIN:DAYLIGHT
TZOFFSETFROM:+0000
TZOFFSETTO:+0100
TZNAME:BST
DTSTART:20220327T010000
END:DAYLIGHT
BEGIN:STANDARD
TZOFFSETFROM:+0100
TZOFFSETTO:+0000
TZNAME:GMT
DTSTART:20221030T010000
END:STANDARD
BEGIN:DAYLIGHT
TZOFFSETFROM:+0000
TZOFFSETTO:+0100
TZNAME:BST
DTSTART:20230326T010000
END:DAYLIGHT
BEGIN:STANDARD
TZOFFSETFROM:+0100
TZOFFSETTO:+0000
TZNAME:GMT
DTSTART:20231029T010000
END:STANDARD
BEGIN:DAYLIGHT
TZOFFSETFROM:+0000
TZOFFSETTO:+0100
TZNAME:BST
DTSTART:20240331T010000
END:DAYLIGHT
BEGIN:STANDARD
TZOFFSETFROM:+0100
TZOFFSETTO:+0000
TZNAME:GMT
DTSTART:20241027T010000
END:STANDARD
END:VTIMEZONE
BEGIN:VEVENT
DTSTART;TZID=Europe/London:20230906T180000
DTEND;TZID=Europe/London:20230906T190000
DTSTAMP:20260423T210619
CREATED:20230515T125422Z
LAST-MODIFIED:20230515T125422Z
UID:2373-1694023200-1694026800@adoptionwest.co.uk
SUMMARY:Q&A Session
DESCRIPTION:Pre-Stage 1 \nThis stage starts when you are ready\, you are welcome to view our Information Videos at any point and then book onto one of these Q&A Sessions. \nThe Q&A sessions allow you to have your questions answered and we may also ask some of you. At the end of the session\, you will be given the option to book a personal Initial Enquiry call with a worker. \nPlease follow this link to book onto the Q&A Session; Adoption West Events | Eventbrite
URL:https://adoptionwest.co.uk/event/qa-session-63/
LOCATION:Virtual Session
CATEGORIES:Q&A Session Pre-Stage1
ATTACH;FMTTYPE=image/png:https://adoptionwest.co.uk/wp-content/uploads/2022/09/QA-Sessions.png
ORGANIZER;CN="Adoption West":MAILTO:info@adoptionwest.co.uk
END:VEVENT
BEGIN:VEVENT
DTSTART;TZID=Europe/London:20230912T160000
DTEND;TZID=Europe/London:20230912T170000
DTSTAMP:20260423T210619
CREATED:20230515T125503Z
LAST-MODIFIED:20230515T125503Z
UID:2375-1694534400-1694538000@adoptionwest.co.uk
SUMMARY:Q&A Session
DESCRIPTION:Pre-Stage 1 \nThis stage starts when you are ready\, you are welcome to view our Information Videos at any point and then book onto one of these Q&A Sessions. \nThe Q&A sessions allow you to have your questions answered and we may also ask some of you. At the end of the session\, you will be given the option to book a personal Initial Enquiry call with a worker. \nPlease follow this link to book onto the Q&A Session; Adoption West Events | Eventbrite
URL:https://adoptionwest.co.uk/event/qa-session-64/
LOCATION:Virtual Session
CATEGORIES:Q&A Session Pre-Stage1
ATTACH;FMTTYPE=image/png:https://adoptionwest.co.uk/wp-content/uploads/2022/09/QA-Sessions.png
ORGANIZER;CN="Adoption West":MAILTO:info@adoptionwest.co.uk
END:VEVENT
BEGIN:VEVENT
DTSTART;TZID=Europe/London:20230913T100000
DTEND;TZID=Europe/London:20230913T110000
DTSTAMP:20260423T210619
CREATED:20230712T115918Z
LAST-MODIFIED:20230712T120104Z
UID:2465-1694599200-1694602800@adoptionwest.co.uk
SUMMARY:Coffee and Chat Session - for potential adopters
DESCRIPTION:Find out more about adopting with Adoption West at our virtual chat. \nThere’s no such thing as a silly question. \nBring your coffee and meet our knowledgeable social workers and experienced adopters\, and have your questions answered. \nIn some sessions\, we will have adopters present that have a ‘specialism’ in a certain area\, but you are welcome to join any session that fits your schedule. \nPlease follow the Eventbrite link to register your interest: Coffee and Chat September 13th \n  \n 
URL:https://adoptionwest.co.uk/event/coffee-and-chat-session-for-potential-adopters-2/
LOCATION:Virtual Session
CATEGORIES:Coffee and Chat Session,Drop-in Session
ATTACH;FMTTYPE=image/png:https://adoptionwest.co.uk/wp-content/uploads/2020/01/Coffee.png
ORGANIZER;CN="Adoption West":MAILTO:info@adoptionwest.co.uk
END:VEVENT
BEGIN:VEVENT
DTSTART;TZID=Europe/London:20230921T100000
DTEND;TZID=Europe/London:20230921T120000
DTSTAMP:20260423T210619
CREATED:20230711T104602Z
LAST-MODIFIED:20230711T104602Z
UID:2463-1695290400-1695297600@adoptionwest.co.uk
SUMMARY:10 Online Week Therapeutic Parenting course - for existing adopters
DESCRIPTION:Do you sometimes find your child’s behaviour hard to understand? Do some of your parenting techniques seem ineffective? \nWe are running a course for our adoptive parents looking specifically at the impact of children’s early experiences on their behaviour and emotional well-being. We will be exploring alternative parenting ideas and strategies. \n\nThe course runs for 10 weeks; from 21st September to 30th November with a break for half-term on the 26th of October.\nSessions run from 10 am to 12 pm. and will be held online.\nWe are running this course for families whose children have been living with them for at least 6 months and who are aged between 3 and 10 years old.\n\nContact claire.jarvis@adoptionwest.co.uk for more details
URL:https://adoptionwest.co.uk/event/10-online-week-therapeutic-parenting-course-for-existing-adopters-3/
LOCATION:Virtual Session
CATEGORIES:Support
ATTACH;FMTTYPE=image/png:https://adoptionwest.co.uk/wp-content/uploads/2023/01/AW-POLAROID-15.png
ORGANIZER;CN="Adoption West":MAILTO:info@adoptionwest.co.uk
END:VEVENT
BEGIN:VEVENT
DTSTART;TZID=Europe/London:20230921T170000
DTEND;TZID=Europe/London:20230921T180000
DTSTAMP:20260423T210619
CREATED:20230515T125540Z
LAST-MODIFIED:20230515T125540Z
UID:2377-1695315600-1695319200@adoptionwest.co.uk
SUMMARY:Q&A Session
DESCRIPTION:Pre-Stage 1 \nThis stage starts when you are ready\, you are welcome to view our Information Videos at any point and then book onto one of these Q&A Sessions. \nThe Q&A sessions allow you to have your questions answered and we may also ask some of you. At the end of the session\, you will be given the option to book a personal Initial Enquiry call with a worker. \nPlease follow this link to book onto the Q&A Session; Adoption West Events | Eventbrite
URL:https://adoptionwest.co.uk/event/qa-session-65/
LOCATION:Virtual Session
CATEGORIES:Q&A Session Pre-Stage1
ATTACH;FMTTYPE=image/png:https://adoptionwest.co.uk/wp-content/uploads/2022/09/QA-Sessions.png
ORGANIZER;CN="Adoption West":MAILTO:info@adoptionwest.co.uk
END:VEVENT
END:VCALENDAR