BEGIN:VCALENDAR
VERSION:2.0
PRODID:-//Adoption West - ECPv6.15.20//NONSGML v1.0//EN
CALSCALE:GREGORIAN
METHOD:PUBLISH
X-WR-CALNAME:Adoption West
X-ORIGINAL-URL:https://adoptionwest.co.uk
X-WR-CALDESC:Events for Adoption West
REFRESH-INTERVAL;VALUE=DURATION:PT1H
X-Robots-Tag:noindex
X-PUBLISHED-TTL:PT1H
BEGIN:VTIMEZONE
TZID:Europe/London
BEGIN:DAYLIGHT
TZOFFSETFROM:+0000
TZOFFSETTO:+0100
TZNAME:BST
DTSTART:20220327T010000
END:DAYLIGHT
BEGIN:STANDARD
TZOFFSETFROM:+0100
TZOFFSETTO:+0000
TZNAME:GMT
DTSTART:20221030T010000
END:STANDARD
BEGIN:DAYLIGHT
TZOFFSETFROM:+0000
TZOFFSETTO:+0100
TZNAME:BST
DTSTART:20230326T010000
END:DAYLIGHT
BEGIN:STANDARD
TZOFFSETFROM:+0100
TZOFFSETTO:+0000
TZNAME:GMT
DTSTART:20231029T010000
END:STANDARD
BEGIN:DAYLIGHT
TZOFFSETFROM:+0000
TZOFFSETTO:+0100
TZNAME:BST
DTSTART:20240331T010000
END:DAYLIGHT
BEGIN:STANDARD
TZOFFSETFROM:+0100
TZOFFSETTO:+0000
TZNAME:GMT
DTSTART:20241027T010000
END:STANDARD
END:VTIMEZONE
BEGIN:VEVENT
DTSTART;TZID=Europe/London:20230802T150000
DTEND;TZID=Europe/London:20230802T160000
DTSTAMP:20260423T223821
CREATED:20230515T125209Z
LAST-MODIFIED:20230515T125209Z
UID:2367-1690988400-1690992000@adoptionwest.co.uk
SUMMARY:Q&A Session
DESCRIPTION:Pre-Stage 1 \nThis stage starts when you are ready\, you are welcome to view our Information Videos at any point and then book onto one of these Q&A Sessions. \nThe Q&A sessions allow you to have your questions answered and we may also ask some of you. At the end of the session\, you will be given the option to book a personal Initial Enquiry call with a worker. \nPlease follow this link to book onto the Q&A Session; Adoption West Events | Eventbrite
URL:https://adoptionwest.co.uk/event/qa-session-60/
LOCATION:Virtual Session
CATEGORIES:Q&A Session Pre-Stage1
ATTACH;FMTTYPE=image/png:https://adoptionwest.co.uk/wp-content/uploads/2022/09/QA-Sessions.png
ORGANIZER;CN="Adoption West":MAILTO:info@adoptionwest.co.uk
END:VEVENT
BEGIN:VEVENT
DTSTART;TZID=Europe/London:20230808T170000
DTEND;TZID=Europe/London:20230808T180000
DTSTAMP:20260423T223821
CREATED:20230515T125254Z
LAST-MODIFIED:20230515T125254Z
UID:2369-1691514000-1691517600@adoptionwest.co.uk
SUMMARY:Q&A Session
DESCRIPTION:Pre-Stage 1 \nThis stage starts when you are ready\, you are welcome to view our Information Videos at any point and then book onto one of these Q&A Sessions. \nThe Q&A sessions allow you to have your questions answered and we may also ask some of you. At the end of the session\, you will be given the option to book a personal Initial Enquiry call with a worker. \nPlease follow this link to book onto the Q&A Session; Adoption West Events | Eventbrite
URL:https://adoptionwest.co.uk/event/qa-session-61/
LOCATION:Virtual Session
CATEGORIES:Q&A Session Pre-Stage1
ATTACH;FMTTYPE=image/png:https://adoptionwest.co.uk/wp-content/uploads/2022/09/QA-Sessions.png
ORGANIZER;CN="Adoption West":MAILTO:info@adoptionwest.co.uk
END:VEVENT
BEGIN:VEVENT
DTSTART;TZID=Europe/London:20230812T100000
DTEND;TZID=Europe/London:20230812T160000
DTSTAMP:20260423T223821
CREATED:20230525T095538Z
LAST-MODIFIED:20230525T095752Z
UID:2398-1691834400-1691856000@adoptionwest.co.uk
SUMMARY:PRIDE Swindon and Wiltshire
DESCRIPTION:We are very excited to be out and about this summer attending PRIDE Events. \nMembers of our wonderful enthusiastic team\, will be on hand with experienced adopters to answer all your questions. Please come along and say hello. \nCirencester – June 18th\nBristol – July 8th\nSwindon – August 12th\nGloucester- September 9th \nSwindon and Wiltshire PRIDE: https://www.swindonwiltshirepride.co.uk/
URL:https://adoptionwest.co.uk/event/pride-swindon-and-wiltshire/
LOCATION:Queens Park\, Swindon
CATEGORIES:Drop-in Session
ATTACH;FMTTYPE=image/png:https://adoptionwest.co.uk/wp-content/uploads/2023/05/2023-Pride-Instagram-Post.png
ORGANIZER;CN="Adoption West":MAILTO:info@adoptionwest.co.uk
END:VEVENT
BEGIN:VEVENT
DTSTART;TZID=Europe/London:20230817T160000
DTEND;TZID=Europe/London:20230817T170000
DTSTAMP:20260423T223821
CREATED:20230515T125340Z
LAST-MODIFIED:20230515T125340Z
UID:2371-1692288000-1692291600@adoptionwest.co.uk
SUMMARY:Q&A Session
DESCRIPTION:Pre-Stage 1 \nThis stage starts when you are ready\, you are welcome to view our Information Videos at any point and then book onto one of these Q&A Sessions. \nThe Q&A sessions allow you to have your questions answered and we may also ask some of you. At the end of the session\, you will be given the option to book a personal Initial Enquiry call with a worker. \nPlease follow this link to book onto the Q&A Session; Adoption West Events | Eventbrite
URL:https://adoptionwest.co.uk/event/qa-session-62/
LOCATION:Virtual Session
CATEGORIES:Q&A Session Pre-Stage1
ATTACH;FMTTYPE=image/png:https://adoptionwest.co.uk/wp-content/uploads/2022/09/QA-Sessions.png
ORGANIZER;CN="Adoption West":MAILTO:info@adoptionwest.co.uk
END:VEVENT
END:VCALENDAR