BEGIN:VCALENDAR
VERSION:2.0
PRODID:-//Adoption West - ECPv6.15.20//NONSGML v1.0//EN
CALSCALE:GREGORIAN
METHOD:PUBLISH
X-WR-CALNAME:Adoption West
X-ORIGINAL-URL:https://adoptionwest.co.uk
X-WR-CALDESC:Events for Adoption West
REFRESH-INTERVAL;VALUE=DURATION:PT1H
X-Robots-Tag:noindex
X-PUBLISHED-TTL:PT1H
BEGIN:VTIMEZONE
TZID:Europe/London
BEGIN:DAYLIGHT
TZOFFSETFROM:+0000
TZOFFSETTO:+0100
TZNAME:BST
DTSTART:20220327T010000
END:DAYLIGHT
BEGIN:STANDARD
TZOFFSETFROM:+0100
TZOFFSETTO:+0000
TZNAME:GMT
DTSTART:20221030T010000
END:STANDARD
BEGIN:DAYLIGHT
TZOFFSETFROM:+0000
TZOFFSETTO:+0100
TZNAME:BST
DTSTART:20230326T010000
END:DAYLIGHT
BEGIN:STANDARD
TZOFFSETFROM:+0100
TZOFFSETTO:+0000
TZNAME:GMT
DTSTART:20231029T010000
END:STANDARD
BEGIN:DAYLIGHT
TZOFFSETFROM:+0000
TZOFFSETTO:+0100
TZNAME:BST
DTSTART:20240331T010000
END:DAYLIGHT
BEGIN:STANDARD
TZOFFSETFROM:+0100
TZOFFSETTO:+0000
TZNAME:GMT
DTSTART:20241027T010000
END:STANDARD
END:VTIMEZONE
BEGIN:VEVENT
DTSTART;TZID=Europe/London:20230705T170000
DTEND;TZID=Europe/London:20230705T180000
DTSTAMP:20260424T002515
CREATED:20230515T124749Z
LAST-MODIFIED:20230515T124900Z
UID:2361-1688576400-1688580000@adoptionwest.co.uk
SUMMARY:Q&A Session
DESCRIPTION:Pre-Stage 1 \nThis stage starts when you are ready\, you are welcome to view our Information Videos at any point and then book onto one of these Q&A Sessions. \nThe Q&A sessions allow you to have your questions answered and we may also ask some of you. At the end of the session\, you will be given the option to book a personal Initial Enquiry call with a worker. \nPlease follow this link to book onto the Q&A Session; Adoption West Events | Eventbrite
URL:https://adoptionwest.co.uk/event/qa-session-57/
LOCATION:Virtual Session
CATEGORIES:Q&A Session Pre-Stage1
ATTACH;FMTTYPE=image/png:https://adoptionwest.co.uk/wp-content/uploads/2022/09/QA-Sessions.png
ORGANIZER;CN="Adoption West":MAILTO:info@adoptionwest.co.uk
END:VEVENT
BEGIN:VEVENT
DTSTART;TZID=Europe/London:20230707T100000
DTEND;TZID=Europe/London:20230707T110000
DTSTAMP:20260424T002515
CREATED:20230621T090259Z
LAST-MODIFIED:20230621T091715Z
UID:2446-1688724000-1688727600@adoptionwest.co.uk
SUMMARY:Coffee and Chat Session - for potential adopters
DESCRIPTION:Find out more about adopting with Adoption West at our virtual chat. \nThere’s no such thing as a silly question. \nBring your coffee and meet our knowledgeable social workers and experienced adopters\, and have your questions answered. \nIn some sessions\, we will have adopters present that have a ‘specialism’ in a certain area\, but you are welcome to join any session that fits your schedule. \nPlease follow the Eventbrite link to register your interest: Coffee and Chat July 7th \n  \n 
URL:https://adoptionwest.co.uk/event/coffee-and-chat-session-for-potential-adopters/
LOCATION:Virtual Session
CATEGORIES:Coffee and Chat Session,Drop-in Session
ATTACH;FMTTYPE=image/png:https://adoptionwest.co.uk/wp-content/uploads/2020/01/Coffee.png
ORGANIZER;CN="Adoption West":MAILTO:info@adoptionwest.co.uk
END:VEVENT
BEGIN:VEVENT
DTSTART;TZID=Europe/London:20230708T100000
DTEND;TZID=Europe/London:20230708T160000
DTSTAMP:20260424T002515
CREATED:20230525T095303Z
LAST-MODIFIED:20230525T095845Z
UID:2395-1688810400-1688832000@adoptionwest.co.uk
SUMMARY:PRIDE Bristol
DESCRIPTION:We are very excited to be out and about this summer attending PRIDE Events. \nMembers of our wonderful enthusiastic team\, will be on hand with experienced adopters to answer all your questions. Please come along and say hello. \nCirencester – June 18th\nBristol – July 8th\nSwindon – August 12th\nGloucester- September 9th \n  \nPRIDE Bristol: https://bristolpride.co.uk/community-area/
URL:https://adoptionwest.co.uk/event/pride-bristol/
LOCATION:The Downs\, Bristol
CATEGORIES:Drop-in Session
ATTACH;FMTTYPE=image/png:https://adoptionwest.co.uk/wp-content/uploads/2023/05/2023-Pride-Instagram-Post.png
ORGANIZER;CN="Adoption West":MAILTO:info@adoptionwest.co.uk
END:VEVENT
BEGIN:VEVENT
DTSTART;TZID=Europe/London:20230711T120000
DTEND;TZID=Europe/London:20230711T130000
DTSTAMP:20260424T002515
CREATED:20230515T125008Z
LAST-MODIFIED:20230515T125008Z
UID:2363-1689076800-1689080400@adoptionwest.co.uk
SUMMARY:Q&A Session
DESCRIPTION:Pre-Stage 1 \nThis stage starts when you are ready\, you are welcome to view our Information Videos at any point and then book onto one of these Q&A Sessions. \nThe Q&A sessions allow you to have your questions answered and we may also ask some of you. At the end of the session\, you will be given the option to book a personal Initial Enquiry call with a worker. \nPlease follow this link to book onto the Q&A Session; Adoption West Events | Eventbrite
URL:https://adoptionwest.co.uk/event/qa-session-58/
LOCATION:Virtual Session
CATEGORIES:Q&A Session Pre-Stage1
ATTACH;FMTTYPE=image/png:https://adoptionwest.co.uk/wp-content/uploads/2022/09/QA-Sessions.png
ORGANIZER;CN="Adoption West":MAILTO:info@adoptionwest.co.uk
END:VEVENT
BEGIN:VEVENT
DTSTART;TZID=Europe/London:20230720T160000
DTEND;TZID=Europe/London:20230720T170000
DTSTAMP:20260424T002515
CREATED:20230515T125059Z
LAST-MODIFIED:20230515T125059Z
UID:2365-1689868800-1689872400@adoptionwest.co.uk
SUMMARY:Q&A Session
DESCRIPTION:Pre-Stage 1 \nThis stage starts when you are ready\, you are welcome to view our Information Videos at any point and then book onto one of these Q&A Sessions. \nThe Q&A sessions allow you to have your questions answered and we may also ask some of you. At the end of the session\, you will be given the option to book a personal Initial Enquiry call with a worker. \nPlease follow this link to book onto the Q&A Session; Adoption West Events | Eventbrite
URL:https://adoptionwest.co.uk/event/qa-session-59/
LOCATION:Virtual Session
CATEGORIES:Q&A Session Pre-Stage1
ATTACH;FMTTYPE=image/png:https://adoptionwest.co.uk/wp-content/uploads/2022/09/QA-Sessions.png
ORGANIZER;CN="Adoption West":MAILTO:info@adoptionwest.co.uk
END:VEVENT
END:VCALENDAR