BEGIN:VCALENDAR
VERSION:2.0
PRODID:-//Adoption West - ECPv6.15.20//NONSGML v1.0//EN
CALSCALE:GREGORIAN
METHOD:PUBLISH
X-WR-CALNAME:Adoption West
X-ORIGINAL-URL:https://adoptionwest.co.uk
X-WR-CALDESC:Events for Adoption West
REFRESH-INTERVAL;VALUE=DURATION:PT1H
X-Robots-Tag:noindex
X-PUBLISHED-TTL:PT1H
BEGIN:VTIMEZONE
TZID:Europe/London
BEGIN:DAYLIGHT
TZOFFSETFROM:+0000
TZOFFSETTO:+0100
TZNAME:BST
DTSTART:20220327T010000
END:DAYLIGHT
BEGIN:STANDARD
TZOFFSETFROM:+0100
TZOFFSETTO:+0000
TZNAME:GMT
DTSTART:20221030T010000
END:STANDARD
BEGIN:DAYLIGHT
TZOFFSETFROM:+0000
TZOFFSETTO:+0100
TZNAME:BST
DTSTART:20230326T010000
END:DAYLIGHT
BEGIN:STANDARD
TZOFFSETFROM:+0100
TZOFFSETTO:+0000
TZNAME:GMT
DTSTART:20231029T010000
END:STANDARD
BEGIN:DAYLIGHT
TZOFFSETFROM:+0000
TZOFFSETTO:+0100
TZNAME:BST
DTSTART:20240331T010000
END:DAYLIGHT
BEGIN:STANDARD
TZOFFSETFROM:+0100
TZOFFSETTO:+0000
TZNAME:GMT
DTSTART:20241027T010000
END:STANDARD
END:VTIMEZONE
BEGIN:VEVENT
DTSTART;TZID=Europe/London:20230201T150000
DTEND;TZID=Europe/London:20230201T160000
DTSTAMP:20260424T084959
CREATED:20221121T111605Z
LAST-MODIFIED:20221121T111605Z
UID:2231-1675263600-1675267200@adoptionwest.co.uk
SUMMARY:Q&A Session
DESCRIPTION:Pre-Stage 1 \nThis stage starts when you are ready\, you are welcome to view our Information Videos at any point and then book onto one of these Q&A Sessions. \nThe Q&A sessions allow you to have your questions answered and we may also ask some of you. At the end of the session\, you will be given the option to book a personal Initial Enquiry call with a worker. \nPlease follow this link to book onto the Q&A Session; Adoption West Events | Eventbrite
URL:https://adoptionwest.co.uk/event/qa-session-42/
LOCATION:Virtual Session
CATEGORIES:Q&A Session Pre-Stage1
ATTACH;FMTTYPE=image/png:https://adoptionwest.co.uk/wp-content/uploads/2022/09/QA-Sessions.png
ORGANIZER;CN="Adoption West":MAILTO:info@adoptionwest.co.uk
END:VEVENT
BEGIN:VEVENT
DTSTART;TZID=Europe/London:20230214T150000
DTEND;TZID=Europe/London:20230214T160000
DTSTAMP:20260424T084959
CREATED:20221121T111641Z
LAST-MODIFIED:20221121T111641Z
UID:2233-1676386800-1676390400@adoptionwest.co.uk
SUMMARY:Q&A Session
DESCRIPTION:Pre-Stage 1 \nThis stage starts when you are ready\, you are welcome to view our Information Videos at any point and then book onto one of these Q&A Sessions. \nThe Q&A sessions allow you to have your questions answered and we may also ask some of you. At the end of the session\, you will be given the option to book a personal Initial Enquiry call with a worker. \nPlease follow this link to book onto the Q&A Session; Adoption West Events | Eventbrite
URL:https://adoptionwest.co.uk/event/qa-session-43/
LOCATION:Virtual Session
CATEGORIES:Q&A Session Pre-Stage1
ATTACH;FMTTYPE=image/png:https://adoptionwest.co.uk/wp-content/uploads/2022/09/QA-Sessions.png
ORGANIZER;CN="Adoption West":MAILTO:info@adoptionwest.co.uk
END:VEVENT
BEGIN:VEVENT
DTSTART;TZID=Europe/London:20230223T160000
DTEND;TZID=Europe/London:20230223T170000
DTSTAMP:20260424T084959
CREATED:20221121T111724Z
LAST-MODIFIED:20221121T111724Z
UID:2235-1677168000-1677171600@adoptionwest.co.uk
SUMMARY:Q&A Session
DESCRIPTION:Pre-Stage 1 \nThis stage starts when you are ready\, you are welcome to view our Information Videos at any point and then book onto one of these Q&A Sessions. \nThe Q&A sessions allow you to have your questions answered and we may also ask some of you. At the end of the session\, you will be given the option to book a personal Initial Enquiry call with a worker. \nPlease follow this link to book onto the Q&A Session; Adoption West Events | Eventbrite
URL:https://adoptionwest.co.uk/event/qa-session-44/
LOCATION:Virtual Session
CATEGORIES:Q&A Session Pre-Stage1
ATTACH;FMTTYPE=image/png:https://adoptionwest.co.uk/wp-content/uploads/2022/09/QA-Sessions.png
ORGANIZER;CN="Adoption West":MAILTO:info@adoptionwest.co.uk
END:VEVENT
END:VCALENDAR