BEGIN:VCALENDAR
VERSION:2.0
PRODID:-//Adoption West - ECPv6.15.20//NONSGML v1.0//EN
CALSCALE:GREGORIAN
METHOD:PUBLISH
X-ORIGINAL-URL:https://adoptionwest.co.uk
X-WR-CALDESC:Events for Adoption West
REFRESH-INTERVAL;VALUE=DURATION:PT1H
X-Robots-Tag:noindex
X-PUBLISHED-TTL:PT1H
BEGIN:VTIMEZONE
TZID:Europe/London
BEGIN:DAYLIGHT
TZOFFSETFROM:+0000
TZOFFSETTO:+0100
TZNAME:BST
DTSTART:20220327T010000
END:DAYLIGHT
BEGIN:STANDARD
TZOFFSETFROM:+0100
TZOFFSETTO:+0000
TZNAME:GMT
DTSTART:20221030T010000
END:STANDARD
BEGIN:DAYLIGHT
TZOFFSETFROM:+0000
TZOFFSETTO:+0100
TZNAME:BST
DTSTART:20230326T010000
END:DAYLIGHT
BEGIN:STANDARD
TZOFFSETFROM:+0100
TZOFFSETTO:+0000
TZNAME:GMT
DTSTART:20231029T010000
END:STANDARD
BEGIN:DAYLIGHT
TZOFFSETFROM:+0000
TZOFFSETTO:+0100
TZNAME:BST
DTSTART:20240331T010000
END:DAYLIGHT
BEGIN:STANDARD
TZOFFSETFROM:+0100
TZOFFSETTO:+0000
TZNAME:GMT
DTSTART:20241027T010000
END:STANDARD
END:VTIMEZONE
BEGIN:VEVENT
DTSTART;TZID=Europe/London:20230104T170000
DTEND;TZID=Europe/London:20230104T180000
DTSTAMP:20260424T103316
CREATED:20221121T111235Z
LAST-MODIFIED:20221121T111235Z
UID:2225-1672851600-1672855200@adoptionwest.co.uk
SUMMARY:Q&A Session
DESCRIPTION:Pre-Stage 1 \nThis stage starts when you are ready\, you are welcome to view our Information Videos at any point and then book onto one of these Q&A Sessions. \nThe Q&A sessions allow you to have your questions answered and we may also ask some of you. At the end of the session\, you will be given the option to book a personal Initial Enquiry call with a worker. \nPlease follow this link to book onto the Q&A Session; Adoption West Events | Eventbrite
URL:https://adoptionwest.co.uk/event/qa-session-39/
LOCATION:Virtual Session
CATEGORIES:Q&A Session Pre-Stage1
ATTACH;FMTTYPE=image/png:https://adoptionwest.co.uk/wp-content/uploads/2022/09/QA-Sessions.png
ORGANIZER;CN="Adoption West":MAILTO:info@adoptionwest.co.uk
END:VEVENT
BEGIN:VEVENT
DTSTART;TZID=Europe/London:20230112T120000
DTEND;TZID=Europe/London:20230112T130000
DTSTAMP:20260424T103316
CREATED:20221121T111325Z
LAST-MODIFIED:20221121T111325Z
UID:2227-1673524800-1673528400@adoptionwest.co.uk
SUMMARY:Q&A Session
DESCRIPTION:Pre-Stage 1 \nThis stage starts when you are ready\, you are welcome to view our Information Videos at any point and then book onto one of these Q&A Sessions. \nThe Q&A sessions allow you to have your questions answered and we may also ask some of you. At the end of the session\, you will be given the option to book a personal Initial Enquiry call with a worker. \nPlease follow this link to book onto the Q&A Session; Adoption West Events | Eventbrite
URL:https://adoptionwest.co.uk/event/qa-session-40/
LOCATION:Virtual Session
CATEGORIES:Q&A Session Pre-Stage1
ATTACH;FMTTYPE=image/png:https://adoptionwest.co.uk/wp-content/uploads/2022/09/QA-Sessions.png
ORGANIZER;CN="Adoption West":MAILTO:info@adoptionwest.co.uk
END:VEVENT
BEGIN:VEVENT
DTSTART;TZID=Europe/London:20230117T160000
DTEND;TZID=Europe/London:20230117T170000
DTSTAMP:20260424T103316
CREATED:20221121T111428Z
LAST-MODIFIED:20221121T111519Z
UID:2229-1673971200-1673974800@adoptionwest.co.uk
SUMMARY:Q&A Session
DESCRIPTION:Pre-Stage 1 \nThis stage starts when you are ready\, you are welcome to view our Information Videos at any point and then book onto one of these Q&A Sessions. \nThe Q&A sessions allow you to have your questions answered and we may also ask some of you. At the end of the session\, you will be given the option to book a personal Initial Enquiry call with a worker. \nPlease follow this link to book onto the Q&A Session; Adoption West Events | Eventbrite
URL:https://adoptionwest.co.uk/event/qa-session-41/
LOCATION:Virtual Session
CATEGORIES:Q&A Session Pre-Stage1
ATTACH;FMTTYPE=image/png:https://adoptionwest.co.uk/wp-content/uploads/2022/09/QA-Sessions.png
ORGANIZER;CN="Adoption West":MAILTO:info@adoptionwest.co.uk
END:VEVENT
END:VCALENDAR