BEGIN:VCALENDAR
VERSION:2.0
PRODID:-//Adoption West - ECPv6.15.20//NONSGML v1.0//EN
CALSCALE:GREGORIAN
METHOD:PUBLISH
X-WR-CALNAME:Adoption West
X-ORIGINAL-URL:https://adoptionwest.co.uk
X-WR-CALDESC:Events for Adoption West
REFRESH-INTERVAL;VALUE=DURATION:PT1H
X-Robots-Tag:noindex
X-PUBLISHED-TTL:PT1H
BEGIN:VTIMEZONE
TZID:Europe/London
BEGIN:DAYLIGHT
TZOFFSETFROM:+0000
TZOFFSETTO:+0100
TZNAME:BST
DTSTART:20210328T010000
END:DAYLIGHT
BEGIN:STANDARD
TZOFFSETFROM:+0100
TZOFFSETTO:+0000
TZNAME:GMT
DTSTART:20211031T010000
END:STANDARD
BEGIN:DAYLIGHT
TZOFFSETFROM:+0000
TZOFFSETTO:+0100
TZNAME:BST
DTSTART:20220327T010000
END:DAYLIGHT
BEGIN:STANDARD
TZOFFSETFROM:+0100
TZOFFSETTO:+0000
TZNAME:GMT
DTSTART:20221030T010000
END:STANDARD
BEGIN:DAYLIGHT
TZOFFSETFROM:+0000
TZOFFSETTO:+0100
TZNAME:BST
DTSTART:20230326T010000
END:DAYLIGHT
BEGIN:STANDARD
TZOFFSETFROM:+0100
TZOFFSETTO:+0000
TZNAME:GMT
DTSTART:20231029T010000
END:STANDARD
END:VTIMEZONE
BEGIN:VEVENT
DTSTART;TZID=Europe/London:20220608T180000
DTEND;TZID=Europe/London:20220608T190000
DTSTAMP:20260424T230536
CREATED:20220310T095555Z
LAST-MODIFIED:20220314T142942Z
UID:2016-1654711200-1654714800@adoptionwest.co.uk
SUMMARY:Q&A Session
DESCRIPTION:Pre-Stage 1 \nThis stage starts when you are ready\, you are welcome to view our Information Videos at any point and then book onto one of these Q&A Sessions. \nThe Q&A sessions allow you to have your questions answered and we may also ask some of you. At the end of the session\, you will be given the option to book a personal Initial Enquiry call with a worker. \nPlease follow this link to book onto the Q&A Session; Adoption West Events | Eventbrite
URL:https://adoptionwest.co.uk/event/qa-session-19/
LOCATION:Virtual Session
CATEGORIES:Q&A Session Pre-Stage1
ATTACH;FMTTYPE=image/png:https://adoptionwest.co.uk/wp-content/uploads/2021/10/QA-1.png
END:VEVENT
BEGIN:VEVENT
DTSTART;TZID=Europe/London:20220616T130000
DTEND;TZID=Europe/London:20220616T140000
DTSTAMP:20260424T230536
CREATED:20220310T095751Z
LAST-MODIFIED:20220314T142934Z
UID:2018-1655384400-1655388000@adoptionwest.co.uk
SUMMARY:Q&A Session
DESCRIPTION:Pre-Stage 1 \nThis stage starts when you are ready\, you are welcome to view our Information Videos at any point and then book onto one of these Q&A Sessions. \nThe Q&A sessions allow you to have your questions answered and we may also ask some of you. At the end of the session\, you will be given the option to book a personal Initial Enquiry call with a worker. \nPlease follow this link to book onto the Q&A Session; Adoption West Events | Eventbrite
URL:https://adoptionwest.co.uk/event/qa-session-20/
LOCATION:Virtual Session
CATEGORIES:Q&A Session Pre-Stage1
ATTACH;FMTTYPE=image/png:https://adoptionwest.co.uk/wp-content/uploads/2021/10/QA-1.png
END:VEVENT
BEGIN:VEVENT
DTSTART;TZID=Europe/London:20220628T160000
DTEND;TZID=Europe/London:20220628T170000
DTSTAMP:20260424T230536
CREATED:20220310T095847Z
LAST-MODIFIED:20220314T142925Z
UID:2020-1656432000-1656435600@adoptionwest.co.uk
SUMMARY:Q&A Session
DESCRIPTION:Pre-Stage 1 \nThis stage starts when you are ready\, you are welcome to view our Information Videos at any point and then book onto one of these Q&A Sessions. \nThe Q&A sessions allow you to have your questions answered and we may also ask some of you. At the end of the session\, you will be given the option to book a personal Initial Enquiry call with a worker. \nPlease follow this link to book onto the Q&A Session; Adoption West Events | Eventbrite
URL:https://adoptionwest.co.uk/event/qa-session-21/
LOCATION:Virtual Session
CATEGORIES:Q&A Session Pre-Stage1
ATTACH;FMTTYPE=image/png:https://adoptionwest.co.uk/wp-content/uploads/2021/10/QA-1.png
END:VEVENT
END:VCALENDAR