BEGIN:VCALENDAR
VERSION:2.0
PRODID:-//Adoption West - ECPv6.15.20//NONSGML v1.0//EN
CALSCALE:GREGORIAN
METHOD:PUBLISH
X-ORIGINAL-URL:https://adoptionwest.co.uk
X-WR-CALDESC:Events for Adoption West
REFRESH-INTERVAL;VALUE=DURATION:PT1H
X-Robots-Tag:noindex
X-PUBLISHED-TTL:PT1H
BEGIN:VTIMEZONE
TZID:Europe/London
BEGIN:DAYLIGHT
TZOFFSETFROM:+0000
TZOFFSETTO:+0100
TZNAME:BST
DTSTART:20250330T010000
END:DAYLIGHT
BEGIN:STANDARD
TZOFFSETFROM:+0100
TZOFFSETTO:+0000
TZNAME:GMT
DTSTART:20251026T010000
END:STANDARD
BEGIN:DAYLIGHT
TZOFFSETFROM:+0000
TZOFFSETTO:+0100
TZNAME:BST
DTSTART:20260329T010000
END:DAYLIGHT
BEGIN:STANDARD
TZOFFSETFROM:+0100
TZOFFSETTO:+0000
TZNAME:GMT
DTSTART:20261025T010000
END:STANDARD
BEGIN:DAYLIGHT
TZOFFSETFROM:+0000
TZOFFSETTO:+0100
TZNAME:BST
DTSTART:20270328T010000
END:DAYLIGHT
BEGIN:STANDARD
TZOFFSETFROM:+0100
TZOFFSETTO:+0000
TZNAME:GMT
DTSTART:20271031T010000
END:STANDARD
END:VTIMEZONE
BEGIN:VEVENT
DTSTART;TZID=Europe/London:20260625T170000
DTEND;TZID=Europe/London:20260625T183000
DTSTAMP:20260420T055121
CREATED:20260224T140608Z
LAST-MODIFIED:20260224T140608Z
UID:3625-1782406800-1782412200@adoptionwest.co.uk
SUMMARY:Information Session
DESCRIPTION:If you’re beginning to explore whether adoption could be the right path for your family\, we warmly invite you to join one of our Information Sessions. These sessions are a friendly and supportive way to learn more about our agency\, understand each stage of the adoption process\, and hear first-hand experiences from families who have already adopted. \nOur adoption social workers will be there to guide you\, answer your questions\, and share their expertise about the assessment process and how we support you throughout your journey. \nOnly one ticket is needed per household. If you are hoping to adopt as a couple (married\, in a civil partnership\, or cohabiting)\, please ensure that both of you attend the session so you can take this first step together. \nAt the end of the session\, we’ll walk you through how to complete an Initial Enquiry should you feel ready to move forward. \nWe’d be delighted to meet you. Please follow this link to book your place: https://www.eventbrite.co.uk/o/adoption-west-27620899279
URL:https://adoptionwest.co.uk/event/information-session-93/
LOCATION:Virtual Session
CATEGORIES:Information Sessions
ATTACH;FMTTYPE=image/png:https://adoptionwest.co.uk/wp-content/uploads/2025/07/Info-Sessions-two-mums.png
ORGANIZER;CN="Adoption West":MAILTO:info@adoptionwest.co.uk
END:VEVENT
END:VCALENDAR