BEGIN:VCALENDAR
VERSION:2.0
PRODID:-//Adoption West - ECPv6.15.20//NONSGML v1.0//EN
CALSCALE:GREGORIAN
METHOD:PUBLISH
X-WR-CALNAME:Adoption West
X-ORIGINAL-URL:https://adoptionwest.co.uk
X-WR-CALDESC:Events for Adoption West
REFRESH-INTERVAL;VALUE=DURATION:PT1H
X-Robots-Tag:noindex
X-PUBLISHED-TTL:PT1H
BEGIN:VTIMEZONE
TZID:Europe/London
BEGIN:DAYLIGHT
TZOFFSETFROM:+0000
TZOFFSETTO:+0100
TZNAME:BST
DTSTART:20180325T010000
END:DAYLIGHT
BEGIN:STANDARD
TZOFFSETFROM:+0100
TZOFFSETTO:+0000
TZNAME:GMT
DTSTART:20181028T010000
END:STANDARD
BEGIN:DAYLIGHT
TZOFFSETFROM:+0000
TZOFFSETTO:+0100
TZNAME:BST
DTSTART:20190331T010000
END:DAYLIGHT
BEGIN:STANDARD
TZOFFSETFROM:+0100
TZOFFSETTO:+0000
TZNAME:GMT
DTSTART:20191027T010000
END:STANDARD
BEGIN:DAYLIGHT
TZOFFSETFROM:+0000
TZOFFSETTO:+0100
TZNAME:BST
DTSTART:20200329T010000
END:DAYLIGHT
BEGIN:STANDARD
TZOFFSETFROM:+0100
TZOFFSETTO:+0000
TZNAME:GMT
DTSTART:20201025T010000
END:STANDARD
BEGIN:DAYLIGHT
TZOFFSETFROM:+0000
TZOFFSETTO:+0100
TZNAME:BST
DTSTART:20210328T010000
END:DAYLIGHT
BEGIN:STANDARD
TZOFFSETFROM:+0100
TZOFFSETTO:+0000
TZNAME:GMT
DTSTART:20211031T010000
END:STANDARD
END:VTIMEZONE
BEGIN:VEVENT
DTSTART;VALUE=DATE:20201125
DTEND;VALUE=DATE:20201126
DTSTAMP:20260422T025355
CREATED:20201001T104203Z
LAST-MODIFIED:20201104T125610Z
UID:1529-1606262400-1606348799@adoptionwest.co.uk
SUMMARY:Gloucester Information Session (virtual)
DESCRIPTION:If you are interested in adopting this is a great way to learn more about the children who need adoptive families in our region. This is also an opportunity to ‘meet’ members of  the Adoption West Team and hear from people who have already adopted. \nIf you are interested in attending please contact your local hub who will help you to complete an Initial Enquiry and then give you instructions and timings for joining the virtual session. \n03303 550 333 or gloucester@adoptionwest.co.uk \n 
URL:https://adoptionwest.co.uk/event/gloucester-information-session-virtual-4/
LOCATION:Virtual Session
CATEGORIES:Information Sessions
ATTACH;FMTTYPE=image/png:https://adoptionwest.co.uk/wp-content/uploads/2019/03/Canva-Info-Session-2.png
END:VEVENT
BEGIN:VEVENT
DTSTART;VALUE=DATE:20201104
DTEND;VALUE=DATE:20201105
DTSTAMP:20260422T025355
CREATED:20201001T104019Z
LAST-MODIFIED:20201104T125628Z
UID:1525-1604448000-1604534399@adoptionwest.co.uk
SUMMARY:Bristol Information Session (Virtual)
DESCRIPTION:If you are interested in adopting this is a great way to learn more about the children who need adoptive families in our region. This is also an opportunity to ‘meet’  members of  the Adoption West Team and hear from people who have already adopted. \nIf you are interested in attending please contact your local hub who will help you to complete an Initial Enquiry and then give you instructions and timings for joining the virtual session. \n03303 550 333 or bristol@adoptionwest.co.uk
URL:https://adoptionwest.co.uk/event/bristol-information-session-virtual-4/
LOCATION:Virtual Session
CATEGORIES:Information Sessions
ATTACH;FMTTYPE=image/png:https://adoptionwest.co.uk/wp-content/uploads/2019/03/Canva-Info-Session-4.png
END:VEVENT
BEGIN:VEVENT
DTSTART;VALUE=DATE:20201103
DTEND;VALUE=DATE:20201104
DTSTAMP:20260422T025355
CREATED:20201001T104118Z
LAST-MODIFIED:20201001T104118Z
UID:1527-1604361600-1604447999@adoptionwest.co.uk
SUMMARY:Trowbridge Information Session (virtual)
DESCRIPTION:If you are interested in adopting this is a great way to learn more about the children who need adoptive families in our region. This is also an opportunity to ‘meet’  members of  the Adoption West Team and hear from people who have already adopted. \nIf you are interested in attending please contact your local hub who will help you to complete an Initial Enquiry and then give you instructions and timings for joining the virtual session. \n03303 550 333 or trowbridge@adoptionwest.co.uk \n 
URL:https://adoptionwest.co.uk/event/trowbridge-information-session-virtual-4/
LOCATION:Virtual Session
CATEGORIES:Information Sessions
ATTACH;FMTTYPE=image/png:https://adoptionwest.co.uk/wp-content/uploads/2019/03/Canva-Info-Session-2.png
END:VEVENT
BEGIN:VEVENT
DTSTART;VALUE=DATE:20201013
DTEND;VALUE=DATE:20201014
DTSTAMP:20260422T025355
CREATED:20200916T182201Z
LAST-MODIFIED:20200916T182201Z
UID:1522-1602547200-1602633599@adoptionwest.co.uk
SUMMARY:Bristol Information Session (Virtual)
DESCRIPTION:If you are interested in adopting this is a great way to learn more about the children who need adoptive families in our region. This is also an opportunity to ‘meet’  members of  the Adoption West Team and hear from people who have already adopted. \nIf you are interested in attending please contact your local hub who will help you to complete an Initial Enquiry and then give you instructions and timings for joining the virtual session. \n03303 550 333 or bristol@adoptionwest.co.uk
URL:https://adoptionwest.co.uk/event/bristol-information-session-virtual-3/
LOCATION:Virtual Session
CATEGORIES:Information Sessions
ATTACH;FMTTYPE=image/png:https://adoptionwest.co.uk/wp-content/uploads/2019/03/Canva-Info-Session-4.png
END:VEVENT
BEGIN:VEVENT
DTSTART;VALUE=DATE:20201007
DTEND;VALUE=DATE:20201008
DTSTAMP:20260422T025355
CREATED:20200915T123752Z
LAST-MODIFIED:20200915T123752Z
UID:1506-1602028800-1602115199@adoptionwest.co.uk
SUMMARY:Bristol Information Session (Virtual)
DESCRIPTION:If you are interested in adopting this is a great way to learn more about the children who need adoptive families in our region. This is also an opportunity to ‘meet’  members of  the Adoption West Team and hear from people who have already adopted. \nIf you are interested in attending please contact your local hub who will help you to complete an Initial Enquiry and then give you instructions and timings for joining the virtual session. \n03303 550 333 or bristol@adoptionwest.co.uk
URL:https://adoptionwest.co.uk/event/bristol-information-session-virtual-2/
LOCATION:Virtual Session
CATEGORIES:Information Sessions
ATTACH;FMTTYPE=image/png:https://adoptionwest.co.uk/wp-content/uploads/2019/03/Canva-Info-Session-4.png
END:VEVENT
BEGIN:VEVENT
DTSTART;VALUE=DATE:20201001
DTEND;VALUE=DATE:20201002
DTSTAMP:20260422T025355
CREATED:20200915T123825Z
LAST-MODIFIED:20200915T123829Z
UID:1508-1601510400-1601596799@adoptionwest.co.uk
SUMMARY:Trowbridge Information Session (virtual)
DESCRIPTION:If you are interested in adopting this is a great way to learn more about the children who need adoptive families in our region. This is also an opportunity to ‘meet’  members of  the Adoption West Team and hear from people who have already adopted. \nIf you are interested in attending please contact your local hub who will help you to complete an Initial Enquiry and then give you instructions and timings for joining the virtual session. \n03303 550 333 or trowbridge@adoptionwest.co.uk \n 
URL:https://adoptionwest.co.uk/event/trowbridge-information-session-virtual-3/
LOCATION:Virtual Session
CATEGORIES:Information Sessions
ATTACH;FMTTYPE=image/png:https://adoptionwest.co.uk/wp-content/uploads/2019/03/Canva-Info-Session-2.png
END:VEVENT
BEGIN:VEVENT
DTSTART;VALUE=DATE:20200930
DTEND;VALUE=DATE:20201001
DTSTAMP:20260422T025355
CREATED:20200618T100754Z
LAST-MODIFIED:20200709T103722Z
UID:1342-1601424000-1601510399@adoptionwest.co.uk
SUMMARY:Gloucester Information Session (virtual)
DESCRIPTION:If you are interested in adopting this is a great way to learn more about the children who need adoptive families in our region. This is also an opportunity to ‘meet’ members of  the Adoption West Team and hear from people who have already adopted. \nIf you are interested in attending please contact your local hub who will help you to complete an Initial Enquiry and then give you instructions and timings for joining the virtual session. \n03303 550 333 or gloucester@adoptionwest.co.uk \n 
URL:https://adoptionwest.co.uk/event/gloucester-information-session-virtual-2/
LOCATION:Virtual Session
CATEGORIES:Information Sessions
ATTACH;FMTTYPE=image/png:https://adoptionwest.co.uk/wp-content/uploads/2019/03/Canva-Info-Session-2.png
END:VEVENT
BEGIN:VEVENT
DTSTART;VALUE=DATE:20200909
DTEND;VALUE=DATE:20200910
DTSTAMP:20260422T025355
CREATED:20200618T100539Z
LAST-MODIFIED:20200709T102558Z
UID:1338-1599609600-1599695999@adoptionwest.co.uk
SUMMARY:Bristol Information Session (Virtual)
DESCRIPTION:If you are interested in adopting this is a great way to learn more about the children who need adoptive families in our region. This is also an opportunity to ‘meet’  members of  the Adoption West Team and hear from people who have already adopted. \nIf you are interested in attending please contact your local hub who will help you to complete an Initial Enquiry and then give you instructions and timings for joining the virtual session. \n03303 550 333 or bristol@adoptionwest.co.uk
URL:https://adoptionwest.co.uk/event/bristol-information-session-virtual/
LOCATION:Virtual Session
CATEGORIES:Information Sessions
ATTACH;FMTTYPE=image/png:https://adoptionwest.co.uk/wp-content/uploads/2019/03/Canva-Info-Session-4.png
END:VEVENT
BEGIN:VEVENT
DTSTART;VALUE=DATE:20200730
DTEND;VALUE=DATE:20200731
DTSTAMP:20260422T025355
CREATED:20200618T100421Z
LAST-MODIFIED:20200618T100421Z
UID:1336-1596067200-1596153599@adoptionwest.co.uk
SUMMARY:Gloucester Information Session (virtual)
DESCRIPTION:If you are interested in adopting this is a great way to learn more about the children who need adoptive families in our region. This is also an opportunity to ‘meet’ members of  the Adoption West Team and hear from people who have already adopted. \nIf you are interested in attending please contact your local hub who will help you to complete an Initial Enquiry and then give you instructions and timings for joining the virtual session. \n03303 550 333 or gloucester@adoptionwest.co.uk \n 
URL:https://adoptionwest.co.uk/event/gloucester-information-session-virtual/
LOCATION:Virtual Session
CATEGORIES:Information Sessions
ATTACH;FMTTYPE=image/png:https://adoptionwest.co.uk/wp-content/uploads/2019/03/Canva-Info-Session-2.png
END:VEVENT
BEGIN:VEVENT
DTSTART;VALUE=DATE:20200709
DTEND;VALUE=DATE:20200710
DTSTAMP:20260422T025355
CREATED:20200618T100330Z
LAST-MODIFIED:20200618T100330Z
UID:1334-1594252800-1594339199@adoptionwest.co.uk
SUMMARY:Trowbridge Information Session (virtual)
DESCRIPTION:If you are interested in adopting this is a great way to learn more about the children who need adoptive families in our region. This is also an opportunity to ‘meet’  members of  the Adoption West Team and hear from people who have already adopted. \nIf you are interested in attending please contact your local hub who will help you to complete an Initial Enquiry and then give you instructions and timings for joining the virtual session. \n03303 550 333 or trowbridge@adoptionwest.co.uk \n 
URL:https://adoptionwest.co.uk/event/trowbridge-information-session-virtual/
LOCATION:Virtual Session
CATEGORIES:Information Sessions
ATTACH;FMTTYPE=image/png:https://adoptionwest.co.uk/wp-content/uploads/2019/03/Canva-Info-Session-2.png
END:VEVENT
BEGIN:VEVENT
DTSTART;VALUE=DATE:20200625
DTEND;VALUE=DATE:20200626
DTSTAMP:20260422T025355
CREATED:20200122T132308Z
LAST-MODIFIED:20200618T100035Z
UID:975-1593043200-1593129599@adoptionwest.co.uk
SUMMARY:Gloucester Information Session (virtual)
DESCRIPTION:If you are interested in adopting this is a great way to learn more about the children who need adoptive families in our region. This is also an opportunity to ‘meet’ members of  the Adoption West Team and hear from people who have already adopted. \nIf you are interested in attending please contact your local hub who will help you to complete an Initial Enquiry and then give you instructions and timings for joining the virtual session. \n03303 550 333 or gloucester@adoptionwest.co.uk \n 
URL:https://adoptionwest.co.uk/event/gloucester-information-session-9/
LOCATION:Virtual Session
CATEGORIES:Information Sessions
ATTACH;FMTTYPE=image/png:https://adoptionwest.co.uk/wp-content/uploads/2019/03/Canva-Info-Session-2.png
END:VEVENT
BEGIN:VEVENT
DTSTART;VALUE=DATE:20200624
DTEND;VALUE=DATE:20200625
DTSTAMP:20260422T025355
CREATED:20200226T145022Z
LAST-MODIFIED:20200618T095715Z
UID:1022-1592956800-1593043199@adoptionwest.co.uk
SUMMARY:Trowbridge Information Session (virtual)
DESCRIPTION:If you are interested in adopting this is a great way to learn more about the children who need adoptive families in our region. This is also an opportunity to ‘meet’  members of  the Adoption West Team and hear from people who have already adopted. \nIf you are interested in attending please contact your local hub who will help you to complete an Initial Enquiry and then give you instructions and timings for joining the virtual session. \n03303 550 333 or trowbridge@adoptionwest.co.uk \n 
URL:https://adoptionwest.co.uk/event/trowbridge-information-session-9/
LOCATION:Virtual Session
CATEGORIES:Information Sessions
ATTACH;FMTTYPE=image/png:https://adoptionwest.co.uk/wp-content/uploads/2019/03/Canva-Info-Session-2.png
END:VEVENT
BEGIN:VEVENT
DTSTART;VALUE=DATE:20200618
DTEND;VALUE=DATE:20200802
DTSTAMP:20260422T025355
CREATED:20200226T145119Z
LAST-MODIFIED:20200618T092330Z
UID:1024-1592438400-1596326399@adoptionwest.co.uk
SUMMARY:All our face-to-face events are currently postponed
DESCRIPTION:We are now in position to open our virtual information sessions more widely to prospective adopters. \nIf you would like to attend a virtual session\, please take a look at the listings below and follow the instructions. \nIn the meantime\, stay safe. \nAdoption West \n03303 550 333
URL:https://adoptionwest.co.uk/event/information-session/
CATEGORIES:Information Sessions
ATTACH;FMTTYPE=image/jpeg:https://adoptionwest.co.uk/wp-content/uploads/2018/08/home-slider3.jpg
ORGANIZER;CN="Adoption West":MAILTO:info@adoptionwest.co.uk
END:VEVENT
BEGIN:VEVENT
DTSTART;VALUE=DATE:20200317
DTEND;VALUE=DATE:20200318
DTSTAMP:20260422T025355
CREATED:20200122T132228Z
LAST-MODIFIED:20200326T154325Z
UID:973-1584403200-1584489599@adoptionwest.co.uk
SUMMARY:Trowbridge Information Session - March 17th
DESCRIPTION:If you are interested in  adopting  this is a great way to learn more about the children who need adoptive families in our region. This is also an opportunity to meet  members of  the Adoption West Team  and talk to people who have already adopted. \nIf you are interested in attending please contact your local hub who will help you to complete an Initial Enquiry and then give you the location and timings for this session. \n03303 550 333 or trowbridge@adoptionwest.co.uk \n 
URL:https://adoptionwest.co.uk/event/trowbridge-information-session-8/
CATEGORIES:Information Sessions
ATTACH;FMTTYPE=image/png:https://adoptionwest.co.uk/wp-content/uploads/2019/03/Canva-Info-Session-2.png
END:VEVENT
BEGIN:VEVENT
DTSTART;TZID=Europe/London:20200311T130000
DTEND;TZID=Europe/London:20200311T153000
DTSTAMP:20260422T025355
CREATED:20200130T104129Z
LAST-MODIFIED:20200325T154809Z
UID:993-1583931600-1583940600@adoptionwest.co.uk
SUMMARY:Coffee and Chat Session in Bristol
DESCRIPTION:Find out more about Adopting with Adoption West at one of our open events. \nCome along for a coffee and meet our wonderful social workers and adopters for an informal chat about adoption. Feel free to stop by anytime between 1pm and 3.30pm.
URL:https://adoptionwest.co.uk/event/coffee-and-chat-session-in-bristol/
LOCATION:Society Cafe\, Bristol\, Farr's Ln\, Narrow Quay\, Bristol\, BS1 4QA\, United Kingdom
CATEGORIES:Drop-in Session
ATTACH;FMTTYPE=image/png:https://adoptionwest.co.uk/wp-content/uploads/2020/01/Coffee.png
END:VEVENT
BEGIN:VEVENT
DTSTART;VALUE=DATE:20200304
DTEND;VALUE=DATE:20200305
DTSTAMP:20260422T025355
CREATED:20200122T132146Z
LAST-MODIFIED:20200326T154402Z
UID:971-1583280000-1583366399@adoptionwest.co.uk
SUMMARY:Bristol - Information Session
DESCRIPTION:If you are interested in  adopting  this is a great way to learn more about the children who need adoptive families in our region. This is also an opportunity to meet  members of  the Adoption West Team  and talk to people who have already adopted. \nAttendance at these events is by invitation only\, due to the information being discussed. If you are interested in attending please contact your local hub who will help you to complete an Initial Enquiry. \n03303 550 333 or bristol@adoptionwest.co.uk
URL:https://adoptionwest.co.uk/event/bristol-information-session-9/
CATEGORIES:Information Sessions
ATTACH;FMTTYPE=image/png:https://adoptionwest.co.uk/wp-content/uploads/2019/03/Canva-Info-Session-4.png
END:VEVENT
BEGIN:VEVENT
DTSTART;VALUE=DATE:20200219
DTEND;VALUE=DATE:20200220
DTSTAMP:20260422T025355
CREATED:20200122T132105Z
LAST-MODIFIED:20200122T132105Z
UID:969-1582070400-1582156799@adoptionwest.co.uk
SUMMARY:Gloucester Information Session
DESCRIPTION:If you are interested in  adopting  this is a great way to learn more about the children who need adoptive families in our region. This is also an opportunity to meet  members of  the Adoption West Team  and talk to people who have already adopted. \nIf you are interested in attending please contact your local hub who will help you to complete an Initial Enquiry and give you the details and location of the event. \n03303 550 333 or gloucester@adoptionwest.co.uk \n 
URL:https://adoptionwest.co.uk/event/gloucester-information-session-8/
CATEGORIES:Information Sessions
ATTACH;FMTTYPE=image/png:https://adoptionwest.co.uk/wp-content/uploads/2019/03/Canva-Info-Session-2.png
END:VEVENT
BEGIN:VEVENT
DTSTART;VALUE=DATE:20200211
DTEND;VALUE=DATE:20200212
DTSTAMP:20260422T025355
CREATED:20200122T132026Z
LAST-MODIFIED:20200122T132026Z
UID:967-1581379200-1581465599@adoptionwest.co.uk
SUMMARY:Trowbridge Information Session
DESCRIPTION:If you are interested in  adopting  this is a great way to learn more about the children who need adoptive families in our region. This is also an opportunity to meet  members of  the Adoption West Team  and talk to people who have already adopted. \nIf you are interested in attending please contact your local hub who will help you to complete an Initial Enquiry and then give you the location and timings for this session. \n03303 550 333 or trowbridge@adoptionwest.co.uk \n 
URL:https://adoptionwest.co.uk/event/trowbridge-information-session-7/
CATEGORIES:Information Sessions
ATTACH;FMTTYPE=image/png:https://adoptionwest.co.uk/wp-content/uploads/2019/03/Canva-Info-Session-2.png
END:VEVENT
BEGIN:VEVENT
DTSTART;VALUE=DATE:20200205
DTEND;VALUE=DATE:20200206
DTSTAMP:20260422T025355
CREATED:20200122T131918Z
LAST-MODIFIED:20200325T161304Z
UID:965-1580860800-1580947199@adoptionwest.co.uk
SUMMARY:Bristol Information Session
DESCRIPTION:If you are interested in  adopting  this is a great way to learn more about the children who need adoptive families in our region. This is also an opportunity to meet  members of  the Adoption West Team  and talk to people who have already adopted. \nAttendance at these events is by invitation only\, due to the information being discussed. If you are interested in attending please contact your local hub who will help you to complete an Initial Enquiry. \n03303 550 333 or bristol@adoptionwest.co.uk
URL:https://adoptionwest.co.uk/event/bristol-information-session-8/
CATEGORIES:Information Sessions
ATTACH;FMTTYPE=image/png:https://adoptionwest.co.uk/wp-content/uploads/2019/03/Canva-Info-Session-4.png
END:VEVENT
BEGIN:VEVENT
DTSTART;TZID=Europe/London:20200130T130000
DTEND;TZID=Europe/London:20200130T153000
DTSTAMP:20260422T025355
CREATED:20200123T204805Z
LAST-MODIFIED:20200325T154942Z
UID:978-1580389200-1580398200@adoptionwest.co.uk
SUMMARY:Coffee and Chat Session in Cheltenham
DESCRIPTION:Find out more about Adopting with Adoption West at one of our open events. \nCome along for a coffee and meet our wonderful social workers and adopters for an informal chat about adoption. Feel free to stop by anytime between 1pm and 3.30pm.
URL:https://adoptionwest.co.uk/event/coffee-and-chat-session-in-cheltenham/
LOCATION:Costa Coffee\, Cheltenham\, Unit J1\, Tewkesbury Rd\, Cheltenham\, GL51 9RR\, United Kingdom
CATEGORIES:Drop-in Session
ATTACH;FMTTYPE=image/png:https://adoptionwest.co.uk/wp-content/uploads/2020/01/Coffee.png
END:VEVENT
BEGIN:VEVENT
DTSTART;VALUE=DATE:20200122
DTEND;VALUE=DATE:20200123
DTSTAMP:20260422T025355
CREATED:20190918T140457Z
LAST-MODIFIED:20200325T161610Z
UID:941-1579651200-1579737599@adoptionwest.co.uk
SUMMARY:Gloucester Information Session
DESCRIPTION:If you are interested in  adopting  this is a great way to learn more about the children who need adoptive families in our region. This is also an opportunity to meet  members of  the Adoption West Team  and talk to people who have already adopted. \nIf you are interested in attending please contact your local hub who will help you to complete an Initial Enquiry and give you the details and location of the event. \n03303 550 333 or gloucester@adoptionwest.co.uk \n 
URL:https://adoptionwest.co.uk/event/gloucester-information-session-7/
CATEGORIES:Information Sessions
ATTACH;FMTTYPE=image/png:https://adoptionwest.co.uk/wp-content/uploads/2019/03/Canva-Info-Session-2.png
END:VEVENT
BEGIN:VEVENT
DTSTART;VALUE=DATE:20200114
DTEND;VALUE=DATE:20200115
DTSTAMP:20260422T025355
CREATED:20190918T140600Z
LAST-MODIFIED:20200325T162015Z
UID:943-1578960000-1579046399@adoptionwest.co.uk
SUMMARY:Trowbridge Information Session
DESCRIPTION:If you are interested in  adopting  this is a great way to learn more about the children who need adoptive families in our region. This is also an opportunity to meet  members of  the Adoption West Team  and talk to people who have already adopted. \nIf you are interested in attending please contact your local hub who will help you to complete an Initial Enquiry and then give you the location and timings for this session. \n03303 550 333 or trowbridge@adoptionwest.co.uk \n 
URL:https://adoptionwest.co.uk/event/trowbridge-information-session-6/
CATEGORIES:Information Sessions
ATTACH;FMTTYPE=image/png:https://adoptionwest.co.uk/wp-content/uploads/2019/03/Canva-Info-Session-2.png
END:VEVENT
BEGIN:VEVENT
DTSTART;VALUE=DATE:20191127
DTEND;VALUE=DATE:20191128
DTSTAMP:20260422T025355
CREATED:20190918T140250Z
LAST-MODIFIED:20190918T140250Z
UID:937-1574812800-1574899199@adoptionwest.co.uk
SUMMARY:Gloucester Information Session
DESCRIPTION:If you are interested in  adopting  this is a great way to learn more about the children who need adoptive families in our region. This is also an opportunity to meet  members of  the Adoption West Team  and talk to people who have already adopted. \nIf you are interested in attending please contact your local hub who will help you to complete an Initial Enquiry and give you the details and location of the event. \n03303 550 333 or gloucester@adoptionwest.co.uk \n 
URL:https://adoptionwest.co.uk/event/gloucester-information-session-6/
CATEGORIES:Information Sessions
ATTACH;FMTTYPE=image/png:https://adoptionwest.co.uk/wp-content/uploads/2019/03/Canva-Info-Session-3.png
END:VEVENT
BEGIN:VEVENT
DTSTART;VALUE=DATE:20191119
DTEND;VALUE=DATE:20191120
DTSTAMP:20260422T025355
CREATED:20190918T140336Z
LAST-MODIFIED:20190918T140336Z
UID:939-1574121600-1574207999@adoptionwest.co.uk
SUMMARY:Trowbridge Information Session
DESCRIPTION:If you are interested in  adopting  this is a great way to learn more about the children who need adoptive families in our region. This is also an opportunity to meet  members of  the Adoption West Team  and talk to people who have already adopted. \nIf you are interested in attending please contact your local hub who will help you to complete an Initial Enquiry and then give you the location and timings for this session. \n03303 550 333 or trowbridge@adoptionwest.co.uk \n 
URL:https://adoptionwest.co.uk/event/trowbridge-information-session-5/
CATEGORIES:Information Sessions
ATTACH;FMTTYPE=image/png:https://adoptionwest.co.uk/wp-content/uploads/2019/03/Canva-Info-Session-4.png
END:VEVENT
BEGIN:VEVENT
DTSTART;VALUE=DATE:20191106
DTEND;VALUE=DATE:20191107
DTSTAMP:20260422T025355
CREATED:20190918T140156Z
LAST-MODIFIED:20190918T140156Z
UID:935-1572998400-1573084799@adoptionwest.co.uk
SUMMARY:Bristol Information Session
DESCRIPTION:If you are interested in  adopting  this is a great way to learn more about the children who need adoptive families in our region. This is also an opportunity to meet  members of  the Adoption West Team  and talk to people who have already adopted. \nAttendance at these events is by invitation only\, due to the information being discussed. If you are interested in attending please contact your local hub who will help you to complete an Initial Enquiry. \n03303 550 333 or bristol@adoptionwest.co.uk
URL:https://adoptionwest.co.uk/event/bristol-information-session-7/
CATEGORIES:Information Sessions
ATTACH;FMTTYPE=image/png:https://adoptionwest.co.uk/wp-content/uploads/2019/03/Canva-Info-Session-4.png
END:VEVENT
BEGIN:VEVENT
DTSTART;VALUE=DATE:20191023
DTEND;VALUE=DATE:20191024
DTSTAMP:20260422T025355
CREATED:20190806T132051Z
LAST-MODIFIED:20190806T132059Z
UID:923-1571788800-1571875199@adoptionwest.co.uk
SUMMARY:Gloucester Information Session
DESCRIPTION:If you are interested in  adopting  this is a great way to learn more about the children who need adoptive families in our region. This is also an opportunity to meet  members of  the Adoption West Team  and talk to people who have already adopted. \nIf you are interested in attending please contact your local hub who will help you to complete an Initial Enquiry and give you the details and location of the event. \n03303 550 333 or gloucester@adoptionwest.co.uk \n 
URL:https://adoptionwest.co.uk/event/gloucester-information-session-5/
CATEGORIES:Information Sessions
ATTACH;FMTTYPE=image/png:https://adoptionwest.co.uk/wp-content/uploads/2019/03/Canva-Info-Session-3.png
END:VEVENT
BEGIN:VEVENT
DTSTART;TZID=Europe/London:20191016T100000
DTEND;TZID=Europe/London:20191016T140000
DTSTAMP:20260422T025355
CREATED:20191011T124902Z
LAST-MODIFIED:20200325T161105Z
UID:946-1571220000-1571234400@adoptionwest.co.uk
SUMMARY:Trowbridge Adoption West Open Day
DESCRIPTION:Find out more about Adopting with Adoption West at one of our open events. \nThis is a drop-in event\, come along to meet members of our friendly team and see whether adoption could be the right path for your family.
URL:https://adoptionwest.co.uk/event/trowbridge-adoption-west-open-day/
LOCATION:County Hall\, Trowbridge\, Bythesea Road\, Trowbridge\, BA14 8JN\, United Kingdom
CATEGORIES:Open Day
ATTACH;FMTTYPE=image/png:https://adoptionwest.co.uk/wp-content/uploads/2018/03/Unborn-baby-e1599555381723.png
END:VEVENT
BEGIN:VEVENT
DTSTART;TZID=Europe/London:20191015T100000
DTEND;TZID=Europe/London:20191015T140000
DTSTAMP:20260422T025355
CREATED:20191011T124640Z
LAST-MODIFIED:20200325T161741Z
UID:947-1571133600-1571148000@adoptionwest.co.uk
SUMMARY:Bristol Adoption West Open Day
DESCRIPTION:Find out more about Adopting with Adoption West at one of our open events. \nThis is a drop-in event\, come along to meet members of our friendly team and see whether adoption could be the right path for your family.
URL:https://adoptionwest.co.uk/event/bristol-adoption-west-open-day-2/
LOCATION:The Watershed\, 1 Canon Rd\, Harbourside\, Bristol\, The Watershed\, Bristol\, BS1 5TX\, United Kingdom
CATEGORIES:Open Day
ATTACH;FMTTYPE=image/jpeg:https://adoptionwest.co.uk/wp-content/uploads/2018/08/home-slider4.jpg
END:VEVENT
BEGIN:VEVENT
DTSTART;VALUE=DATE:20191014
DTEND;VALUE=DATE:20191015
DTSTAMP:20260422T025355
CREATED:20190806T132013Z
LAST-MODIFIED:20200325T162040Z
UID:921-1571011200-1571097599@adoptionwest.co.uk
SUMMARY:Trowbridge Information Session
DESCRIPTION:If you are interested in  adopting  this is a great way to learn more about the children who need adoptive families in our region. This is also an opportunity to meet  members of  the Adoption West Team  and talk to people who have already adopted. \nIf you are interested in attending please contact your local hub who will help you to complete an Initial Enquiry and then give you the location and timings for this session. \n03303 550 333 or trowbridge@adoptionwest.co.uk \n 
URL:https://adoptionwest.co.uk/event/trowbridge-information-session-4/
CATEGORIES:Information Sessions
ATTACH;FMTTYPE=image/png:https://adoptionwest.co.uk/wp-content/uploads/2019/03/Canva-Info-Session-4.png
END:VEVENT
BEGIN:VEVENT
DTSTART;VALUE=DATE:20191003
DTEND;VALUE=DATE:20191004
DTSTAMP:20260422T025355
CREATED:20190806T131933Z
LAST-MODIFIED:20190806T131933Z
UID:919-1570060800-1570147199@adoptionwest.co.uk
SUMMARY:Bristol Information Session
DESCRIPTION:If you are interested in  adopting  this is a great way to learn more about the children who need adoptive families in our region. This is also an opportunity to meet  members of  the Adoption West Team  and talk to people who have already adopted. \nAttendance at these events is by invitation only\, due to the information being discussed. If you are interested in attending please contact your local hub who will help you to complete an Initial Enquiry. \n03303 550 333 or bristol@adoptionwest.co.uk
URL:https://adoptionwest.co.uk/event/bristol-information-session-6/
CATEGORIES:Information Sessions
ATTACH;FMTTYPE=image/png:https://adoptionwest.co.uk/wp-content/uploads/2019/03/Canva-Info-Session-1.png
END:VEVENT
END:VCALENDAR