BEGIN:VCALENDAR
VERSION:2.0
PRODID:-//Adoption West - ECPv6.15.20//NONSGML v1.0//EN
CALSCALE:GREGORIAN
METHOD:PUBLISH
X-WR-CALNAME:Adoption West
X-ORIGINAL-URL:https://adoptionwest.co.uk
X-WR-CALDESC:Events for Adoption West
REFRESH-INTERVAL;VALUE=DURATION:PT1H
X-Robots-Tag:noindex
X-PUBLISHED-TTL:PT1H
BEGIN:VTIMEZONE
TZID:Europe/London
BEGIN:DAYLIGHT
TZOFFSETFROM:+0000
TZOFFSETTO:+0100
TZNAME:BST
DTSTART:20170326T010000
END:DAYLIGHT
BEGIN:STANDARD
TZOFFSETFROM:+0100
TZOFFSETTO:+0000
TZNAME:GMT
DTSTART:20171029T010000
END:STANDARD
BEGIN:DAYLIGHT
TZOFFSETFROM:+0000
TZOFFSETTO:+0100
TZNAME:BST
DTSTART:20180325T010000
END:DAYLIGHT
BEGIN:STANDARD
TZOFFSETFROM:+0100
TZOFFSETTO:+0000
TZNAME:GMT
DTSTART:20181028T010000
END:STANDARD
BEGIN:DAYLIGHT
TZOFFSETFROM:+0000
TZOFFSETTO:+0100
TZNAME:BST
DTSTART:20190331T010000
END:DAYLIGHT
BEGIN:STANDARD
TZOFFSETFROM:+0100
TZOFFSETTO:+0000
TZNAME:GMT
DTSTART:20191027T010000
END:STANDARD
BEGIN:DAYLIGHT
TZOFFSETFROM:+0000
TZOFFSETTO:+0100
TZNAME:BST
DTSTART:20200329T010000
END:DAYLIGHT
BEGIN:STANDARD
TZOFFSETFROM:+0100
TZOFFSETTO:+0000
TZNAME:GMT
DTSTART:20201025T010000
END:STANDARD
END:VTIMEZONE
BEGIN:VEVENT
DTSTART;VALUE=DATE:20191003
DTEND;VALUE=DATE:20191004
DTSTAMP:20260422T024725
CREATED:20190806T131933Z
LAST-MODIFIED:20190806T131933Z
UID:919-1570060800-1570147199@adoptionwest.co.uk
SUMMARY:Bristol Information Session
DESCRIPTION:If you are interested in  adopting  this is a great way to learn more about the children who need adoptive families in our region. This is also an opportunity to meet  members of  the Adoption West Team  and talk to people who have already adopted. \nAttendance at these events is by invitation only\, due to the information being discussed. If you are interested in attending please contact your local hub who will help you to complete an Initial Enquiry. \n03303 550 333 or bristol@adoptionwest.co.uk
URL:https://adoptionwest.co.uk/event/bristol-information-session-6/
CATEGORIES:Information Sessions
ATTACH;FMTTYPE=image/png:https://adoptionwest.co.uk/wp-content/uploads/2019/03/Canva-Info-Session-1.png
END:VEVENT
BEGIN:VEVENT
DTSTART;VALUE=DATE:20190925
DTEND;VALUE=DATE:20190926
DTSTAMP:20260422T024725
CREATED:20190625T140403Z
LAST-MODIFIED:20190806T131729Z
UID:907-1569369600-1569455999@adoptionwest.co.uk
SUMMARY:Gloucester Information Session
DESCRIPTION:If you are interested in  adopting  this is a great way to learn more about the children who need adoptive families in our region. This is also an opportunity to meet  members of  the Adoption West Team  and talk to people who have already adopted. \nIf you are interested in attending please contact your local hub who will help you to complete an Initial Enquiry and give you the details and location of the event. \n03303 550 333 or gloucester@adoptionwest.co.uk \n 
URL:https://adoptionwest.co.uk/event/gloucester-information-session-3/
CATEGORIES:Information Sessions
ATTACH;FMTTYPE=image/png:https://adoptionwest.co.uk/wp-content/uploads/2019/03/Canva-Info-Session-3.png
END:VEVENT
BEGIN:VEVENT
DTSTART;VALUE=DATE:20190917
DTEND;VALUE=DATE:20190918
DTSTAMP:20260422T024725
CREATED:20190625T140146Z
LAST-MODIFIED:20190806T131651Z
UID:905-1568678400-1568764799@adoptionwest.co.uk
SUMMARY:Trowbridge Information Session
DESCRIPTION:If you are interested in  adopting  this is a great way to learn more about the children who need adoptive families in our region. This is also an opportunity to meet  members of  the Adoption West Team  and talk to people who have already adopted. \nIf you are interested in attending please contact your local hub who will help you to complete an Initial Enquiry and then give you the location and timings for this session. \n03303 550 333 or trowbridge@adoptionwest.co.uk \n 
URL:https://adoptionwest.co.uk/event/trowbridge-information-session-2/
CATEGORIES:Information Sessions
ATTACH;FMTTYPE=image/png:https://adoptionwest.co.uk/wp-content/uploads/2019/03/Canva-Info-Session-4.png
END:VEVENT
BEGIN:VEVENT
DTSTART;VALUE=DATE:20190904
DTEND;VALUE=DATE:20190905
DTSTAMP:20260422T024725
CREATED:20190625T135942Z
LAST-MODIFIED:20190806T131615Z
UID:902-1567555200-1567641599@adoptionwest.co.uk
SUMMARY:Bristol Information Session
DESCRIPTION:If you are interested in  adopting  this is a great way to learn more about the children who need adoptive families in our region. This is also an opportunity to meet  members of  the Adoption West Team  and talk to people who have already adopted. \nAttendance at these events is by invitation only\, due to the information being discussed. If you are interested in attending please contact your local hub who will help you to complete an Initial Enquiry. \n03303 550 333 or bristol@adoptionwest.co.uk
URL:https://adoptionwest.co.uk/event/bristol-information-session-4/
CATEGORIES:Information Sessions
ATTACH;FMTTYPE=image/png:https://adoptionwest.co.uk/wp-content/uploads/2019/03/Canva-Info-Session-1.png
END:VEVENT
BEGIN:VEVENT
DTSTART;VALUE=DATE:20190828
DTEND;VALUE=DATE:20190829
DTSTAMP:20260422T024725
CREATED:20190625T140821Z
LAST-MODIFIED:20190625T141311Z
UID:915-1566950400-1567036799@adoptionwest.co.uk
SUMMARY:Gloucester Information Session
DESCRIPTION:If you are interested in  adopting  this is a great way to learn more about the children who need adoptive families in our region. This is also an opportunity to meet  members of  the Adoption West Team  and talk to people who have already adopted. \nIf you are interested in attending please contact your local hub who will help you to complete an Initial Enquiry and give you the details and location of the event. \n03303 550 333 or gloucester@adoptionwest.co.uk \n 
URL:https://adoptionwest.co.uk/event/gloucester-information-session-4/
CATEGORIES:Information Sessions
ATTACH;FMTTYPE=image/png:https://adoptionwest.co.uk/wp-content/uploads/2019/03/Canva-Info-Session-3.png
END:VEVENT
BEGIN:VEVENT
DTSTART;VALUE=DATE:20190813
DTEND;VALUE=DATE:20190814
DTSTAMP:20260422T024725
CREATED:20190625T140741Z
LAST-MODIFIED:20190625T140741Z
UID:913-1565654400-1565740799@adoptionwest.co.uk
SUMMARY:Trowbridge Information Session
DESCRIPTION:If you are interested in  adopting  this is a great way to learn more about the children who need adoptive families in our region. This is also an opportunity to meet  members of  the Adoption West Team  and talk to people who have already adopted. \nIf you are interested in attending please contact your local hub who will help you to complete an Initial Enquiry and then give you the location and timings for this session. \n03303 550 333 or trowbridge@adoptionwest.co.uk \n 
URL:https://adoptionwest.co.uk/event/trowbridge-information-session-3/
CATEGORIES:Information Sessions
ATTACH;FMTTYPE=image/png:https://adoptionwest.co.uk/wp-content/uploads/2019/03/Canva-Info-Session-4.png
END:VEVENT
BEGIN:VEVENT
DTSTART;VALUE=DATE:20190807
DTEND;VALUE=DATE:20190808
DTSTAMP:20260422T024725
CREATED:20190625T140708Z
LAST-MODIFIED:20190625T140708Z
UID:911-1565136000-1565222399@adoptionwest.co.uk
SUMMARY:Bristol Information Session
DESCRIPTION:If you are interested in  adopting  this is a great way to learn more about the children who need adoptive families in our region. This is also an opportunity to meet  members of  the Adoption West Team  and talk to people who have already adopted. \nAttendance at these events is by invitation only\, due to the information being discussed. If you are interested in attending please contact your local hub who will help you to complete an Initial Enquiry. \n03303 550 333 or bristol@adoptionwest.co.uk
URL:https://adoptionwest.co.uk/event/bristol-information-session-5/
CATEGORIES:Information Sessions
ATTACH;FMTTYPE=image/png:https://adoptionwest.co.uk/wp-content/uploads/2019/03/Canva-Info-Session-1.png
END:VEVENT
BEGIN:VEVENT
DTSTART;VALUE=DATE:20190626
DTEND;VALUE=DATE:20190627
DTSTAMP:20260422T024725
CREATED:20190507T102904Z
LAST-MODIFIED:20190507T102904Z
UID:886-1561507200-1561593599@adoptionwest.co.uk
SUMMARY:Gloucester Information Session
DESCRIPTION:This event is aimed at people who are taking the first steps in their adoption journey. \nIf you are interested in  adopting  this is a great way to learn more about the children who need adoptive families in our region. This is also an opportunity to meet  members of  the Adoption West Team  and talk to people who have already adopted. \nIf you are interested in attending please contact your local hub who will help you to complete an Initial Enquiry and give you the details and location of the event. \n 
URL:https://adoptionwest.co.uk/event/gloucester-information-session-2/
CATEGORIES:Information Sessions
ATTACH;FMTTYPE=image/png:https://adoptionwest.co.uk/wp-content/uploads/2019/03/Canva-Info-Session-3.png
END:VEVENT
BEGIN:VEVENT
DTSTART;VALUE=DATE:20190612
DTEND;VALUE=DATE:20190613
DTSTAMP:20260422T024725
CREATED:20190507T102939Z
LAST-MODIFIED:20190507T102939Z
UID:888-1560297600-1560383999@adoptionwest.co.uk
SUMMARY:Trowbridge Information Session
DESCRIPTION:This event is aimed at people who are taking the first steps in their adoption journey. \nIf you are interested in  adopting  this is a great way to learn more about the children who need adoptive families in our region. This is also an opportunity to meet  members of  the Adoption West Team  and talk to people who have already adopted. \nIf you are interested in attending please contact your local hub who will help you to complete an Initial Enquiry and then give you the location and timings for this session. \n 
URL:https://adoptionwest.co.uk/event/trowbridge-information-session/
CATEGORIES:Information Sessions
ATTACH;FMTTYPE=image/png:https://adoptionwest.co.uk/wp-content/uploads/2019/03/Canva-Info-Session-4.png
END:VEVENT
BEGIN:VEVENT
DTSTART;VALUE=DATE:20190605
DTEND;VALUE=DATE:20190606
DTSTAMP:20260422T024725
CREATED:20190507T103010Z
LAST-MODIFIED:20190507T103010Z
UID:890-1559692800-1559779199@adoptionwest.co.uk
SUMMARY:Bristol Information Session
DESCRIPTION:This event is aimed at people who are taking the first steps in their adoption journey. If you are interested in  adopting  this is a great way to learn more about the children who need adoptive families in our region. This is also an opportunity to meet  members of  the Adoption West Team  and talk to people who have already adopted. \nAttendance at these events is by invitation only\, due to the information being discussed. If you are interested in attending please contact your local hub who will help you to complete an Initial Enquiry.
URL:https://adoptionwest.co.uk/event/bristol-information-session-3/
CATEGORIES:Information Sessions
ATTACH;FMTTYPE=image/png:https://adoptionwest.co.uk/wp-content/uploads/2019/03/Canva-Info-Session-1.png
END:VEVENT
BEGIN:VEVENT
DTSTART;VALUE=DATE:20190522
DTEND;VALUE=DATE:20190523
DTSTAMP:20260422T024725
CREATED:20190313T120908Z
LAST-MODIFIED:20190507T102630Z
UID:876-1558483200-1558569599@adoptionwest.co.uk
SUMMARY:Gloucester Information Session
DESCRIPTION:This event is aimed at people who are taking the first steps in their adoption journey. \nIf you are interested in  adopting  this is a great way to learn more about the children who need adoptive families in our region. This is also an opportunity to meet  members of  the Adoption West Team  and talk to people who have already adopted. \nIf you are interested in attending please contact your local hub who will help you to complete an Initial Enquiry and give you the details and location of the event. \n 
URL:https://adoptionwest.co.uk/event/gloucester-information-session/
CATEGORIES:Information Sessions
ATTACH;FMTTYPE=image/png:https://adoptionwest.co.uk/wp-content/uploads/2019/03/Canva-Info-Session-3.png
END:VEVENT
BEGIN:VEVENT
DTSTART;VALUE=DATE:20190514
DTEND;VALUE=DATE:20190515
DTSTAMP:20260422T024725
CREATED:20190313T120112Z
LAST-MODIFIED:20190507T102811Z
UID:872-1557792000-1557878399@adoptionwest.co.uk
SUMMARY:Trowbridge Information Session
DESCRIPTION:This event is aimed at people who are taking the first steps in their adoption journey. \nIf you are interested in  adopting  this is a great way to learn more about the children who need adoptive families in our region. This is also an opportunity to meet  members of  the Adoption West Team  and talk to people who have already adopted. \nIf you are interested in attending please contact your local hub who will help you to complete an Initial Enquiry and then give you the location and timings for this session. \n 
URL:https://adoptionwest.co.uk/event/bristol-information-session-2/
CATEGORIES:Information Sessions
ATTACH;FMTTYPE=image/png:https://adoptionwest.co.uk/wp-content/uploads/2019/03/Canva-Info-Session-4.png
END:VEVENT
BEGIN:VEVENT
DTSTART;VALUE=DATE:20190508
DTEND;VALUE=DATE:20190509
DTSTAMP:20260422T024725
CREATED:20190507T102357Z
LAST-MODIFIED:20190507T102357Z
UID:881-1557273600-1557359999@adoptionwest.co.uk
SUMMARY:Bristol Information Session
DESCRIPTION:This event is aimed at people who are taking the first steps in their adoption journey. If you are interested in  adopting  this is a great way to learn more about the children who need adoptive families in our region. This is also an opportunity to meet  members of  the Adoption West Team  and talk to people who have already adopted. \nAttendance at these events is by invitation only\, due to the information being discussed. If you are interested in attending please contact your local hub who will help you to complete an Initial Enquiry.
URL:https://adoptionwest.co.uk/event/bristol-information-session/
CATEGORIES:Information Sessions
ATTACH;FMTTYPE=image/png:https://adoptionwest.co.uk/wp-content/uploads/2019/03/Canva-Info-Session-1.png
END:VEVENT
BEGIN:VEVENT
DTSTART;TZID=Europe/London:20190307T180000
DTEND;TZID=Europe/London:20190307T200000
DTSTAMP:20260422T024725
CREATED:20190301T092809Z
LAST-MODIFIED:20200325T155203Z
UID:850-1551981600-1551988800@adoptionwest.co.uk
SUMMARY:LGBT+ Adoption West Open Event
DESCRIPTION:Find out more about Adopting with Adoption West at one of our open events.  \nThis is a drop-in event\, come along to meet members of our friendly team and see whether adoption could be the right path for your family. There will be experienced LGBT adopters on hand to answer all your questions\, as well as a short presentation starting at 7pm
URL:https://adoptionwest.co.uk/event/lgbt-adoption-west-open-event/
LOCATION:The Watershed\, 1 Canon Rd\, Harbourside\, Bristol\, The Watershed\, Bristol\, BS1 5TX\, United Kingdom
CATEGORIES:Open Day
ATTACH;FMTTYPE=image/jpeg:https://adoptionwest.co.uk/wp-content/uploads/2019/03/Mums.jpg
END:VEVENT
BEGIN:VEVENT
DTSTART;TZID=Europe/London:20181018T110000
DTEND;TZID=Europe/London:20181018T143000
DTSTAMP:20260422T024725
CREATED:20180913T094354Z
LAST-MODIFIED:20200325T154322Z
UID:734-1539860400-1539873000@adoptionwest.co.uk
SUMMARY:Gloucester Adoption West Open Day
DESCRIPTION:Find out more about Adopting with Adoption West at one of our open events.  \nThis is a drop-in event\, come along to meet members of our friendly team and see whether adoption could be the right path for your family.
URL:https://adoptionwest.co.uk/event/bristo-adoption-west-open-day-2/
LOCATION:The Guildhall\, Gloucester\, Guildhall\, 23 Eastgate Street\, Gloucester\, GL1 1NS\, United Kingdom
CATEGORIES:Open Day
ATTACH;FMTTYPE=image/png:https://adoptionwest.co.uk/wp-content/uploads/2018/03/Unborn-baby-e1599555381723.png
END:VEVENT
BEGIN:VEVENT
DTSTART;TZID=Europe/London:20181017T110000
DTEND;TZID=Europe/London:20181017T143000
DTSTAMP:20260422T024725
CREATED:20180913T093843Z
LAST-MODIFIED:20200325T154704Z
UID:732-1539774000-1539786600@adoptionwest.co.uk
SUMMARY:Bristol Adoption West Open Day
DESCRIPTION:Find out more about Adopting with Adoption West at one of our open events.  \nThis is a drop-in event\, come along to meet members of our friendly team and see whether adoption could be the right path for your family.
URL:https://adoptionwest.co.uk/event/bristol-adoption-west-open-day/
LOCATION:The Watershed\, 1 Canon Rd\, Harbourside\, Bristol\, The Watershed\, Bristol\, BS1 5TX\, United Kingdom
CATEGORIES:Open Day
ATTACH;FMTTYPE=image/png:https://adoptionwest.co.uk/wp-content/uploads/2018/03/Unborn-baby-e1599555381723.png
END:VEVENT
BEGIN:VEVENT
DTSTART;TZID=Europe/London:20181016T100000
DTEND;TZID=Europe/London:20181016T143000
DTSTAMP:20260422T024725
CREATED:20180913T093200Z
LAST-MODIFIED:20200325T161151Z
UID:728-1539684000-1539700200@adoptionwest.co.uk
SUMMARY:Trowbridge Adoption West Open Day
DESCRIPTION:Find out more about Adopting with Adoption West at one of our open events.  \nThis is a drop-in event\, come along to meet members of our friendly team and see whether adoption could be the right path for your family.
URL:https://adoptionwest.co.uk/event/trowbridge-adoption-open-day-2/
LOCATION:The Civic Centre\, Trowbridge\, The Civic Centre\, St. Stephen's Place\,\, Trowbridge\, Wiltshire\, BA14 8AH\, United Kingdom
CATEGORIES:Open Day
ATTACH;FMTTYPE=image/png:https://adoptionwest.co.uk/wp-content/uploads/2018/03/Unborn-baby-e1599555381723.png
END:VEVENT
END:VCALENDAR