BEGIN:VCALENDAR
VERSION:2.0
PRODID:-//Adoption West - ECPv6.15.20//NONSGML v1.0//EN
CALSCALE:GREGORIAN
METHOD:PUBLISH
X-WR-CALNAME:Adoption West
X-ORIGINAL-URL:https://adoptionwest.co.uk
X-WR-CALDESC:Events for Adoption West
REFRESH-INTERVAL;VALUE=DURATION:PT1H
X-Robots-Tag:noindex
X-PUBLISHED-TTL:PT1H
BEGIN:VTIMEZONE
TZID:Europe/London
BEGIN:DAYLIGHT
TZOFFSETFROM:+0000
TZOFFSETTO:+0100
TZNAME:BST
DTSTART:20250330T010000
END:DAYLIGHT
BEGIN:STANDARD
TZOFFSETFROM:+0100
TZOFFSETTO:+0000
TZNAME:GMT
DTSTART:20251026T010000
END:STANDARD
BEGIN:DAYLIGHT
TZOFFSETFROM:+0000
TZOFFSETTO:+0100
TZNAME:BST
DTSTART:20260329T010000
END:DAYLIGHT
BEGIN:STANDARD
TZOFFSETFROM:+0100
TZOFFSETTO:+0000
TZNAME:GMT
DTSTART:20261025T010000
END:STANDARD
BEGIN:DAYLIGHT
TZOFFSETFROM:+0000
TZOFFSETTO:+0100
TZNAME:BST
DTSTART:20270328T010000
END:DAYLIGHT
BEGIN:STANDARD
TZOFFSETFROM:+0100
TZOFFSETTO:+0000
TZNAME:GMT
DTSTART:20271031T010000
END:STANDARD
END:VTIMEZONE
BEGIN:VEVENT
DTSTART;TZID=Europe/London:20260603T100000
DTEND;TZID=Europe/London:20260603T130000
DTSTAMP:20260419T225254
CREATED:20260323T120423Z
LAST-MODIFIED:20260323T121245Z
UID:3835-1780480800-1780491600@adoptionwest.co.uk
SUMMARY:Life Story Workshop- Part II
DESCRIPTION:This follow-up session is intended for those who have already attended the first session with Suzanne. \nLife Story Part II: Your Child’s Story \nWe’ll look closely at your child’s individual story – past\, present\, and future. \nTogether we will: \n\nWork on shaping or updating a narrative for your child\nExplore the use of life story books\, later life letters\, and any existing information\nTry out some tools and techniques to support life story conversations with your child.\n\nThere will be plenty of time to share\, reflect\, and consider how these approaches can fit naturally into your family’s journey. \nThere will be plenty of time to share ideas\, reflect\, and think about how these approaches can fit into your family’s journey. \nThis workshop is open to all adoptive parents. The workshop will be held in person in Yate (details to be sent closer to the time). Parents only to attend (no children\, sorry!) \nClick here to visit the Eventbrite listing for this event. 
URL:https://adoptionwest.co.uk/event/life-story-workshop-part-ii/
LOCATION:In-person\, Bristol
CATEGORIES:Support
ATTACH;FMTTYPE=image/png:https://adoptionwest.co.uk/wp-content/uploads/2026/03/Lifestory-Work-26.png
END:VEVENT
BEGIN:VEVENT
DTSTART;TZID=Europe/London:20260604T100000
DTEND;TZID=Europe/London:20260604T233000
DTSTAMP:20260419T225254
CREATED:20251208T125844Z
LAST-MODIFIED:20251208T125844Z
UID:3554-1780567200-1780615800@adoptionwest.co.uk
SUMMARY:Amazing Wallabies - Stay and Play
DESCRIPTION:Social group for children and babies (and their parents/carers). \nWe follow a simple format for the session: introductions to begin with\, and then lots of playing (and some chatting for the grown-ups). Possibly a song or a story at the end 😊.  And\, there are refreshments available. We sometimes attempt a simple craft activity. \nOur first few sessions have been well-received with lots of positive feedback. Our main focus is offering a relaxed environment for adoptive parents and EP Carers to meet and socialise with people who have children of similar ages. \nIf you would like to join us\, please contact rebecca.myers@adoptionwest.co.uk\, with your child’s name and age. \nWe look forward to seeing you soon.
URL:https://adoptionwest.co.uk/event/amazing-wallabies-stay-and-play-13/
LOCATION:Stonehouse
CATEGORIES:Support
ATTACH;FMTTYPE=image/png:https://adoptionwest.co.uk/wp-content/uploads/2025/12/Amazing-Wallabies-2026-dates.png
ORGANIZER;CN="Adoption West":MAILTO:info@adoptionwest.co.uk
END:VEVENT
BEGIN:VEVENT
DTSTART;TZID=Europe/London:20260606T093000
DTEND;TZID=Europe/London:20260606T110000
DTSTAMP:20260419T225254
CREATED:20260224T135435Z
LAST-MODIFIED:20260224T135544Z
UID:3619-1780738200-1780743600@adoptionwest.co.uk
SUMMARY:Information Session
DESCRIPTION:If you’re beginning to explore whether adoption could be the right path for your family\, we warmly invite you to join one of our Information Sessions. These sessions are a friendly and supportive way to learn more about our agency\, understand each stage of the adoption process\, and hear first-hand experiences from families who have already adopted. \nOur adoption social workers will be there to guide you\, answer your questions\, and share their expertise about the assessment process and how we support you throughout your journey. \nOnly one ticket is needed per household. If you are hoping to adopt as a couple (married\, in a civil partnership\, or cohabiting)\, please ensure that both of you attend the session so you can take this first step together. \nAt the end of the session\, we’ll walk you through how to complete an Initial Enquiry should you feel ready to move forward. \nWe’d be delighted to meet you. Please follow this link to book your place: https://www.eventbrite.co.uk/o/adoption-west-27620899279
URL:https://adoptionwest.co.uk/event/information-session-90/
LOCATION:Virtual Session
CATEGORIES:Information Sessions
ATTACH;FMTTYPE=image/png:https://adoptionwest.co.uk/wp-content/uploads/2025/07/Info-Sessions-siblings.png
ORGANIZER;CN="Adoption West":MAILTO:info@adoptionwest.co.uk
END:VEVENT
BEGIN:VEVENT
DTSTART;TZID=Europe/London:20260616T090000
DTEND;TZID=Europe/London:20260616T103000
DTSTAMP:20260419T225254
CREATED:20260224T135651Z
LAST-MODIFIED:20260224T135651Z
UID:3621-1781600400-1781605800@adoptionwest.co.uk
SUMMARY:Information Session
DESCRIPTION:If you’re beginning to explore whether adoption could be the right path for your family\, we warmly invite you to join one of our Information Sessions. These sessions are a friendly and supportive way to learn more about our agency\, understand each stage of the adoption process\, and hear first-hand experiences from families who have already adopted. \nOur adoption social workers will be there to guide you\, answer your questions\, and share their expertise about the assessment process and how we support you throughout your journey. \nOnly one ticket is needed per household. If you are hoping to adopt as a couple (married\, in a civil partnership\, or cohabiting)\, please ensure that both of you attend the session so you can take this first step together. \nAt the end of the session\, we’ll walk you through how to complete an Initial Enquiry should you feel ready to move forward. \nWe’d be delighted to meet you. Please follow this link to book your place: https://www.eventbrite.co.uk/o/adoption-west-27620899279
URL:https://adoptionwest.co.uk/event/information-session-91/
LOCATION:Virtual Session
CATEGORIES:Information Sessions
ATTACH;FMTTYPE=image/png:https://adoptionwest.co.uk/wp-content/uploads/2025/07/Info-Sessions-non-binary-1.png
ORGANIZER;CN="Adoption West":MAILTO:info@adoptionwest.co.uk
END:VEVENT
BEGIN:VEVENT
DTSTART;TZID=Europe/London:20260625T170000
DTEND;TZID=Europe/London:20260625T183000
DTSTAMP:20260419T225254
CREATED:20260224T140608Z
LAST-MODIFIED:20260224T140608Z
UID:3625-1782406800-1782412200@adoptionwest.co.uk
SUMMARY:Information Session
DESCRIPTION:If you’re beginning to explore whether adoption could be the right path for your family\, we warmly invite you to join one of our Information Sessions. These sessions are a friendly and supportive way to learn more about our agency\, understand each stage of the adoption process\, and hear first-hand experiences from families who have already adopted. \nOur adoption social workers will be there to guide you\, answer your questions\, and share their expertise about the assessment process and how we support you throughout your journey. \nOnly one ticket is needed per household. If you are hoping to adopt as a couple (married\, in a civil partnership\, or cohabiting)\, please ensure that both of you attend the session so you can take this first step together. \nAt the end of the session\, we’ll walk you through how to complete an Initial Enquiry should you feel ready to move forward. \nWe’d be delighted to meet you. Please follow this link to book your place: https://www.eventbrite.co.uk/o/adoption-west-27620899279
URL:https://adoptionwest.co.uk/event/information-session-93/
LOCATION:Virtual Session
CATEGORIES:Information Sessions
ATTACH;FMTTYPE=image/png:https://adoptionwest.co.uk/wp-content/uploads/2025/07/Info-Sessions-two-mums.png
ORGANIZER;CN="Adoption West":MAILTO:info@adoptionwest.co.uk
END:VEVENT
END:VCALENDAR