BEGIN:VCALENDAR
VERSION:2.0
PRODID:-//Adoption West - ECPv6.15.20//NONSGML v1.0//EN
CALSCALE:GREGORIAN
METHOD:PUBLISH
X-WR-CALNAME:Adoption West
X-ORIGINAL-URL:https://adoptionwest.co.uk
X-WR-CALDESC:Events for Adoption West
REFRESH-INTERVAL;VALUE=DURATION:PT1H
X-Robots-Tag:noindex
X-PUBLISHED-TTL:PT1H
BEGIN:VTIMEZONE
TZID:Europe/London
BEGIN:DAYLIGHT
TZOFFSETFROM:+0000
TZOFFSETTO:+0100
TZNAME:BST
DTSTART:20250330T010000
END:DAYLIGHT
BEGIN:STANDARD
TZOFFSETFROM:+0100
TZOFFSETTO:+0000
TZNAME:GMT
DTSTART:20251026T010000
END:STANDARD
BEGIN:DAYLIGHT
TZOFFSETFROM:+0000
TZOFFSETTO:+0100
TZNAME:BST
DTSTART:20260329T010000
END:DAYLIGHT
BEGIN:STANDARD
TZOFFSETFROM:+0100
TZOFFSETTO:+0000
TZNAME:GMT
DTSTART:20261025T010000
END:STANDARD
BEGIN:DAYLIGHT
TZOFFSETFROM:+0000
TZOFFSETTO:+0100
TZNAME:BST
DTSTART:20270328T010000
END:DAYLIGHT
BEGIN:STANDARD
TZOFFSETFROM:+0100
TZOFFSETTO:+0000
TZNAME:GMT
DTSTART:20271031T010000
END:STANDARD
END:VTIMEZONE
BEGIN:VEVENT
DTSTART;TZID=Europe/London:20260203T100000
DTEND;TZID=Europe/London:20260203T113000
DTSTAMP:20260420T012000
CREATED:20251208T133041Z
LAST-MODIFIED:20251208T133041Z
UID:3558-1770112800-1770118200@adoptionwest.co.uk
SUMMARY:Early Years Education for parents of adopted children
DESCRIPTION:Early Years Provision Options and Funding – An Introduction \nJoin this ONLINE workshop for an introduction to choosing an Early Years provider for your child\, with guidance on funded hours and different types of provision. \nLink for tickets – takes you to Eventbrite \n 
URL:https://adoptionwest.co.uk/event/early-years-education-for-parents-of-adopted-children-3/
LOCATION:Virtual Session
CATEGORIES:Support
ATTACH;FMTTYPE=image/png:https://adoptionwest.co.uk/wp-content/uploads/2024/06/Education-Square-1.png
END:VEVENT
BEGIN:VEVENT
DTSTART;TZID=Europe/London:20260205T100000
DTEND;TZID=Europe/London:20260205T233000
DTSTAMP:20260420T012000
CREATED:20251208T125613Z
LAST-MODIFIED:20251208T125613Z
UID:3546-1770285600-1770334200@adoptionwest.co.uk
SUMMARY:Amazing Wallabies - Stay and Play
DESCRIPTION:Social group for children and babies (and their parents/carers). \nWe follow a simple format for the session: introductions to begin with\, and then lots of playing (and some chatting for the grown-ups). Possibly a song or a story at the end 😊.  And\, there are refreshments available. We sometimes attempt a simple craft activity. \nOur first few sessions have been well-received with lots of positive feedback. Our main focus is offering a relaxed environment for adoptive parents and EP Carers to meet and socialise with people who have children of similar ages. \nIf you would like to join us\, please contact rebecca.myers@adoptionwest.co.uk\, with your child’s name and age. \nWe look forward to seeing you soon.
URL:https://adoptionwest.co.uk/event/amazing-wallabies-stay-and-play-9/
LOCATION:Stonehouse
CATEGORIES:Support
ATTACH;FMTTYPE=image/png:https://adoptionwest.co.uk/wp-content/uploads/2025/12/Amazing-Wallabies-2026-dates.png
ORGANIZER;CN="Adoption West":MAILTO:info@adoptionwest.co.uk
END:VEVENT
BEGIN:VEVENT
DTSTART;TZID=Europe/London:20260213T100000
DTEND;TZID=Europe/London:20260213T140000
DTSTAMP:20260420T012000
CREATED:20251216T094230Z
LAST-MODIFIED:20251216T094606Z
UID:3563-1770976800-1770991200@adoptionwest.co.uk
SUMMARY:Life Story Workshop
DESCRIPTION:Suzanne McGladdery will run this session. \nEvery child has a story\, and for adopted children\, understanding and sharing that story can be a big part of their healing and growth. \nThis relaxed\, hands-on workshop is designed especially for adoptive parents who want to: \n\nUnderstand what Life Story Work is all about\nExplore creative ways to help children make sense of their experiences and adoption\nLearn how stories can help children process feelings\, build confidence\, and strengthen family bonds\nTake away practical ideas to use at home in everyday life\n\nWe’ll look at how Life Story Work can help children move from confusing feelings to a clearer sense of who they are\, and how it supports their emotional wellbeing and recovery from past trauma. \nThere will be plenty of time to share ideas\, reflect\, and think about how these approaches can fit into your family’s journey. \nThis workshop is open to all adoptive parents. The workshop will be held in person in Yate (details to be sent closer to the time). Parents only to attend (no children\, sorry!) \nClick here to visit the Eventbrite listing for this event. 
URL:https://adoptionwest.co.uk/event/life-story-workshop-4/
LOCATION:In-person\, Bristol
CATEGORIES:Support
ATTACH;FMTTYPE=image/png:https://adoptionwest.co.uk/wp-content/uploads/2025/12/Lifestory-Work-EB-Instagram-Post-45-1.png
END:VEVENT
END:VCALENDAR