BEGIN:VCALENDAR
VERSION:2.0
PRODID:-//Adoption West - ECPv6.15.20//NONSGML v1.0//EN
CALSCALE:GREGORIAN
METHOD:PUBLISH
X-ORIGINAL-URL:https://adoptionwest.co.uk
X-WR-CALDESC:Events for Adoption West
REFRESH-INTERVAL;VALUE=DURATION:PT1H
X-Robots-Tag:noindex
X-PUBLISHED-TTL:PT1H
BEGIN:VTIMEZONE
TZID:Europe/London
BEGIN:DAYLIGHT
TZOFFSETFROM:+0000
TZOFFSETTO:+0100
TZNAME:BST
DTSTART:20240331T010000
END:DAYLIGHT
BEGIN:STANDARD
TZOFFSETFROM:+0100
TZOFFSETTO:+0000
TZNAME:GMT
DTSTART:20241027T010000
END:STANDARD
BEGIN:DAYLIGHT
TZOFFSETFROM:+0000
TZOFFSETTO:+0100
TZNAME:BST
DTSTART:20250330T010000
END:DAYLIGHT
BEGIN:STANDARD
TZOFFSETFROM:+0100
TZOFFSETTO:+0000
TZNAME:GMT
DTSTART:20251026T010000
END:STANDARD
BEGIN:DAYLIGHT
TZOFFSETFROM:+0000
TZOFFSETTO:+0100
TZNAME:BST
DTSTART:20260329T010000
END:DAYLIGHT
BEGIN:STANDARD
TZOFFSETFROM:+0100
TZOFFSETTO:+0000
TZNAME:GMT
DTSTART:20261025T010000
END:STANDARD
END:VTIMEZONE
BEGIN:VEVENT
DTSTART;TZID=Europe/London:20251203T100000
DTEND;TZID=Europe/London:20251203T113000
DTSTAMP:20260420T045028
CREATED:20250930T114750Z
LAST-MODIFIED:20250930T114750Z
UID:3425-1764756000-1764761400@adoptionwest.co.uk
SUMMARY:Early Years Education for parents of adopted children
DESCRIPTION:Early Years Provision Options and Funding – An Introduction \nJoin this ONLINE workshop for an introduction to choosing an Early Years provider for your child\, with guidance on funded hours and different types of provision. \nLink for tickets – takes you to Eventbrite \n 
URL:https://adoptionwest.co.uk/event/early-years-education-for-parents-of-adopted-children-2/
LOCATION:Virtual Session
CATEGORIES:Support
ATTACH;FMTTYPE=image/png:https://adoptionwest.co.uk/wp-content/uploads/2024/06/Education-Square-1.png
END:VEVENT
BEGIN:VEVENT
DTSTART;TZID=Europe/London:20251211T100000
DTEND;TZID=Europe/London:20251211T233000
DTSTAMP:20260420T045028
CREATED:20251208T125448Z
LAST-MODIFIED:20251208T125448Z
UID:3541-1765447200-1765495800@adoptionwest.co.uk
SUMMARY:Amazing Wallabies - Stay and Play
DESCRIPTION:Social group for children and babies (and their parents/carers). \nWe follow a simple format for the session: introductions to begin with\, and then lots of playing (and some chatting for the grown-ups). Possibly a song or a story at the end 😊.  And\, there are refreshments available. We sometimes attempt a simple craft activity. \nOur first few sessions have been well-received with lots of positive feedback. Our main focus is offering a relaxed environment for adoptive parents and EP Carers to meet and socialise with people who have children of similar ages. \nIf you would like to join us\, please contact rebecca.myers@adoptionwest.co.uk\, with your child’s name and age. \nWe look forward to seeing you soon.
URL:https://adoptionwest.co.uk/event/amazing-wallabies-stay-and-play-7/
LOCATION:Stonehouse
CATEGORIES:Support
ATTACH;FMTTYPE=image/png:https://adoptionwest.co.uk/wp-content/uploads/2025/07/Amazing-Wallabies-Sept.-Dec.-2.png
ORGANIZER;CN="Adoption West":MAILTO:info@adoptionwest.co.uk
END:VEVENT
END:VCALENDAR