BEGIN:VCALENDAR
VERSION:2.0
PRODID:-//Adoption West - ECPv6.15.20//NONSGML v1.0//EN
CALSCALE:GREGORIAN
METHOD:PUBLISH
X-WR-CALNAME:Adoption West
X-ORIGINAL-URL:https://adoptionwest.co.uk
X-WR-CALDESC:Events for Adoption West
REFRESH-INTERVAL;VALUE=DURATION:PT1H
X-Robots-Tag:noindex
X-PUBLISHED-TTL:PT1H
BEGIN:VTIMEZONE
TZID:Europe/London
BEGIN:DAYLIGHT
TZOFFSETFROM:+0000
TZOFFSETTO:+0100
TZNAME:BST
DTSTART:20240331T010000
END:DAYLIGHT
BEGIN:STANDARD
TZOFFSETFROM:+0100
TZOFFSETTO:+0000
TZNAME:GMT
DTSTART:20241027T010000
END:STANDARD
BEGIN:DAYLIGHT
TZOFFSETFROM:+0000
TZOFFSETTO:+0100
TZNAME:BST
DTSTART:20250330T010000
END:DAYLIGHT
BEGIN:STANDARD
TZOFFSETFROM:+0100
TZOFFSETTO:+0000
TZNAME:GMT
DTSTART:20251026T010000
END:STANDARD
BEGIN:DAYLIGHT
TZOFFSETFROM:+0000
TZOFFSETTO:+0100
TZNAME:BST
DTSTART:20260329T010000
END:DAYLIGHT
BEGIN:STANDARD
TZOFFSETFROM:+0100
TZOFFSETTO:+0000
TZNAME:GMT
DTSTART:20261025T010000
END:STANDARD
END:VTIMEZONE
BEGIN:VEVENT
DTSTART;TZID=Europe/London:20250425T100000
DTEND;TZID=Europe/London:20250425T120000
DTSTAMP:20260422T191051
CREATED:20250320T103043Z
LAST-MODIFIED:20250320T103043Z
UID:3101-1745575200-1745582400@adoptionwest.co.uk
SUMMARY:10 Online Week Therapeutic Parenting course - for existing adopters
DESCRIPTION:Do you sometimes find your child’s behaviour hard to understand? Do some of your parenting techniques seem ineffective?\nWe are running a course for adoptive parents looking specifically at the impact of children’s early experiences on their behaviour and emotional well-being. We will be exploring alternative parenting ideas and strategies.\nThe course runs for 10 weeks starting on 25/4 and the last session on 11/7\, there is a break for half-term.\nSessions run from 10 am to 12 pm on Friday mornings\, they are held online using MS Teams.\nThis course is aimed at families whose children have been living with them for at least six months\, with children under the age of 10 years (please state child’s age when enquiring)\n\nPlease contact tina.fagan@adoptionwest.co.uk for more details (please include your name and your child’s name and age in your email).
URL:https://adoptionwest.co.uk/event/10-online-week-therapeutic-parenting-course-for-existing-adopters-6/
LOCATION:Virtual Session
CATEGORIES:Support
ATTACH;FMTTYPE=image/png:https://adoptionwest.co.uk/wp-content/uploads/2025/03/Therapeutic-parenting-course-web-version.png
ORGANIZER;CN="Adoption West":MAILTO:info@adoptionwest.co.uk
END:VEVENT
BEGIN:VEVENT
DTSTART;TZID=Europe/London:20250429T180000
DTEND;TZID=Europe/London:20250429T193000
DTSTAMP:20260422T191051
CREATED:20250317T114653Z
LAST-MODIFIED:20250317T114653Z
UID:3077-1745949600-1745955000@adoptionwest.co.uk
SUMMARY:Early Years Education for parents of adopted children
DESCRIPTION:Early Years Provision Options and Funding – An Introduction \nJoin this ONLINE workshop for an introduction to choosing an Early Years provider for your child with guidance on funded hours and different types of provision. \nLink for tickets – takes you to Eventbrite \n 
URL:https://adoptionwest.co.uk/event/early-years-education-for-parents-of-adopted-children/
CATEGORIES:Support
ATTACH;FMTTYPE=image/png:https://adoptionwest.co.uk/wp-content/uploads/2024/06/Education-Square-1.png
END:VEVENT
BEGIN:VEVENT
DTSTART;TZID=Europe/London:20250430T100000
DTEND;TZID=Europe/London:20250430T110000
DTSTAMP:20260422T191051
CREATED:20250320T102009Z
LAST-MODIFIED:20250320T104706Z
UID:3098-1746007200-1746010800@adoptionwest.co.uk
SUMMARY:Theraplay- for existing adopters
DESCRIPTION:We are offering adopters the opportunity to attend an eight-week guided course\, to practice Theraplay techniques and understand the benefits they can have within the parent-child relationship. This course is designed for one parent to attend with one child (child aged 3 and 4 years.) \nSessions are an hour long and start at 10 am. They will be held at a venue in South Gloucestershire. \nIf you live in the Adoption West region\, and you would like to attend please email rachel.hawker@adoptionwest.co.uk\, with both your and your child’s details. \nFind out more about Theraplay here: https://theraplay.org/what-is-theraplay/
URL:https://adoptionwest.co.uk/event/theraplay-for-existing-adopters/
LOCATION:South Gloucestershire venue
CATEGORIES:Support
ATTACH;FMTTYPE=image/png:https://adoptionwest.co.uk/wp-content/uploads/2025/03/Theraplay-April-2025-web-version.png
ORGANIZER;CN="Adoption West":MAILTO:info@adoptionwest.co.uk
END:VEVENT
BEGIN:VEVENT
DTSTART;TZID=Europe/London:20250430T100000
DTEND;TZID=Europe/London:20250430T110000
DTSTAMP:20260422T191051
CREATED:20250929T123536Z
LAST-MODIFIED:20250930T115123Z
UID:3422-1746007200-1746010800@adoptionwest.co.uk
SUMMARY:Theraplay- for existing adopters
DESCRIPTION:We are offering adopters the opportunity to attend an eight-week guided course\, to practice Theraplay techniques and understand the benefits they can have within the parent-child relationship. This course is designed for one parent to attend with one child (child aged 3 and 4 years.) \nSessions are an hour long and start at 10 am. They will be held at a venue in South Gloucestershire. \nIf you live in the Adoption West region\, and you would like to attend\, please email rachel.hawker@adoptionwest.co.uk\, with both your and your child’s details. \nFind out more about Theraplay here: https://theraplay.org/what-is-theraplay/ \n  \nN.B. Dates and venue to be confirmed\, but likely to start the week beginning January 19th.
URL:https://adoptionwest.co.uk/event/theraplay-for-existing-adopters-3/
LOCATION:South Gloucestershire venue
CATEGORIES:Support
ORGANIZER;CN="Adoption West":MAILTO:info@adoptionwest.co.uk
END:VEVENT
END:VCALENDAR