BEGIN:VCALENDAR
VERSION:2.0
PRODID:-//Adoption West - ECPv6.15.20//NONSGML v1.0//EN
CALSCALE:GREGORIAN
METHOD:PUBLISH
X-ORIGINAL-URL:https://adoptionwest.co.uk
X-WR-CALDESC:Events for Adoption West
REFRESH-INTERVAL;VALUE=DURATION:PT1H
X-Robots-Tag:noindex
X-PUBLISHED-TTL:PT1H
BEGIN:VTIMEZONE
TZID:Europe/London
BEGIN:DAYLIGHT
TZOFFSETFROM:+0000
TZOFFSETTO:+0100
TZNAME:BST
DTSTART:20240331T010000
END:DAYLIGHT
BEGIN:STANDARD
TZOFFSETFROM:+0100
TZOFFSETTO:+0000
TZNAME:GMT
DTSTART:20241027T010000
END:STANDARD
BEGIN:DAYLIGHT
TZOFFSETFROM:+0000
TZOFFSETTO:+0100
TZNAME:BST
DTSTART:20250330T010000
END:DAYLIGHT
BEGIN:STANDARD
TZOFFSETFROM:+0100
TZOFFSETTO:+0000
TZNAME:GMT
DTSTART:20251026T010000
END:STANDARD
BEGIN:DAYLIGHT
TZOFFSETFROM:+0000
TZOFFSETTO:+0100
TZNAME:BST
DTSTART:20260329T010000
END:DAYLIGHT
BEGIN:STANDARD
TZOFFSETFROM:+0100
TZOFFSETTO:+0000
TZNAME:GMT
DTSTART:20261025T010000
END:STANDARD
END:VTIMEZONE
BEGIN:VEVENT
DTSTART;TZID=Europe/London:20250305T180000
DTEND;TZID=Europe/London:20250305T193000
DTSTAMP:20260422T204728
CREATED:20250225T095645Z
LAST-MODIFIED:20250225T095707Z
UID:3064-1741197600-1741203000@adoptionwest.co.uk
SUMMARY:Options at Post-16 - workshop for parents of adopted children
DESCRIPTION:An overview of Post 16 options for parents of adopted children. \nJoin this ONLINE workshop to understand the planning and preparation required to support young people into Post 16 options. A brief guide on navigating the many options available for young people and how to access support. \nN .B. Only one ‘ticket’ is needed per household – open to all \nLink for tickets – takes you to Eventbrite \n 
URL:https://adoptionwest.co.uk/event/options-at-post-16-workshop-for-parents-of-adopted-children/
CATEGORIES:Support
ATTACH;FMTTYPE=image/png:https://adoptionwest.co.uk/wp-content/uploads/2024/06/Education-Square-1.png
END:VEVENT
END:VCALENDAR