BEGIN:VCALENDAR
VERSION:2.0
PRODID:-//Adoption West - ECPv6.15.20//NONSGML v1.0//EN
CALSCALE:GREGORIAN
METHOD:PUBLISH
X-ORIGINAL-URL:https://adoptionwest.co.uk
X-WR-CALDESC:Events for Adoption West
REFRESH-INTERVAL;VALUE=DURATION:PT1H
X-Robots-Tag:noindex
X-PUBLISHED-TTL:PT1H
BEGIN:VTIMEZONE
TZID:Europe/London
BEGIN:DAYLIGHT
TZOFFSETFROM:+0000
TZOFFSETTO:+0100
TZNAME:BST
DTSTART:20230326T010000
END:DAYLIGHT
BEGIN:STANDARD
TZOFFSETFROM:+0100
TZOFFSETTO:+0000
TZNAME:GMT
DTSTART:20231029T010000
END:STANDARD
BEGIN:DAYLIGHT
TZOFFSETFROM:+0000
TZOFFSETTO:+0100
TZNAME:BST
DTSTART:20240331T010000
END:DAYLIGHT
BEGIN:STANDARD
TZOFFSETFROM:+0100
TZOFFSETTO:+0000
TZNAME:GMT
DTSTART:20241027T010000
END:STANDARD
BEGIN:DAYLIGHT
TZOFFSETFROM:+0000
TZOFFSETTO:+0100
TZNAME:BST
DTSTART:20250330T010000
END:DAYLIGHT
BEGIN:STANDARD
TZOFFSETFROM:+0100
TZOFFSETTO:+0000
TZNAME:GMT
DTSTART:20251026T010000
END:STANDARD
END:VTIMEZONE
BEGIN:VEVENT
DTSTART;TZID=Europe/London:20241209T110000
DTEND;TZID=Europe/London:20241209T123000
DTSTAMP:20260422T072043
CREATED:20240625T115034Z
LAST-MODIFIED:20241105T133356Z
UID:2811-1733742000-1733747400@adoptionwest.co.uk
SUMMARY:Primary Education - choosing a school and what to expect
DESCRIPTION:Join Sarah\, an Education Advocate\, from Bath’s virtual school\, who will be discussing an overview of what to look for when choosing a primary school and information on how schools can support your child. \nHead over to Eventbrite to book your space \nN.B. Only one ‘ticket’ is needed per household –open to all\, not just those in the BANES area \n 
URL:https://adoptionwest.co.uk/event/primary-education-choosing-a-school-and-what-to-expect/
CATEGORIES:Support
ATTACH;FMTTYPE=image/png:https://adoptionwest.co.uk/wp-content/uploads/2024/06/Education-Square-1.png
END:VEVENT
END:VCALENDAR