BEGIN:VCALENDAR
VERSION:2.0
PRODID:-//Adoption West - ECPv6.15.20//NONSGML v1.0//EN
CALSCALE:GREGORIAN
METHOD:PUBLISH
X-WR-CALNAME:Adoption West
X-ORIGINAL-URL:https://adoptionwest.co.uk
X-WR-CALDESC:Events for Adoption West
REFRESH-INTERVAL;VALUE=DURATION:PT1H
X-Robots-Tag:noindex
X-PUBLISHED-TTL:PT1H
BEGIN:VTIMEZONE
TZID:Europe/London
BEGIN:DAYLIGHT
TZOFFSETFROM:+0000
TZOFFSETTO:+0100
TZNAME:BST
DTSTART:20230326T010000
END:DAYLIGHT
BEGIN:STANDARD
TZOFFSETFROM:+0100
TZOFFSETTO:+0000
TZNAME:GMT
DTSTART:20231029T010000
END:STANDARD
BEGIN:DAYLIGHT
TZOFFSETFROM:+0000
TZOFFSETTO:+0100
TZNAME:BST
DTSTART:20240331T010000
END:DAYLIGHT
BEGIN:STANDARD
TZOFFSETFROM:+0100
TZOFFSETTO:+0000
TZNAME:GMT
DTSTART:20241027T010000
END:STANDARD
BEGIN:DAYLIGHT
TZOFFSETFROM:+0000
TZOFFSETTO:+0100
TZNAME:BST
DTSTART:20250330T010000
END:DAYLIGHT
BEGIN:STANDARD
TZOFFSETFROM:+0100
TZOFFSETTO:+0000
TZNAME:GMT
DTSTART:20251026T010000
END:STANDARD
END:VTIMEZONE
BEGIN:VEVENT
DTSTART;TZID=Europe/London:20240315T100000
DTEND;TZID=Europe/London:20240315T110000
DTSTAMP:20260423T161445
CREATED:20240201T111834Z
LAST-MODIFIED:20240201T111834Z
UID:2702-1710496800-1710500400@adoptionwest.co.uk
SUMMARY:Life Story Workshop
DESCRIPTION:Adoption West is holding a Life Story Online Workshop on Friday 15th March 10 am -12 pm hosted by Suzie Harley.\nThis workshop is designed to support adoptive parents to feel more confident in talking to their child/ren about their life story and why they are adopted. It will also provide a forum for parents to talk about their concerns and challenges. At the workshop\, tools and resources will be shared that may be helpful to try at home\, alongside routes to seek advice and support in the future. \nSuzie qualified with a master’s in social work from Bristol University in 2004 and has worked as an adoption social worker for approx. 20 years. Initially for Bristol City Council and since 2019 for Adoption West. Following her interest in therapeutic work she undertook a Professional Diploma in Therapeutic Life Story Work in 2020/21 qualifying to practice the Richard Rose model with children and their carers\, and is a member of the TLSWi and an accredited provider for the Adoption Support Fund. \nN.B. Only one ticket is needed per household. This event is intended for parents of children up to the age of 8 years old. \nEventbrite Life Story Workshop
URL:https://adoptionwest.co.uk/event/lifestorywork/
LOCATION:Virtual Session
CATEGORIES:Support
ATTACH;FMTTYPE=image/png:https://adoptionwest.co.uk/wp-content/uploads/2024/02/Lifestory-Work-2-EB.png
ORGANIZER;CN="Adoption West":MAILTO:info@adoptionwest.co.uk
END:VEVENT
END:VCALENDAR