BEGIN:VCALENDAR
VERSION:2.0
PRODID:-//Adoption West - ECPv6.15.20//NONSGML v1.0//EN
CALSCALE:GREGORIAN
METHOD:PUBLISH
X-ORIGINAL-URL:https://adoptionwest.co.uk
X-WR-CALDESC:Events for Adoption West
REFRESH-INTERVAL;VALUE=DURATION:PT1H
X-Robots-Tag:noindex
X-PUBLISHED-TTL:PT1H
BEGIN:VTIMEZONE
TZID:Europe/London
BEGIN:DAYLIGHT
TZOFFSETFROM:+0000
TZOFFSETTO:+0100
TZNAME:BST
DTSTART:20230326T010000
END:DAYLIGHT
BEGIN:STANDARD
TZOFFSETFROM:+0100
TZOFFSETTO:+0000
TZNAME:GMT
DTSTART:20231029T010000
END:STANDARD
BEGIN:DAYLIGHT
TZOFFSETFROM:+0000
TZOFFSETTO:+0100
TZNAME:BST
DTSTART:20240331T010000
END:DAYLIGHT
BEGIN:STANDARD
TZOFFSETFROM:+0100
TZOFFSETTO:+0000
TZNAME:GMT
DTSTART:20241027T010000
END:STANDARD
BEGIN:DAYLIGHT
TZOFFSETFROM:+0000
TZOFFSETTO:+0100
TZNAME:BST
DTSTART:20250330T010000
END:DAYLIGHT
BEGIN:STANDARD
TZOFFSETFROM:+0100
TZOFFSETTO:+0000
TZNAME:GMT
DTSTART:20251026T010000
END:STANDARD
END:VTIMEZONE
BEGIN:VEVENT
DTSTART;TZID=Europe/London:20240111T100000
DTEND;TZID=Europe/London:20240111T120000
DTSTAMP:20260423T193647
CREATED:20231004T092455Z
LAST-MODIFIED:20231004T092455Z
UID:2568-1704967200-1704974400@adoptionwest.co.uk
SUMMARY:10 Online Week Therapeutic Parenting course - for existing adopters
DESCRIPTION:Do you sometimes find your child’s behaviour hard to understand? Do some of your parenting techniques seem ineffective? \nWe are running a course for our adoptive parents looking specifically at the impact of children’s early experiences on their behaviour and emotional well-being. We will be exploring alternative parenting ideas and strategies. \n\nThe course runs for 10 weeks; from 11th Jan to 21st March with a break for half-term on the 15th Feb from 10 am to 12 pm.\nSessions run from 10 am to 12 pm and will be held online.\nWe are running this course for families whose children have been living with them for at least 6 months and who are aged between 3 and 10 years old.\n\nContact claire.jarvis@adoptionwest.co.uk for more details
URL:https://adoptionwest.co.uk/event/10-online-week-therapeutic-parenting-course-for-existing-adopters-4/
LOCATION:Virtual Session
CATEGORIES:Support
ATTACH;FMTTYPE=image/png:https://adoptionwest.co.uk/wp-content/uploads/2023/01/AW-POLAROID-15.png
ORGANIZER;CN="Adoption West":MAILTO:info@adoptionwest.co.uk
END:VEVENT
BEGIN:VEVENT
DTSTART;TZID=Europe/London:20240118T193000
DTEND;TZID=Europe/London:20240118T220000
DTSTAMP:20260423T193647
CREATED:20230525T081724Z
LAST-MODIFIED:20231024T133544Z
UID:2389-1705606200-1705615200@adoptionwest.co.uk
SUMMARY:Hearts and Minds - run by CCS
DESCRIPTION:CCS Course – Fees Apply \nAn 8 week specialist therapeutic parenting programme for adoptive parents\, delivered by Dr Jude Courtney and Dr Helen Kirkaldie. \nDesigned for all adopters\, but particularly those who find themselves getting limited rewards from family life\, feeling frequent stress or wanting to think about the parenting of their child. The programme will focus on the 8 habits of the thriving adoptive family and provide strategies on how to embed these into your daily family life. The programme will enhance your family’s existing knowledge and enable reflection on the emotional journey that adoption brings. \nSuitable For: \nThis programme will be suitable for those who are trying to improve their family life or just prevent things from getting any worse. It will also be of particular benefit to those who are contemplating\, or are about to engage in\, therapeutic intervention\, providing a good grounding from which to start therapy.  Adopters will need to have had a child placed for 6 months or more. \nIf you parent as a couple\, we strongly advise that both parents attend. \nLocation: The course will take place virtually via Zoom for its duration. \nTime: Wednesday evenings 7.30-10pm \nDate:  18th Jan\, 25th Jan\, 1st Feb\, 8th Feb\, break for half term\, 22nd Feb\, 29th February\, 7th March\, 14th March \nObjectives of the programme: \n\nTo give parents a thorough understanding of the theory which lies behind therapeutic parenting\nTo understand the neurological changes that parenting brings to both adults and children\nTo help parents become more confident in therapeutic parenting strategies and learn how to make these become habits of daily life\nTo give parents a sense of hope that they are connecting to their complex child and can bring about more open\, emotional engagement with them\nTo help parents to reflect upon the emotional issues for them that have arisen from adopting a child who has experienced early trauma and might have developed blocked trust\nTo help parents find strategies that protect them from moving into blocked care\n\n  \nFee:        £850      per person \nMore details can be found here: https://www.ccsadoption.org/the-centre/events-calendar/hearts-and-minds/ \n 
URL:https://adoptionwest.co.uk/event/hearts-and-minds-run-by-ccs-2/
LOCATION:Virtual Session
CATEGORIES:Support
ATTACH;FMTTYPE=image/jpeg:https://adoptionwest.co.uk/wp-content/uploads/2023/03/heartsMinds.jpg
ORGANIZER;CN="Adoption West":MAILTO:info@adoptionwest.co.uk
END:VEVENT
END:VCALENDAR