BEGIN:VCALENDAR
VERSION:2.0
PRODID:-//Adoption West - ECPv6.15.20//NONSGML v1.0//EN
CALSCALE:GREGORIAN
METHOD:PUBLISH
X-ORIGINAL-URL:https://adoptionwest.co.uk
X-WR-CALDESC:Events for Adoption West
REFRESH-INTERVAL;VALUE=DURATION:PT1H
X-Robots-Tag:noindex
X-PUBLISHED-TTL:PT1H
BEGIN:VTIMEZONE
TZID:Europe/London
BEGIN:DAYLIGHT
TZOFFSETFROM:+0000
TZOFFSETTO:+0100
TZNAME:BST
DTSTART:20220327T010000
END:DAYLIGHT
BEGIN:STANDARD
TZOFFSETFROM:+0100
TZOFFSETTO:+0000
TZNAME:GMT
DTSTART:20221030T010000
END:STANDARD
BEGIN:DAYLIGHT
TZOFFSETFROM:+0000
TZOFFSETTO:+0100
TZNAME:BST
DTSTART:20230326T010000
END:DAYLIGHT
BEGIN:STANDARD
TZOFFSETFROM:+0100
TZOFFSETTO:+0000
TZNAME:GMT
DTSTART:20231029T010000
END:STANDARD
BEGIN:DAYLIGHT
TZOFFSETFROM:+0000
TZOFFSETTO:+0100
TZNAME:BST
DTSTART:20240331T010000
END:DAYLIGHT
BEGIN:STANDARD
TZOFFSETFROM:+0100
TZOFFSETTO:+0000
TZNAME:GMT
DTSTART:20241027T010000
END:STANDARD
END:VTIMEZONE
BEGIN:VEVENT
DTSTART;TZID=Europe/London:20230420T100000
DTEND;TZID=Europe/London:20230420T120000
DTSTAMP:20260424T103157
CREATED:20220630T144921Z
LAST-MODIFIED:20230309T113938Z
UID:2152-1681984800-1681992000@adoptionwest.co.uk
SUMMARY:10 Online Week Therapeutic Parenting course - for existing adopters
DESCRIPTION:Do you sometimes find your child’s behaviour hard to understand? Do some of your parenting techniques seem ineffective? \nWe are running a course for  our adoptive parents looking specifically at the impact of children’s early experiences on their behaviour and emotional well-being. We will be exploring alternative parenting ideas and strategies. \n\nThe course runs for 10 weeks\, from 20th April to 29th June with break for half-term on 1st June\, from 10am until 12pm and will be held online.\nWe are running this course for families whose children have been been living with them for at least 6 months and who are aged between 3 and 10 years old.\n\nContact claire.jarvis@adoptionwest.co.uk for more details
URL:https://adoptionwest.co.uk/event/10-online-week-therapeutic-parenting-course-for-existing-adopters-2/
LOCATION:Virtual Session
CATEGORIES:Support
ATTACH;FMTTYPE=image/png:https://adoptionwest.co.uk/wp-content/uploads/2023/01/AW-POLAROID-15.png
ORGANIZER;CN="Adoption West":MAILTO:info@adoptionwest.co.uk
END:VEVENT
END:VCALENDAR