BEGIN:VCALENDAR
VERSION:2.0
PRODID:-//Adoption West - ECPv6.15.20//NONSGML v1.0//EN
CALSCALE:GREGORIAN
METHOD:PUBLISH
X-ORIGINAL-URL:https://adoptionwest.co.uk
X-WR-CALDESC:Events for Adoption West
REFRESH-INTERVAL;VALUE=DURATION:PT1H
X-Robots-Tag:noindex
X-PUBLISHED-TTL:PT1H
BEGIN:VTIMEZONE
TZID:Europe/London
BEGIN:DAYLIGHT
TZOFFSETFROM:+0000
TZOFFSETTO:+0100
TZNAME:BST
DTSTART:20230326T010000
END:DAYLIGHT
BEGIN:STANDARD
TZOFFSETFROM:+0100
TZOFFSETTO:+0000
TZNAME:GMT
DTSTART:20231029T010000
END:STANDARD
BEGIN:DAYLIGHT
TZOFFSETFROM:+0000
TZOFFSETTO:+0100
TZNAME:BST
DTSTART:20240331T010000
END:DAYLIGHT
BEGIN:STANDARD
TZOFFSETFROM:+0100
TZOFFSETTO:+0000
TZNAME:GMT
DTSTART:20241027T010000
END:STANDARD
BEGIN:DAYLIGHT
TZOFFSETFROM:+0000
TZOFFSETTO:+0100
TZNAME:BST
DTSTART:20250330T010000
END:DAYLIGHT
BEGIN:STANDARD
TZOFFSETFROM:+0100
TZOFFSETTO:+0000
TZNAME:GMT
DTSTART:20251026T010000
END:STANDARD
END:VTIMEZONE
BEGIN:VEVENT
DTSTART;TZID=Europe/London:20240221T100000
DTEND;TZID=Europe/London:20240221T110000
DTSTAMP:20260422T002031
CREATED:20240125T124839Z
LAST-MODIFIED:20240125T124839Z
UID:2699-1708509600-1708513200@adoptionwest.co.uk
SUMMARY:Coffee and Chat Session - for potential adopters
DESCRIPTION:Find out more about adopting with Adoption West at our virtual chat\, these session is designed for those at the very early stages of considering adoption. \nThere’s no such thing as a silly question\, this offers a safe space to ask anything you like. \nBring your coffee to meet our knowledgeable social workers and experienced adopters\, and have your questions answered. \nPlease follow the Eventbrite link to register your interest: https://www.eventbrite.co.uk/o/adoption-west-27620899279 \n 
URL:https://adoptionwest.co.uk/event/coffee-and-chat-session-for-potential-adopters-4/
LOCATION:Virtual Session
CATEGORIES:Coffee and Chat Session,Drop-in Session
ATTACH;FMTTYPE=image/png:https://adoptionwest.co.uk/wp-content/uploads/2020/01/Coffee.png
ORGANIZER;CN="Adoption West":MAILTO:info@adoptionwest.co.uk
END:VEVENT
END:VCALENDAR