BEGIN:VCALENDAR
VERSION:2.0
PRODID:-//Adoption West - ECPv6.15.20//NONSGML v1.0//EN
CALSCALE:GREGORIAN
METHOD:PUBLISH
X-ORIGINAL-URL:https://adoptionwest.co.uk
X-WR-CALDESC:Events for Adoption West
REFRESH-INTERVAL;VALUE=DURATION:PT1H
X-Robots-Tag:noindex
X-PUBLISHED-TTL:PT1H
BEGIN:VTIMEZONE
TZID:Europe/London
BEGIN:DAYLIGHT
TZOFFSETFROM:+0000
TZOFFSETTO:+0100
TZNAME:BST
DTSTART:20220327T010000
END:DAYLIGHT
BEGIN:STANDARD
TZOFFSETFROM:+0100
TZOFFSETTO:+0000
TZNAME:GMT
DTSTART:20221030T010000
END:STANDARD
BEGIN:DAYLIGHT
TZOFFSETFROM:+0000
TZOFFSETTO:+0100
TZNAME:BST
DTSTART:20230326T010000
END:DAYLIGHT
BEGIN:STANDARD
TZOFFSETFROM:+0100
TZOFFSETTO:+0000
TZNAME:GMT
DTSTART:20231029T010000
END:STANDARD
BEGIN:DAYLIGHT
TZOFFSETFROM:+0000
TZOFFSETTO:+0100
TZNAME:BST
DTSTART:20240331T010000
END:DAYLIGHT
BEGIN:STANDARD
TZOFFSETFROM:+0100
TZOFFSETTO:+0000
TZNAME:GMT
DTSTART:20241027T010000
END:STANDARD
END:VTIMEZONE
BEGIN:VEVENT
DTSTART;TZID=Europe/London:20230607T100000
DTEND;TZID=Europe/London:20230607T110000
DTSTAMP:20260424T223219
CREATED:20200130T102608Z
LAST-MODIFIED:20230518T094550Z
UID:987-1686132000-1686135600@adoptionwest.co.uk
SUMMARY:Coffee and Chat Session - for potential adopters
DESCRIPTION:Find out more about adopting with Adoption West at our virtual chat. \nThere’s no such thing as a silly question. \nBring your coffee and meet our knowledgeable social workers and experienced adopters\, and have your questions answered. \nIn some sessions we will have adopters present that have a ‘specialism’ in a certain area\, but you are welcome to join any session that fits your schedule. \n**This session we will have an Early Permanence carer joining us** \nPlease follow the Eventbrite link to register your interest: Coffee and Chat June 7th \n  \n 
URL:https://adoptionwest.co.uk/event/coffee-and-chat-session/
LOCATION:Virtual Session
CATEGORIES:Coffee and Chat Session,Drop-in Session
ATTACH;FMTTYPE=image/png:https://adoptionwest.co.uk/wp-content/uploads/2020/01/Coffee.png
ORGANIZER;CN="Adoption West":MAILTO:info@adoptionwest.co.uk
END:VEVENT
END:VCALENDAR